BEGIN:VCALENDAR
VERSION:2.0
PRODID:-//Princeton Reunions - ECPv6.15.15//NONSGML v1.0//EN
CALSCALE:GREGORIAN
METHOD:PUBLISH
X-ORIGINAL-URL:https://reunions.princeton.edu
X-WR-CALDESC:Events for Princeton Reunions
REFRESH-INTERVAL;VALUE=DURATION:PT1H
X-Robots-Tag:noindex
X-PUBLISHED-TTL:PT1H
BEGIN:VTIMEZONE
TZID:America/New_York
BEGIN:DAYLIGHT
TZOFFSETFROM:-0500
TZOFFSETTO:-0400
TZNAME:EDT
DTSTART:20250309T070000
END:DAYLIGHT
BEGIN:STANDARD
TZOFFSETFROM:-0400
TZOFFSETTO:-0500
TZNAME:EST
DTSTART:20251102T060000
END:STANDARD
BEGIN:DAYLIGHT
TZOFFSETFROM:-0500
TZOFFSETTO:-0400
TZNAME:EDT
DTSTART:20260308T070000
END:DAYLIGHT
BEGIN:STANDARD
TZOFFSETFROM:-0400
TZOFFSETTO:-0500
TZNAME:EST
DTSTART:20261101T060000
END:STANDARD
BEGIN:DAYLIGHT
TZOFFSETFROM:-0500
TZOFFSETTO:-0400
TZNAME:EDT
DTSTART:20270314T070000
END:DAYLIGHT
BEGIN:STANDARD
TZOFFSETFROM:-0400
TZOFFSETTO:-0500
TZNAME:EST
DTSTART:20271107T060000
END:STANDARD
END:VTIMEZONE
BEGIN:VEVENT
DTSTART;TZID=America/New_York:20260522T110000
DTEND;TZID=America/New_York:20260522T123000
DTSTAMP:20260423T104841
CREATED:20260419T120642Z
LAST-MODIFIED:20260420T204744Z
UID:24407-1779447600-1779453000@reunions.princeton.edu
SUMMARY:From Paper to Policy to Power: The Role of Public Policy in the Fight Against Racism Historically and Prospectively
DESCRIPTION:Sponsored by Concerned Black Alumni of Princeton (CBAP) and the Association of Black Princeton Alumni (ABPA)
URL:https://reunions.princeton.edu/event/from-paper-to-policy-to-power-the-role-of-public-policy-in-the-fight-against-racism-historically-and-prospectively/
LOCATION:Robertson Hall\, Room 016
CATEGORIES:Affinity Group Events,Lecture
END:VEVENT
BEGIN:VEVENT
DTSTART;TZID=America/New_York:20260522T110000
DTEND;TZID=America/New_York:20260522T133000
DTSTAMP:20260423T104841
CREATED:20260409T215245Z
LAST-MODIFIED:20260418T125418Z
UID:23784-1779447600-1779456600@reunions.princeton.edu
SUMMARY:All-Service Military Alumni Picnic Lunch
DESCRIPTION:Gather to see old friends and new among fellow alumni\, plus cadre and students who have served in the military. The annual meeting of ROTC Alumni & Friends will be held at the end of lunch\, including brief updates on all the ROTC and student veterans’ programs on campus. Families welcome. $20 per person for lunch ($10 for kids). \nSponsored by the Princeton Veterans Alumni Association (PVETS) and the Alumni and Friends of Princeton ROTC
URL:https://reunions.princeton.edu/event/all-service-military-alumni-picnic-lunch-2/
LOCATION:Frist South Lawn
CATEGORIES:Affinity Group Events,Picnic
ATTACH;FMTTYPE=image/jpeg:https://reunions.princeton.edu/wp-content/uploads/2026/04/PVETS-reunions-lunch-scaled.jpg
END:VEVENT
BEGIN:VEVENT
DTSTART;TZID=America/New_York:20260522T123000
DTEND;TZID=America/New_York:20260522T133000
DTSTAMP:20260423T104841
CREATED:20260417T223011Z
LAST-MODIFIED:20260420T015703Z
UID:24043-1779453000-1779456600@reunions.princeton.edu
SUMMARY:ALPA and Princeton SHPE: Perspectives on Engineering Career Possibilities
DESCRIPTION:Join us for an alumni panel and networking event focused on the transition from Princeton for early-career STEM professionals. Hear from alumni as they share insights on navigating the shift to industry or graduate school\, early career growth\, leveraging the Princeton network and lessons learned after graduation. The event features a 20-minute panel with alumni professionals followed by audience Q&A and a structured “speed networking” session\, allowing attendees to engage directly with alumni in small-group conversations. This event is a great opportunity to learn from peers and expand your professional network within the engineering alumni community\, and a collaboration of ALPA and the University’s student chapter of the Society of Hispanic Professional Engineers (SHPE). \n  \nSponsored by the Association of Latino Princeton Alumni (ALPA) and the Princeton University Society of Hispanic Professional Engineers
URL:https://reunions.princeton.edu/event/alpa-and-princeton-shpe-perspectives-on-engineering-career-possibilities/
LOCATION:Carl A. Fields Center for Equality\, Large Multipurpose Room
CATEGORIES:Affinity Group Events,Lecture
END:VEVENT
BEGIN:VEVENT
DTSTART;TZID=America/New_York:20260522T130000
DTEND;TZID=America/New_York:20260522T140000
DTSTAMP:20260423T104841
CREATED:20260417T223020Z
LAST-MODIFIED:20260418T125436Z
UID:24099-1779454800-1779458400@reunions.princeton.edu
SUMMARY:Creating Art / Creating Community
DESCRIPTION:The Princeton Women’s Network Artist Group was formed in 2021 as a place for undergrad and grad alumnae artists to share their work\, discuss practical and existential concerns in creating art and find support from other creatives. The multigenerational alumnae include writers\, theater artists\, visual artists\, composers and filmmakers. For the past five years\, members have met online once a month to talk about their creative endeavors\, exchange ideas and organize group events and shows. Over the years\, this group of talented women has morphed into a tight-knit community of creatives who celebrate one another’s wins and support each other in the joys and challenges of being an artist. Making art is hard. This group makes it easier. Join a discussion about how creativity feeds our identities as women and how being women feeds our work as artists. \nFeaturing Alisa Matlovsky ’76\, Alice Eve Cohen ’76\, Nikki Rosario Muller ’05 and Ann Herendeen ’77. \nSponsored by Princeton Women’s Network (PWN)
URL:https://reunions.princeton.edu/event/creating-art-creating-community/
LOCATION:McCosh Hall\, Room 62\, Princeton University\, Princeton\, NJ\, 08540\, United States
CATEGORIES:Affinity Group Events,Gathering
ATTACH;FMTTYPE=image/png:https://reunions.princeton.edu/wp-content/uploads/2026/04/Screenshot-2026-01-17-at-11.08.05-AM.png
END:VEVENT
BEGIN:VEVENT
DTSTART;TZID=America/New_York:20260522T140000
DTEND;TZID=America/New_York:20260522T153000
DTSTAMP:20260423T104841
CREATED:20260409T215245Z
LAST-MODIFIED:20260418T125414Z
UID:23782-1779458400-1779463800@reunions.princeton.edu
SUMMARY:To Dare Mighty Things: U.S. Defense Strategy Since the Revolution
DESCRIPTION:Michael O’Hanlon ’82 *91 will discuss his new book\, “To Dare Mighty Things: U.S. Defense Strategy Since the Revolution\,” published to coincide with the nation’s 250th birthday. His work offers a sweeping analysis of America’s strategic trajectory\, from the founding era to the modern day. \nSponsored by the Princeton Veterans Alumni Association (PVETS) and the Alumni and Friends of Princeton ROTC 
URL:https://reunions.princeton.edu/event/to-dare-mighty-things-u-s-defense-strategy-since-the-revolution/
LOCATION:Robertson Hall\, Rooms 001 and 002\, Princeton\, 08540\, United States
CATEGORIES:Affinity Group Events,Panel
ATTACH;FMTTYPE=image/png:https://reunions.princeton.edu/wp-content/uploads/2026/04/OHanlonM.png
END:VEVENT
BEGIN:VEVENT
DTSTART;TZID=America/New_York:20260522T140000
DTEND;TZID=America/New_York:20260522T153000
DTSTAMP:20260423T104841
CREATED:20260417T223017Z
LAST-MODIFIED:20260418T125437Z
UID:24076-1779458400-1779463800@reunions.princeton.edu
SUMMARY:Princeton Women’s Network Reception
DESCRIPTION:Mix and mingle with the Princeton Women’s Network! Catch up with fellow alumnae and make new connections. Reception begins at 2 p.m.\, with group photos at 3 p.m. \nSponsored by Princeton Women’s Network (PWN)
URL:https://reunions.princeton.edu/event/princeton-womens-network-reception-2/
LOCATION:Louis A. Simpson International Building\, Atrium-171
CATEGORIES:Affinity Group Events,Reception
ATTACH;FMTTYPE=image/jpeg:https://reunions.princeton.edu/wp-content/uploads/2026/04/2025Reunions_052325_3049-cropped-photo-for-2026-reception-event.jpg
END:VEVENT
BEGIN:VEVENT
DTSTART;TZID=America/New_York:20260522T140000
DTEND;TZID=America/New_York:20260522T160000
DTSTAMP:20260423T104841
CREATED:20260419T120632Z
LAST-MODIFIED:20260420T204743Z
UID:24380-1779458400-1779465600@reunions.princeton.edu
SUMMARY:A4P/QPA Reunions Networking
DESCRIPTION:Sponsored by the Asian American Alumni Association of Princeton (A4P) and Queer Princeton Alumni (QPA)
URL:https://reunions.princeton.edu/event/a4p-qpa-reunions-networking/
LOCATION:Carl A. Fields Center for Equality\, Class of 1985 Room\, Café and Dickerson Lounge
CATEGORIES:Affinity Group Events,Reception
END:VEVENT
BEGIN:VEVENT
DTSTART;TZID=America/New_York:20260522T140000
DTEND;TZID=America/New_York:20260522T183000
DTSTAMP:20260423T104841
CREATED:20260419T120642Z
LAST-MODIFIED:20260420T204743Z
UID:24410-1779458400-1779474600@reunions.princeton.edu
SUMMARY:A4P Reunions
DESCRIPTION:Sponsored by the Asian American Alumni Association of Princeton (A4P)
URL:https://reunions.princeton.edu/event/a4p-reunions-2/
LOCATION:Carl A. Fields Center for Equality\, Large Multipurpose Room
CATEGORIES:Affinity Group Events,Reception
END:VEVENT
BEGIN:VEVENT
DTSTART;TZID=America/New_York:20260522T160000
DTEND;TZID=America/New_York:20260522T170000
DTSTAMP:20260423T104841
CREATED:20260417T223017Z
LAST-MODIFIED:20260418T125437Z
UID:24075-1779465600-1779469200@reunions.princeton.edu
SUMMARY:Princeton Women’s Network: We Roar Together\, a Discussion of ‘Mathey Girls: A Novel\,’ Featuring Author Melody Chu ’01 in Conversation with April Chou ’96
DESCRIPTION:In honor of the Alumni Association’s 200th anniversary\, join the Princeton Women’s Network for a book talk with Melody Chu ’01\, author of “Mathey Girls: A Novel\,’ in conversation with April Chou ’96\, vice chair of the Alumni Council. “Mathey Girls” captures the many paths that women’s lives take\, expectations and imposter syndrome\, and the enduring value of alumnae friendships. For more about the novel\, see melodychuauthor.com/matheygirls. \nSponsored by Princeton Women’s Network (PWN)
URL:https://reunions.princeton.edu/event/princeton-womens-network-we-roar-together-a-discussion-of-mathey-girls-a-novel-featuring-author-melody-chu-01-in-conversation-with-april-chou-96/
LOCATION:Robertson Hall\, Bowl 001\, Princeton University\, Princeton\, NJ\, 08540\, United States
CATEGORIES:Affinity Group Events,Panel
ATTACH;FMTTYPE=image/png:https://reunions.princeton.edu/wp-content/uploads/2026/04/PWN-Reunions-Event-graphic-5.png
END:VEVENT
BEGIN:VEVENT
DTSTART;TZID=America/New_York:20260522T160000
DTEND;TZID=America/New_York:20260522T180000
DTSTAMP:20260423T104841
CREATED:20260417T223011Z
LAST-MODIFIED:20260420T015702Z
UID:24042-1779465600-1779472800@reunions.princeton.edu
SUMMARY:ALPA Festejo
DESCRIPTION:Please join ALPA for our annual Festejo reception with light refreshments\, music\, friendly faces and quality time with your fellow tigres. We will also celebrate this year‘s distinguished alumni and student awardees. We look forward to seeing you there! \n  \nSponsored by The Association of Latino Princeton Alumni (ALPA)
URL:https://reunions.princeton.edu/event/alpa-festejo/
LOCATION:Chancellor Green\, Rotunda
CATEGORIES:Affinity Group Events,Reception
END:VEVENT
BEGIN:VEVENT
DTSTART;TZID=America/New_York:20260522T170000
DTEND;TZID=America/New_York:20260522T190000
DTSTAMP:20260423T104841
CREATED:20260419T120636Z
LAST-MODIFIED:20260420T204743Z
UID:24391-1779469200-1779476400@reunions.princeton.edu
SUMMARY:Young Alumni Reception
DESCRIPTION:Join fellow young (and young at heart!) alumni for a relaxed reception with a few bites\, refreshing drinks and space to reconnect. Whether you’re forging new connections or reconnecting with familiar faces\, join ABPA as we make fresh memories. \n  \nSponsored by the Association of Black Princeton Alumni (ABPA)
URL:https://reunions.princeton.edu/event/young-alumni-reception/
LOCATION:Chancellor Green\, Cafe (Lower Level)\, Princeton University\, Princeton\, NJ\, 08540\, United States
CATEGORIES:Affinity Group Events,Reception
END:VEVENT
BEGIN:VEVENT
DTSTART;TZID=America/New_York:20260522T190000
DTEND;TZID=America/New_York:20260522T220000
DTSTAMP:20260423T104841
CREATED:20260417T095528Z
LAST-MODIFIED:20260418T125334Z
UID:23954-1779476400-1779487200@reunions.princeton.edu
SUMMARY:QPA Cabaret: An Evening of Jazz
DESCRIPTION:Join Queer Princeton Alumni Friday evening for a cool evening of jazz. Whig Hall Senate Chamber will be transformed into a cocktail lounge with a laid-back vibe. \nSponsored by Queer Princeton Alumni (QPA)
URL:https://reunions.princeton.edu/event/qpa-cabaret-an-evening-of-jazz/
LOCATION:Whig Hall\, Senate Chamber\, Princeton University\, Princeton\, NJ\, 08540\, United States
CATEGORIES:Affinity Group Events,Reception
ATTACH;FMTTYPE=image/png:https://reunions.princeton.edu/wp-content/uploads/2026/04/Whig.png
END:VEVENT
BEGIN:VEVENT
DTSTART;TZID=America/New_York:20260522T204500
DTEND;TZID=America/New_York:20260522T220000
DTSTAMP:20260423T104841
CREATED:20260419T120554Z
LAST-MODIFIED:20260420T020339Z
UID:24328-1779482700-1779487200@reunions.princeton.edu
SUMMARY:Laughs Under the Arch: AJPA’s 1st Annual Reunions Comedy Show
DESCRIPTION:Sponsored by the Association of Jewish Princeton Alumni (AJPA)
URL:https://reunions.princeton.edu/event/laughs-under-the-arch-ajpas-1st-annual-reunions-comedy-show/
LOCATION:East Pyne Arch\, Princeton University\, Princeton\, NJ\, 08540\, United States
CATEGORIES:Affinity Group Events
END:VEVENT
END:VCALENDAR