BEGIN:VCALENDAR
VERSION:2.0
PRODID:-//Princeton Reunions - ECPv6.15.15//NONSGML v1.0//EN
CALSCALE:GREGORIAN
METHOD:PUBLISH
X-ORIGINAL-URL:https://reunions.princeton.edu
X-WR-CALDESC:Events for Princeton Reunions
REFRESH-INTERVAL;VALUE=DURATION:PT1H
X-Robots-Tag:noindex
X-PUBLISHED-TTL:PT1H
BEGIN:VTIMEZONE
TZID:America/New_York
BEGIN:DAYLIGHT
TZOFFSETFROM:-0500
TZOFFSETTO:-0400
TZNAME:EDT
DTSTART:20250309T070000
END:DAYLIGHT
BEGIN:STANDARD
TZOFFSETFROM:-0400
TZOFFSETTO:-0500
TZNAME:EST
DTSTART:20251102T060000
END:STANDARD
BEGIN:DAYLIGHT
TZOFFSETFROM:-0500
TZOFFSETTO:-0400
TZNAME:EDT
DTSTART:20260308T070000
END:DAYLIGHT
BEGIN:STANDARD
TZOFFSETFROM:-0400
TZOFFSETTO:-0500
TZNAME:EST
DTSTART:20261101T060000
END:STANDARD
BEGIN:DAYLIGHT
TZOFFSETFROM:-0500
TZOFFSETTO:-0400
TZNAME:EDT
DTSTART:20270314T070000
END:DAYLIGHT
BEGIN:STANDARD
TZOFFSETFROM:-0400
TZOFFSETTO:-0500
TZNAME:EST
DTSTART:20271107T060000
END:STANDARD
END:VTIMEZONE
BEGIN:VEVENT
DTSTART;TZID=America/New_York:20260522T103000
DTEND;TZID=America/New_York:20260522T113000
DTSTAMP:20260421T041518
CREATED:20260417T223014Z
LAST-MODIFIED:20260420T015317Z
UID:24058-1779445800-1779449400@reunions.princeton.edu
SUMMARY:Alumni Schools Committee (ASC) Chair Gathering
DESCRIPTION:Join fellow Alumni Schools Committee (ASC) chairs and the Office of Admission to reflect on the past ASC season\, highlighting successes and identifying areas for growth. \n  \nSponsored by the Office of Admission and the Alumni Council Princeton Schools Committee and Alumni Engagement\, Office of Advancement
URL:https://reunions.princeton.edu/event/alumni-schools-committee-asc-chair-gathering/
LOCATION:Scheide Caldwell House\, Room 103
CATEGORIES:Meeting
ATTACH;FMTTYPE=image/png:https://reunions.princeton.edu/wp-content/uploads/2026/04/ASC-Chair-Gathering.png
END:VEVENT
BEGIN:VEVENT
DTSTART;TZID=America/New_York:20260522T110000
DTEND;TZID=America/New_York:20260522T120000
DTSTAMP:20260421T041518
CREATED:20260409T215348Z
LAST-MODIFIED:20260410T005233Z
UID:23803-1779447600-1779451200@reunions.princeton.edu
SUMMARY:Annual Meeting of the Alumni Council and Awards for Service to Princeton
DESCRIPTION:Sponsored by the Alumni Association of Princeton University
URL:https://reunions.princeton.edu/event/annual-meeting-of-the-alumni-council-and-awards-for-service-to-princeton-2/
LOCATION:Alexander Hall\, Richardson Auditorium\, Princeton University\, Princeton\, NJ\, 08540\, United States
CATEGORIES:Meeting
ATTACH;FMTTYPE=image/jpeg:https://reunions.princeton.edu/wp-content/uploads/2026/04/2025Reunions_052325_2458-scaled.jpg
END:VEVENT
BEGIN:VEVENT
DTSTART;TZID=America/New_York:20260522T110000
DTEND;TZID=America/New_York:20260522T150000
DTSTAMP:20260421T041518
CREATED:20260419T120635Z
LAST-MODIFIED:20260420T204744Z
UID:24386-1779447600-1779462000@reunions.princeton.edu
SUMMARY:CGI
DESCRIPTION:Sponsored by the MS Chadha Center for Global India (CGI)
URL:https://reunions.princeton.edu/event/cgi/
LOCATION:Julis Romo Rabinowitz Building\, Ruehl Family Room\, Room 399
CATEGORIES:Meeting
END:VEVENT
BEGIN:VEVENT
DTSTART;TZID=America/New_York:20260522T170000
DTEND;TZID=America/New_York:20260522T183000
DTSTAMP:20260421T041518
CREATED:20260419T120640Z
LAST-MODIFIED:20260420T204743Z
UID:24404-1779469200-1779474600@reunions.princeton.edu
SUMMARY:AA Open Meeting
DESCRIPTION:Sponsored by Alcoholics Anonymous/AA Haven
URL:https://reunions.princeton.edu/event/aa-open-meeting-6/
LOCATION:Murray-Dodge Hall\, Room 103\, Princeton University\, Princeton\, NJ\, 08540\, United States
CATEGORIES:Meeting
END:VEVENT
END:VCALENDAR