BEGIN:VCALENDAR
VERSION:2.0
PRODID:-//Princeton Reunions - ECPv6.15.15//NONSGML v1.0//EN
CALSCALE:GREGORIAN
METHOD:PUBLISH
X-WR-CALNAME:Princeton Reunions
X-ORIGINAL-URL:https://reunions.princeton.edu
X-WR-CALDESC:Events for Princeton Reunions
REFRESH-INTERVAL;VALUE=DURATION:PT1H
X-Robots-Tag:noindex
X-PUBLISHED-TTL:PT1H
BEGIN:VTIMEZONE
TZID:America/New_York
BEGIN:DAYLIGHT
TZOFFSETFROM:-0500
TZOFFSETTO:-0400
TZNAME:EDT
DTSTART:20250309T070000
END:DAYLIGHT
BEGIN:STANDARD
TZOFFSETFROM:-0400
TZOFFSETTO:-0500
TZNAME:EST
DTSTART:20251102T060000
END:STANDARD
BEGIN:DAYLIGHT
TZOFFSETFROM:-0500
TZOFFSETTO:-0400
TZNAME:EDT
DTSTART:20260308T070000
END:DAYLIGHT
BEGIN:STANDARD
TZOFFSETFROM:-0400
TZOFFSETTO:-0500
TZNAME:EST
DTSTART:20261101T060000
END:STANDARD
BEGIN:DAYLIGHT
TZOFFSETFROM:-0500
TZOFFSETTO:-0400
TZNAME:EDT
DTSTART:20270314T070000
END:DAYLIGHT
BEGIN:STANDARD
TZOFFSETFROM:-0400
TZOFFSETTO:-0500
TZNAME:EST
DTSTART:20271107T060000
END:STANDARD
END:VTIMEZONE
BEGIN:VEVENT
DTSTART;TZID=America/New_York:20260522T090000
DTEND;TZID=America/New_York:20260522T100000
DTSTAMP:20260420T090935
CREATED:20260417T223017Z
LAST-MODIFIED:20260420T013818Z
UID:24093-1779440400-1779444000@reunions.princeton.edu
SUMMARY:The Imperial Presidency: Executive Power and the Erosion of Checks and Balances
DESCRIPTION:The panel will explore the changing dynamic of executive power and the constitutional dimensions of a “unitary executive.” How will changing political norms redefine the scope of executive power? \nFeaturing Luther Munford ’71\, Former President\, American Academy of Appellate Lawyers; Kevin Baine ’71\, Senior Counsel (specializing in First Amendment litigation)\, Williams & Connolly; Paul Colborn ’71\, Former Special Counsel\, U.S. Department of Justice; and Philip Bobbitt ’71\, Wechsler Professor of Federal Juris\, Columbia Law School \nSponsored by the Class of 1971
URL:https://reunions.princeton.edu/event/the-imperial-presidency-executive-power-and-the-erosion-of-checks-and-balances/
LOCATION:Robertson Hall\, Bowl 002\, Princeton University\, Princeton\, NJ\, 08540\, United States
CATEGORIES:Panel
END:VEVENT
BEGIN:VEVENT
DTSTART;TZID=America/New_York:20260522T133000
DTEND;TZID=America/New_York:20260522T150000
DTSTAMP:20260420T090935
CREATED:20260417T223011Z
LAST-MODIFIED:20260420T015702Z
UID:24040-1779456600-1779462000@reunions.princeton.edu
SUMMARY:Mental Health at Princeton: Challenges\, Opportunities and the Path Forward
DESCRIPTION:In recent years\, Princeton students and the broader University community have faced the stressors and disruptions of the COVID-19 pandemic and have grieved the tragic deaths of University community members\, including the loss of seven students to suicide. Through this\, students\, alumni and campus partners have collaborated to identify gaps and address critical needs in mental health resources and supports\, while continuing to address stigma in campus culture and climate. Hear from student\, alumni and University leaders as they update alumni on the challenges and opportunities facing the mental health needs of students and the University community. Please bring your questions for the Q&A to follow the panel discussion\, and invite fellow alumni\, friends and guests for this important conversation. \nSpeakers \nZhan Okuda-Lim ’15\, founding chair\, Princeton Mental Health Initiative Board; postdoctoral fellow and adjunct policy researcher\, RAND \nAllen Nieva ’26\, immediate past chair\, USG Mental Health Committee \nAishwarya Swamidurai ’26\, immediate past vice president\, USG \nTiffanie Cheng Wu ’24\, past co-chair\, USG Mental Health Committee; founder and organizer\, Princeton Alumni Mental Health Coalition \nHilary Herbold *97\, assistant director of urgent care and social worker\, Counseling and Psychological Services\, University Health Services \n  \nSponsored by the Princeton Alumni Mental Health Coalition
URL:https://reunions.princeton.edu/event/mental-health-at-princeton-challenges-opportunities-and-the-path-forward-3/
LOCATION:Frist Campus Center\, Film and Performance Theatre\, Room 301\, Princeton University\, Princeton\, NJ\, 08540\, United States
CATEGORIES:Panel
END:VEVENT
BEGIN:VEVENT
DTSTART;TZID=America/New_York:20260522T100000
DTEND;TZID=America/New_York:20260522T110000
DTSTAMP:20260420T090935
CREATED:20260417T223017Z
LAST-MODIFIED:20260418T000037Z
UID:24082-1779444000-1779447600@reunions.princeton.edu
SUMMARY:Adapting to Risk Using Early Detection and Foresight: A #PrincetonStar Forum
DESCRIPTION:How can we better serve our communities facing conditions of high disruption\, uncertainty and risk? Come learn about how Princetonians are translating research into strategic action. Experts from Princeton’s Bridging Divides Initiatives (BDI) will discuss their major projects to build stronger and resilient communities in the United States\, including developing early warning systems on political risk and helping local officials navigate threats of violence. Princeton alums will also share their expertise in using strategic foresight to build aspirational futures as well as navigating disruptive futures. \nFeaturing Aron Goldman *01\, Karthick Ramakrishnan *02\, Shannon Hiller *15\, and Autumn Lewein ’15. \nSponsored by the Association of Princeton Graduate Alumni (APGA) and the School of Public and International Affairs (SPIA)
URL:https://reunions.princeton.edu/event/adapting-to-risk-using-early-detection-and-foresight-a-princetonstar-forum/
LOCATION:McCosh Hall\, Room 28\, Princeton University\, Princeton\, NJ\, 08540\, United States
CATEGORIES:Panel
END:VEVENT
BEGIN:VEVENT
DTSTART;TZID=America/New_York:20260522T140000
DTEND;TZID=America/New_York:20260522T153000
DTSTAMP:20260420T090935
CREATED:20260409T215245Z
LAST-MODIFIED:20260418T125414Z
UID:23782-1779458400-1779463800@reunions.princeton.edu
SUMMARY:To Dare Mighty Things: U.S. Defense Strategy Since the Revolution
DESCRIPTION:Michael O’Hanlon ’82 *91 will discuss his new book\, “To Dare Mighty Things: U.S. Defense Strategy Since the Revolution\,” published to coincide with the nation’s 250th birthday. His work offers a sweeping analysis of America’s strategic trajectory\, from the founding era to the modern day. \nSponsored by the Princeton Veterans Alumni Association (PVETS) and the Alumni and Friends of Princeton ROTC 
URL:https://reunions.princeton.edu/event/to-dare-mighty-things-u-s-defense-strategy-since-the-revolution/
LOCATION:Robertson Hall\, Rooms 001 and 002\, Princeton\, 08540\, United States
CATEGORIES:Affinity Group Events,Panel
ATTACH;FMTTYPE=image/png:https://reunions.princeton.edu/wp-content/uploads/2026/04/OHanlonM.png
END:VEVENT
BEGIN:VEVENT
DTSTART;TZID=America/New_York:20260522T143000
DTEND;TZID=America/New_York:20260522T160000
DTSTAMP:20260420T090935
CREATED:20260417T223011Z
LAST-MODIFIED:20260420T015702Z
UID:24049-1779460200-1779465600@reunions.princeton.edu
SUMMARY:Outdoor Action: Foundations of Effective Leadership
DESCRIPTION:Princeton alumni serve in countless leadership positions around the world from entrepreneurs to teachers\, directors to parents. Understanding the traits and behaviors that make leaders effective is critical for any organization and applies to students on campus and alumni in the world at large. Join us for a panel that brings together Outdoor Action alumni from academics\, business\, government\, the nonprofit sector and current OA student leaders to explore what makes leaders effective and how to enhance your own leadership. \nSpeakers \nRick Curtis ’79\, Director\, Outdoor Action Program \nKaren Kuhlthau ’86\, Professor of Pediatrics at Mass General Brigham and Harvard Medical School \nJud Brewer ’96\, Director of Research and Innovation\, Brown University Mindfulness Center \nHolly Haefele ’96\, Director of Animal Health at Fossil Rim Wildlife Center \nKatie Baum Mettenbrink ’01\, Risk Management Director\, National Outdoor Leadership School \nSimon Porter ’01\, Chief Operating Officer\, Aquarian Holdings \nPaige Walworth ’26\, Graduating senior; OA Leader Trainer \n  \nSponsored by the Outdoor Action Program (OA)
URL:https://reunions.princeton.edu/event/outdoor-action-foundations-of-effective-leadership-3/
LOCATION:Julis Romo Rabinowitz Building\, Room A17
CATEGORIES:Panel
ATTACH;FMTTYPE=image/png:https://reunions.princeton.edu/wp-content/uploads/2026/04/Reunions-Panel-1.png
END:VEVENT
BEGIN:VEVENT
DTSTART;TZID=America/New_York:20260522T160000
DTEND;TZID=America/New_York:20260522T170000
DTSTAMP:20260420T090935
CREATED:20260417T223017Z
LAST-MODIFIED:20260418T125437Z
UID:24075-1779465600-1779469200@reunions.princeton.edu
SUMMARY:Princeton Women’s Network: We Roar Together\, a Discussion of ‘Mathey Girls: A Novel\,’ Featuring Author Melody Chu ’01 in Conversation with April Chou ’96
DESCRIPTION:In honor of the Alumni Association’s 200th anniversary\, join the Princeton Women’s Network for a book talk with Melody Chu ’01\, author of “Mathey Girls: A Novel\,’ in conversation with April Chou ’96\, vice chair of the Alumni Council. “Mathey Girls” captures the many paths that women’s lives take\, expectations and imposter syndrome\, and the enduring value of alumnae friendships. For more about the novel\, see melodychuauthor.com/matheygirls. \nSponsored by Princeton Women’s Network (PWN)
URL:https://reunions.princeton.edu/event/princeton-womens-network-we-roar-together-a-discussion-of-mathey-girls-a-novel-featuring-author-melody-chu-01-in-conversation-with-april-chou-96/
LOCATION:Robertson Hall\, Bowl 001\, Princeton University\, Princeton\, NJ\, 08540\, United States
CATEGORIES:Affinity Group Events,Panel
ATTACH;FMTTYPE=image/png:https://reunions.princeton.edu/wp-content/uploads/2026/04/PWN-Reunions-Event-graphic-5.png
END:VEVENT
BEGIN:VEVENT
DTSTART;TZID=America/New_York:20260522T130000
DTEND;TZID=America/New_York:20260522T140000
DTSTAMP:20260420T090935
CREATED:20260417T223017Z
LAST-MODIFIED:20260417T235858Z
UID:24081-1779454800-1779458400@reunions.princeton.edu
SUMMARY:Governing Beyond the Headlines: A #PrincetonStar Forum
DESCRIPTION:Viral headlines and social media clips may dominate our news feeds\, but we should not mistake them for the actual work of governing. What does it mean to advance good policy in the face of short attention spans and public distrust? How can we better understand the signals amidst the noise? This panel will include timely insights from Dean Amaney Jamal and SPIA alums working at the United Nations and in various state government agencies. \nFeaturing Karthick Ramakrishnan *02\, Amaney Jamal\, Gizem Sucuoglu Keehn *22\, Julieta Cuellar *19\, and Gillian Morejon Gutierrez *06 \nSponsored by the Association of Princeton Graduate Alumni (APGA) and the School of Public and International Affairs (SPIA)
URL:https://reunions.princeton.edu/event/governing-beyond-the-headlines-a-princetonstar-forum/
LOCATION:Robertson Hall\, Arthur Lewis Auditorium
CATEGORIES:Panel
END:VEVENT
BEGIN:VEVENT
DTSTART;TZID=America/New_York:20260522T133000
DTEND;TZID=America/New_York:20260522T144500
DTSTAMP:20260420T090935
CREATED:20260417T223004Z
LAST-MODIFIED:20260420T014154Z
UID:24002-1779456600-1779461100@reunions.princeton.edu
SUMMARY:The Societal Impact of AI: A Conversation with Brad Smith '81 and Arvind Narayanan
DESCRIPTION:Join us for an engaging and timely conversation on The Societal Impacts of AI\, featuring Brad Smith ’81\, vice chair and president of Microsoft\, and Arvind Narayanan\, professor of computer science and director of the Center for Information Technology Policy. This thought-provoking discussion will explore how artificial intelligence is reshaping economies\, governance and everyday life\, while addressing the ethical challenges that come with rapid technological advancement. Bringing together perspectives from industry leadership and academic research\, this event offers a unique opportunity to gain deeper insight into the future of AI and its far-reaching implications for society. \nSpeakers \nBrad Smith ’81\, Vice Chair and President of Microsoft \nArvind Narayanan\, Professor of Computer Science and Director of the Center for Information Technology Policy \n  \nSponsored by the Center for Information Technology Policy (CITP) and the School of Engineering and Applied Science (SEAS)
URL:https://reunions.princeton.edu/event/the-societal-impact-of-ai-a-conversation-with-brad-smith-81-and-arvind-narayanan/
LOCATION:Commons\, Multipurpose Room-D301
CATEGORIES:Panel
END:VEVENT
BEGIN:VEVENT
DTSTART;TZID=America/New_York:20260522T134500
DTEND;TZID=America/New_York:20260522T151500
DTSTAMP:20260420T090935
CREATED:20260417T223014Z
LAST-MODIFIED:20260419T184935Z
UID:24062-1779457500-1779462900@reunions.princeton.edu
SUMMARY:The Domestic and International Political Economy of Sovereign Debt
DESCRIPTION:This panel will explore the politics — within and between countries — related to sovereign finance and its role in economic development. We’ll especially focus on issues related to emerging and frontier market countries\, as they confront higher fuel and food prices\, the green transition and continued needs for social policy. Our panelists have a range of expertise and experience (academic\, civil society and the private sector). They will discuss how international financial institutions engage in lending as well as in the resolution of crises\, as well as how politics within countries affect decisions related to borrowing\, debt restructuring and debt crisis resolution. We also will consider the politics of debt-related issues in the US and other wealthy economies. \nSponsored by the Princeton Sovereign Finance Lab and the School of Public and International Affairs (SPIA)
URL:https://reunions.princeton.edu/event/the-domestic-and-international-political-economy-of-sovereign-debt/
LOCATION:Robertson Hall\, Bowl 16\, Princeton University\, Princeton\, NJ\, 08540\, United States
CATEGORIES:Panel
END:VEVENT
BEGIN:VEVENT
DTSTART;TZID=America/New_York:20260522T143000
DTEND;TZID=America/New_York:20260522T153000
DTSTAMP:20260420T090935
CREATED:20260417T003215Z
LAST-MODIFIED:20260417T003215Z
UID:23923-1779460200-1779463800@reunions.princeton.edu
SUMMARY:Fireside Chat with Reunions Legends: Gaybe Moore and Karina Alventosa
DESCRIPTION:Thursday night at the APGA tent has become legendary\, thanks to the work of Gaybe Moore *21 and Karina Alventosa *22. Each year\, hundreds of alumni throng to celebrate headline features like the drag show led by Angel Mirage and dance to lively and diverse DJ sets produced in collaboration with affinity groups like A4P\, ABPA\, ALPA and QPA. Come learn more about the back story of how this all got started\, and what others can learn from these innovative programming efforts that celebrate and expand inclusion. \nSponsored by the Association of Princeton Graduate Alumni (APGA)
URL:https://reunions.princeton.edu/event/fireside-chat-with-reunions-legends-gaybe-moore-and-karina-alventosa/
LOCATION:Lewis Library\, Bowl 120\, Princeton University\, Princeton\, NJ\, 08540\, United States
CATEGORIES:Panel
END:VEVENT
BEGIN:VEVENT
DTSTART;TZID=America/New_York:20260522T153000
DTEND;TZID=America/New_York:20260522T170000
DTSTAMP:20260420T090935
CREATED:20260417T094936Z
LAST-MODIFIED:20260417T191614Z
UID:23951-1779463800-1779469200@reunions.princeton.edu
SUMMARY:America Quo Vadis?: The Future of U.S. Engagement in an Uncertain World 
DESCRIPTION:At no point since the end of the Cold War has the question of America’s role in the world felt more open or more urgent. As the United States reconsiders its commitments to allies\, institutions and the international order it helped build\, the consequences are far-reaching and uncertain. Join Princeton faculty and alumni at the forefront of foreign policy\, defense\,and international affairs for a wide-ranging\, candid conversation about where America is headed and what it means for the rest of the world. \nSponsored by the Princeton Institute for International and Regional Studies (PIIRS)
URL:https://reunions.princeton.edu/event/america-quo-vadis-the-future-of-u-s-engagement-in-an-uncertain-world/
LOCATION:Louis A. Simpson International Building\, Room A71\, Princeton University\, Princeton\, NJ\, 08540\, United States
CATEGORIES:Panel
END:VEVENT
BEGIN:VEVENT
DTSTART;TZID=America/New_York:20260523T103000
DTEND;TZID=America/New_York:20260523T114500
DTSTAMP:20260420T090935
CREATED:20260409T215306Z
LAST-MODIFIED:20260410T005234Z
UID:23787-1779532200-1779536700@reunions.princeton.edu
SUMMARY:Draft to Deal: How to Make Your Book a Reality
DESCRIPTION:Have a draft in a drawer? Learn about turning your scribbles into a published book at PAW’s annual Reunions panel. Moderator and author Gabriel Debenedetti ’12 will sit down with authors Cassandra James ’23\, Melody Chu ’01 and Michael Cannell ’82 to discuss their experiences while New York Times Book Review editor and author Lauren Christensen ’11 and Penguin Random House strategy director Alex Ulyett ’11 provide an inside look at the rapidly changing world of publishing. \nSponsored by Princeton Alumni Weekly
URL:https://reunions.princeton.edu/event/draft-to-deal-how-to-make-your-book-a-reality/
LOCATION:Friend Center\, Room 101
CATEGORIES:Panel
ATTACH;FMTTYPE=image/jpeg:https://reunions.princeton.edu/wp-content/uploads/2026/04/2026-PAW-Panel-Poster.jpg
END:VEVENT
BEGIN:VEVENT
DTSTART;TZID=America/New_York:20260523T103000
DTEND;TZID=America/New_York:20260523T120000
DTSTAMP:20260420T090935
CREATED:20260417T005106Z
LAST-MODIFIED:20260417T005106Z
UID:23927-1779532200-1779537600@reunions.princeton.edu
SUMMARY:JRCPPF Alumni Forum Reunions Panel: Climate Risk and Resilience: How Ready Are Financial Markets?
DESCRIPTION:Join us for a discussion about the intersection of environment and finance\, touching on the integration of climate risk data\, adaptation and investment across banking\, asset management\, insurance and venture capital. \nGrace Bucchianeri *04 (ECO)\, Americas Head of Global Investment & Portfolio Strategy\, GIC Real Estate (Singapore sovereign wealth fund) \nAndrew Eil *09 (SPIA)\, Head of Climate Risk for North America\, Tata Consultancy Services \nJulio Herrera Estrada *17 (CEE)\, Vice President\, Head of Energy & Climate Analytics team\, BlackRock \nRaghuveer Vinukollu *11 (CEE)\, Head of Climate Insights and Advisory\, Munich Re US \nModerator: Marina Finley ’19\, GIC\, Singapore \nThis event is organized by the JRCPPF Alumni Forum and co-sponsored with the Julis-Rabinowitz Center for Public Policy & Finance (JRCPPF) and the Center for Policy Research on Energy and the Environment (CPREE). \nSponsored by the Julis-Rabinowitz Center for Public Policy & Finance
URL:https://reunions.princeton.edu/event/jrcppf-alumni-forum-reunions-panel-climate-risk-and-resilience-how-ready-are-financial-markets/
LOCATION:Julis Romo Rabinowitz Building\, Room A17
CATEGORIES:Panel
ATTACH;FMTTYPE=image/png:https://reunions.princeton.edu/wp-content/uploads/2026/04/esg-green-finance-s25.png
END:VEVENT
END:VCALENDAR