BEGIN:VCALENDAR
VERSION:2.0
PRODID:-//Princeton Reunions - ECPv6.15.15//NONSGML v1.0//EN
CALSCALE:GREGORIAN
METHOD:PUBLISH
X-ORIGINAL-URL:https://reunions.princeton.edu
X-WR-CALDESC:Events for Princeton Reunions
REFRESH-INTERVAL;VALUE=DURATION:PT1H
X-Robots-Tag:noindex
X-PUBLISHED-TTL:PT1H
BEGIN:VTIMEZONE
TZID:America/New_York
BEGIN:DAYLIGHT
TZOFFSETFROM:-0500
TZOFFSETTO:-0400
TZNAME:EDT
DTSTART:20250309T070000
END:DAYLIGHT
BEGIN:STANDARD
TZOFFSETFROM:-0400
TZOFFSETTO:-0500
TZNAME:EST
DTSTART:20251102T060000
END:STANDARD
BEGIN:DAYLIGHT
TZOFFSETFROM:-0500
TZOFFSETTO:-0400
TZNAME:EDT
DTSTART:20260308T070000
END:DAYLIGHT
BEGIN:STANDARD
TZOFFSETFROM:-0400
TZOFFSETTO:-0500
TZNAME:EST
DTSTART:20261101T060000
END:STANDARD
BEGIN:DAYLIGHT
TZOFFSETFROM:-0500
TZOFFSETTO:-0400
TZNAME:EDT
DTSTART:20270314T070000
END:DAYLIGHT
BEGIN:STANDARD
TZOFFSETFROM:-0400
TZOFFSETTO:-0500
TZNAME:EST
DTSTART:20271107T060000
END:STANDARD
END:VTIMEZONE
BEGIN:VEVENT
DTSTART;TZID=America/New_York:20260521T110000
DTEND;TZID=America/New_York:20260521T120000
DTSTAMP:20260422T045546
CREATED:20260419T120643Z
LAST-MODIFIED:20260420T205020Z
UID:24412-1779361200-1779364800@reunions.princeton.edu
SUMMARY:Princeton Rowing Reunions BBQ
DESCRIPTION:Sponsored by the Princeton University Rowing Association (PURA)
URL:https://reunions.princeton.edu/event/princeton-rowing-reunions-bbq/
LOCATION:C. Bernard Shea ’16 Rowing Center\, 224 Club Room
CATEGORIES:Reception
END:VEVENT
BEGIN:VEVENT
DTSTART;TZID=America/New_York:20260521T150000
DTEND;TZID=America/New_York:20260521T163000
DTSTAMP:20260422T045546
CREATED:20260409T215348Z
LAST-MODIFIED:20260410T005233Z
UID:23801-1779375600-1779381000@reunions.princeton.edu
SUMMARY:Society of the Claw Members Ice Cream Social
DESCRIPTION:Mix and mingle with fellow Society of the Claw members and Alumni Council Committee on Reunions volunteers over an ice cream sundae! \nThe Society of the Claw honors those who have consistently embodied the spirit of Reunions through service and/or continuous attendance. Started in 1912 by the Class of 1894\, the award was paused in the 1940s and resurrected in 2009. \nSponsored by the Alumni Council Committee on Reunions (COR)
URL:https://reunions.princeton.edu/event/society-of-the-claw-members-ice-cream-social-2/
LOCATION:Chancellor Green\, Café and Lower Hyphen\, Princeton\, 08540\, United States
CATEGORIES:Reception
ATTACH;FMTTYPE=image/jpeg:https://reunions.princeton.edu/wp-content/uploads/2026/04/2025Reunions_052225_1151-scaled.jpg
END:VEVENT
BEGIN:VEVENT
DTSTART;TZID=America/New_York:20260521T183000
DTEND;TZID=America/New_York:20260521T210000
DTSTAMP:20260422T045546
CREATED:20260419T120632Z
LAST-MODIFIED:20260420T204744Z
UID:24385-1779388200-1779397200@reunions.princeton.edu
SUMMARY:Annual Princeton University Band Reunions Chinese Food Dinner
DESCRIPTION:Reconnect with fellow Band alumni and get to know some newer Bandies over a heaping plate of the finest Chinese food in Princeton. Suggested contribution: $10 per person. \n  \nSponsored by the Friends of the Tiger Band
URL:https://reunions.princeton.edu/event/annual-princeton-university-band-reunions-chinese-food-dinner/
LOCATION:Carl A. Fields Center for Equality\, Large Multipurpose Room
CATEGORIES:Reception
END:VEVENT
BEGIN:VEVENT
DTSTART;TZID=America/New_York:20260522T090000
DTEND;TZID=America/New_York:20260522T110000
DTSTAMP:20260422T045546
CREATED:20260409T215350Z
LAST-MODIFIED:20260410T005233Z
UID:23809-1779440400-1779447600@reunions.princeton.edu
SUMMARY:Coffee With the Friends of the Princeton University Library
DESCRIPTION:Stop by Firestone Library lobby and join the Friends of the Princeton University Library for coffee\, juice\, and pastries. Learn more about how members of the Friends and Student Friends enjoy special events and help contribute to the library’s mission. All are welcome.  \nSponsored by the Friends of the Princeton University Library
URL:https://reunions.princeton.edu/event/coffee-with-the-friends-of-the-princeton-university-library/
LOCATION:Firestone Library\, Lobby\, 1 Washington Road\, Princeton\, NJ\, 08544\, United States
CATEGORIES:Reception
ATTACH;FMTTYPE=image/jpeg:https://reunions.princeton.edu/wp-content/uploads/2026/04/FPUL_20251016_0057-1-scaled.jpg
END:VEVENT
BEGIN:VEVENT
DTSTART;TZID=America/New_York:20260522T130000
DTEND;TZID=America/New_York:20260522T160000
DTSTAMP:20260422T045546
CREATED:20260419T120635Z
LAST-MODIFIED:20260420T204745Z
UID:24390-1779454800-1779465600@reunions.princeton.edu
SUMMARY:P•Law Reunions Law Panel & Reception
DESCRIPTION:Sponsored by the Program in Law & Public Policy (P•LAW)
URL:https://reunions.princeton.edu/event/plaw-reunions-law-panel-reception/
LOCATION:Robertson Hall\, Room 001
CATEGORIES:Reception
END:VEVENT
BEGIN:VEVENT
DTSTART;TZID=America/New_York:20260522T133000
DTEND;TZID=America/New_York:20260522T143000
DTSTAMP:20260422T045546
CREATED:20260409T215322Z
LAST-MODIFIED:20260410T005233Z
UID:23793-1779456600-1779460200@reunions.princeton.edu
SUMMARY:P•Law Champagne Reception
DESCRIPTION:Please join us for a champagne reception to celebrate Reunions 2026. \nSponsored by the Princeton Program in Law & Public Policy (P•LAW) and the School of Public and International Affairs (SPIA)
URL:https://reunions.princeton.edu/event/plaw-champagne-reception/
LOCATION:Robertson Hall\, Bernstein Gallery\, Princeton University\, Princeton\, NJ\, 08540\, United States
CATEGORIES:Reception
ATTACH;FMTTYPE=image/png:https://reunions.princeton.edu/wp-content/uploads/2026/04/PLAW_Logo-Secondary-Princton-Lockup_RGB.png
END:VEVENT
BEGIN:VEVENT
DTSTART;TZID=America/New_York:20260522T140000
DTEND;TZID=America/New_York:20260522T153000
DTSTAMP:20260422T045546
CREATED:20260417T223017Z
LAST-MODIFIED:20260418T125437Z
UID:24076-1779458400-1779463800@reunions.princeton.edu
SUMMARY:Princeton Women’s Network Reception
DESCRIPTION:Mix and mingle with the Princeton Women’s Network! Catch up with fellow alumnae and make new connections. Reception begins at 2 p.m.\, with group photos at 3 p.m. \nSponsored by Princeton Women’s Network (PWN)
URL:https://reunions.princeton.edu/event/princeton-womens-network-reception-2/
LOCATION:Louis A. Simpson International Building\, Atrium-171
CATEGORIES:Affinity Group Events,Reception
ATTACH;FMTTYPE=image/jpeg:https://reunions.princeton.edu/wp-content/uploads/2026/04/2025Reunions_052325_3049-cropped-photo-for-2026-reception-event.jpg
END:VEVENT
BEGIN:VEVENT
DTSTART;TZID=America/New_York:20260522T140000
DTEND;TZID=America/New_York:20260522T160000
DTSTAMP:20260422T045546
CREATED:20260409T215423Z
LAST-MODIFIED:20260410T005233Z
UID:23815-1779458400-1779465600@reunions.princeton.edu
SUMMARY:ORFE Alumni Reception
DESCRIPTION:Operations Research and Financial Engineering (ORFE) welcomes ORFE undergraduate and graduate alumni to its annual Reunions reception in Sherrerd Hall. We look forward to seeing you! \nSponsored by the Department of Operations Research and Financial Engineering (ORFE)
URL:https://reunions.princeton.edu/event/orfe-alumni-reception/
LOCATION:Sherrerd Hall\, Room 125
CATEGORIES:Reception
END:VEVENT
BEGIN:VEVENT
DTSTART;TZID=America/New_York:20260522T140000
DTEND;TZID=America/New_York:20260522T160000
DTSTAMP:20260422T045546
CREATED:20260419T120632Z
LAST-MODIFIED:20260420T204743Z
UID:24380-1779458400-1779465600@reunions.princeton.edu
SUMMARY:A4P/QPA Reunions Networking
DESCRIPTION:Sponsored by the Asian American Alumni Association of Princeton (A4P) and Queer Princeton Alumni (QPA)
URL:https://reunions.princeton.edu/event/a4p-qpa-reunions-networking/
LOCATION:Carl A. Fields Center for Equality\, Class of 1985 Room\, Café and Dickerson Lounge
CATEGORIES:Affinity Group Events,Reception
END:VEVENT
BEGIN:VEVENT
DTSTART;TZID=America/New_York:20260522T140000
DTEND;TZID=America/New_York:20260522T160000
DTSTAMP:20260422T045546
CREATED:20260419T120640Z
LAST-MODIFIED:20260420T204744Z
UID:24402-1779458400-1779465600@reunions.princeton.edu
SUMMARY:AAS Reunions Reception
DESCRIPTION:Sponsored by the Department of African American Studies
URL:https://reunions.princeton.edu/event/aas-reunions-reception/
LOCATION:Morrison Hall Patio\, Princeton University\, Princeton\, NJ\, 08540\, United States
CATEGORIES:Reception
END:VEVENT
BEGIN:VEVENT
DTSTART;TZID=America/New_York:20260522T140000
DTEND;TZID=America/New_York:20260522T170000
DTSTAMP:20260422T045546
CREATED:20260409T215306Z
LAST-MODIFIED:20260410T005233Z
UID:23786-1779458400-1779469200@reunions.princeton.edu
SUMMARY:Murray-Dodge Café Turns 50!
DESCRIPTION:This year the Murray-Dodge Café turns 50! \nThe first hour will be dedicated to and open to only past café co-managers. Beginning at 3 p.m.\, the café will be open to all Reunions attendees. \nJoin the ORL staff and alumni bakers as we reminisce on the past 50 years of the café\, which is dedicated to the fine art of being open. We look forward to remaining open for the next 50 years and beyond. \nWe expect that you’ve perfected your best cookies or other baked goods in your time away\, so please bring your favorite recipe to share in our anniversary cookbook. \nSponsored by the Office of Religious Life and Murray-Dodge Café
URL:https://reunions.princeton.edu/event/murray-dodge-cafe-turns-50/
LOCATION:Murray-Dodge Hall\, Café\, Princeton\, 08540\, United States
CATEGORIES:Reception
ATTACH;FMTTYPE=image/jpeg:https://reunions.princeton.edu/wp-content/uploads/2026/04/20020607_DSCN6982-scaled.jpg
END:VEVENT
BEGIN:VEVENT
DTSTART;TZID=America/New_York:20260522T140000
DTEND;TZID=America/New_York:20260522T183000
DTSTAMP:20260422T045546
CREATED:20260419T120642Z
LAST-MODIFIED:20260420T204743Z
UID:24410-1779458400-1779474600@reunions.princeton.edu
SUMMARY:A4P Reunions
DESCRIPTION:Sponsored by the Asian American Alumni Association of Princeton (A4P)
URL:https://reunions.princeton.edu/event/a4p-reunions-2/
LOCATION:Carl A. Fields Center for Equality\, Large Multipurpose Room
CATEGORIES:Affinity Group Events,Reception
END:VEVENT
BEGIN:VEVENT
DTSTART;TZID=America/New_York:20260522T143000
DTEND;TZID=America/New_York:20260522T193000
DTSTAMP:20260422T045546
CREATED:20260419T120642Z
LAST-MODIFIED:20260420T204744Z
UID:24409-1779460200-1779478200@reunions.princeton.edu
SUMMARY:Geosciences Reunions Reception
DESCRIPTION:Sponsored by Department of Geosciences
URL:https://reunions.princeton.edu/event/geosciences-reunions-reception/
LOCATION:Briger Hall\, Great Hall
CATEGORIES:Reception
END:VEVENT
BEGIN:VEVENT
DTSTART;TZID=America/New_York:20260522T150000
DTEND;TZID=America/New_York:20260522T160000
DTSTAMP:20260422T045546
CREATED:20260417T223014Z
LAST-MODIFIED:20260420T015702Z
UID:24074-1779462000-1779465600@reunions.princeton.edu
SUMMARY:Electrical and Computer Engineering Alumni Reception
DESCRIPTION:Sponsored by the Department of Electrical and Computer Engineering
URL:https://reunions.princeton.edu/event/electrical-and-computer-engineering-alumni-reception-4/
LOCATION:Engineering Quad\, F-Wing\, Room F110
CATEGORIES:Reception
ATTACH;FMTTYPE=image/png:https://reunions.princeton.edu/wp-content/uploads/2026/04/ECE-Stacked@2x.png
END:VEVENT
BEGIN:VEVENT
DTSTART;TZID=America/New_York:20260522T110000
DTEND;TZID=America/New_York:20260522T120000
DTSTAMP:20260422T045546
CREATED:20260419T120642Z
LAST-MODIFIED:20260420T205010Z
UID:24408-1779447600-1779451200@reunions.princeton.edu
SUMMARY:Friends of Princeton Cheerleading Brunch
DESCRIPTION:Sponsored by Princeton Cheerleading
URL:https://reunions.princeton.edu/event/friends-of-princeton-cheerleading-brunch/
LOCATION:1912 Pavilion\, NJ\, United States
CATEGORIES:Reception
END:VEVENT
BEGIN:VEVENT
DTSTART;TZID=America/New_York:20260522T150000
DTEND;TZID=America/New_York:20260522T180000
DTSTAMP:20260422T045546
CREATED:20260409T215306Z
LAST-MODIFIED:20260410T005234Z
UID:23788-1779462000-1779472800@reunions.princeton.edu
SUMMARY:CISS Reunions Mixer
DESCRIPTION:Please join us at the Henry House patio for a chance to reconnect with other CISS alumni and current fellows. Family members and friends are welcome — no wristband needed! \nSponsored by the Center for International Security Studies (CISS)
URL:https://reunions.princeton.edu/event/ciss-reunions-mixer/
LOCATION:Joseph Henry House\, Patio\, Princeton University\, Princeton\, NJ\, 08540\, United States
CATEGORIES:Reception
ATTACH;FMTTYPE=image/png:https://reunions.princeton.edu/wp-content/uploads/2026/04/CISSLogo_square-scaled.png
END:VEVENT
BEGIN:VEVENT
DTSTART;TZID=America/New_York:20260522T160000
DTEND;TZID=America/New_York:20260522T170000
DTSTAMP:20260422T045546
CREATED:20260417T223011Z
LAST-MODIFIED:20260420T020339Z
UID:24045-1779465600-1779469200@reunions.princeton.edu
SUMMARY:Chapel Choir Alumni Reception
DESCRIPTION:Chapel Choir alumni and current members are cordially invited to a reception. \n  \nSponsored by the Chapel Choir
URL:https://reunions.princeton.edu/event/chapel-choir-alumni-reception-4/
LOCATION:Firestone Plaza\, Princeton University\, Princeton\, NJ\, 08540\, United States
CATEGORIES:Reception
ATTACH;FMTTYPE=image/jpeg:https://reunions.princeton.edu/wp-content/uploads/2026/04/Were-a-family.jpg
END:VEVENT
BEGIN:VEVENT
DTSTART;TZID=America/New_York:20260522T160000
DTEND;TZID=America/New_York:20260522T170000
DTSTAMP:20260422T045546
CREATED:20260417T223014Z
LAST-MODIFIED:20260420T015703Z
UID:24056-1779465600-1779469200@reunions.princeton.edu
SUMMARY:Alumni Schools Committee (ASC) Reception
DESCRIPTION:Join fellow Alumni Schools Committee (ASC) volunteers to recognize and celebrate your accomplishments from the past ASC season. Recipients of the Spencer J. Reynolds 1961 Cup and the S. Barksdale Penick\, Jr. 1925 Award will be recognized and honored. \n  \nSponsored by the Alumni Council Princeton Schools Committee (PSC) and the Office of Admission and Alumni Engagement\, Office of Advancement
URL:https://reunions.princeton.edu/event/alumni-schools-committee-asc-reception-2/
LOCATION:Frist Health Center\, McLain Pavilion
CATEGORIES:Reception
ATTACH;FMTTYPE=image/png:https://reunions.princeton.edu/wp-content/uploads/2026/04/ASC-Recep.png
END:VEVENT
BEGIN:VEVENT
DTSTART;TZID=America/New_York:20260522T160000
DTEND;TZID=America/New_York:20260522T173000
DTSTAMP:20260422T045546
CREATED:20260419T120635Z
LAST-MODIFIED:20260420T204745Z
UID:24387-1779465600-1779471000@reunions.princeton.edu
SUMMARY:SPIA Alumni Gathering
DESCRIPTION:Sponsored by the School of Public and International Affairs (SPIA)
URL:https://reunions.princeton.edu/event/spia-alumni-gathering/
LOCATION:Robertson Hall\, Dodds Atrium and Shultz Dining Room\, Princeton University\, Princeton\, NJ\, 08540\, United States
CATEGORIES:Reception
END:VEVENT
BEGIN:VEVENT
DTSTART;TZID=America/New_York:20260522T160000
DTEND;TZID=America/New_York:20260522T173000
DTSTAMP:20260422T045546
CREATED:20260419T120657Z
LAST-MODIFIED:20260420T204744Z
UID:24418-1779465600-1779471000@reunions.princeton.edu
SUMMARY:SEAS Reunions Reception
DESCRIPTION:Sponsored by the School of Engineering and Applied Science
URL:https://reunions.princeton.edu/event/seas-reunions-reception/
LOCATION:Engineering Quad C-Wing\, Cafe\, Princeton University\, Princeton\, NJ\, 08540\, United States
CATEGORIES:Reception
END:VEVENT
BEGIN:VEVENT
DTSTART;TZID=America/New_York:20260522T160000
DTEND;TZID=America/New_York:20260522T180000
DTSTAMP:20260422T045546
CREATED:20260417T223011Z
LAST-MODIFIED:20260420T015702Z
UID:24042-1779465600-1779472800@reunions.princeton.edu
SUMMARY:ALPA Festejo
DESCRIPTION:Please join ALPA for our annual Festejo reception with light refreshments\, music\, friendly faces and quality time with your fellow tigres. We will also celebrate this year‘s distinguished alumni and student awardees. We look forward to seeing you there! \n  \nSponsored by The Association of Latino Princeton Alumni (ALPA)
URL:https://reunions.princeton.edu/event/alpa-festejo/
LOCATION:Chancellor Green\, Rotunda
CATEGORIES:Affinity Group Events,Reception
END:VEVENT
BEGIN:VEVENT
DTSTART;TZID=America/New_York:20260522T160000
DTEND;TZID=America/New_York:20260522T183000
DTSTAMP:20260422T045546
CREATED:20260417T223011Z
LAST-MODIFIED:20260420T015702Z
UID:24051-1779465600-1779474600@reunions.princeton.edu
SUMMARY:PIIRS Reception
DESCRIPTION:Sponsored by the Princeton Institute for International and Regional Studies (PIIRS)
URL:https://reunions.princeton.edu/event/piirs-reception-2/
LOCATION:Louis A. Simpson International Building\, Atrium
CATEGORIES:Reception
END:VEVENT
BEGIN:VEVENT
DTSTART;TZID=America/New_York:20260522T170000
DTEND;TZID=America/New_York:20260522T190000
DTSTAMP:20260422T045546
CREATED:20260419T120636Z
LAST-MODIFIED:20260420T204743Z
UID:24391-1779469200-1779476400@reunions.princeton.edu
SUMMARY:Young Alumni Reception
DESCRIPTION:Join fellow young (and young at heart!) alumni for a relaxed reception with a few bites\, refreshing drinks and space to reconnect. Whether you’re forging new connections or reconnecting with familiar faces\, join ABPA as we make fresh memories. \n  \nSponsored by the Association of Black Princeton Alumni (ABPA)
URL:https://reunions.princeton.edu/event/young-alumni-reception/
LOCATION:Chancellor Green\, Cafe (Lower Level)\, Princeton University\, Princeton\, NJ\, 08540\, United States
CATEGORIES:Affinity Group Events,Reception
END:VEVENT
BEGIN:VEVENT
DTSTART;TZID=America/New_York:20260522T133000
DTEND;TZID=America/New_York:20260522T150000
DTSTAMP:20260422T045546
CREATED:20260417T005736Z
LAST-MODIFIED:20260417T005736Z
UID:23933-1779456600-1779462000@reunions.princeton.edu
SUMMARY:Computer Science Department Alumni Reunions Event
DESCRIPTION:Welcome Computer Science Alumni! \nWe’d love to see you! Join us for refreshments and catch up with classmates. \nSponsored by the Department of Computer Science
URL:https://reunions.princeton.edu/event/computer-science-department-alumni-reunions-event/
LOCATION:Friend Center\, 113 Convocation Room
CATEGORIES:Reception
ATTACH;FMTTYPE=image/png:https://reunions.princeton.edu/wp-content/uploads/2026/04/COS_half-page-PAW-ad-scaled.png
END:VEVENT
BEGIN:VEVENT
DTSTART;TZID=America/New_York:20260522T150000
DTEND;TZID=America/New_York:20260522T160000
DTSTAMP:20260422T045546
CREATED:20260417T094204Z
LAST-MODIFIED:20260417T094216Z
UID:23944-1779462000-1779465600@reunions.princeton.edu
SUMMARY:MAE Reunions
DESCRIPTION:Sponsored by the Department of Mechanical and Aerospace Engineering
URL:https://reunions.princeton.edu/event/mae-reunions-2/
LOCATION:Engineering Quad Courtyard
CATEGORIES:Reception
ATTACH;FMTTYPE=image/jpeg:https://reunions.princeton.edu/wp-content/uploads/2023/05/equad.jpg
END:VEVENT
BEGIN:VEVENT
DTSTART;TZID=America/New_York:20260522T150000
DTEND;TZID=America/New_York:20260522T170000
DTSTAMP:20260422T045546
CREATED:20260416T180514Z
LAST-MODIFIED:20260416T180514Z
UID:23875-1779462000-1779469200@reunions.princeton.edu
SUMMARY:CEE Reunion
DESCRIPTION:Sponsored by the Department of Civil and Environmental Engineering
URL:https://reunions.princeton.edu/event/cee-reunion/
LOCATION:Engineering Quad\, E-Wing\, Student Lounge
CATEGORIES:Reception
ATTACH;FMTTYPE=image/jpeg:https://reunions.princeton.edu/wp-content/uploads/2026/04/2026-poster.jpg
END:VEVENT
BEGIN:VEVENT
DTSTART;TZID=America/New_York:20260522T150000
DTEND;TZID=America/New_York:20260522T170000
DTSTAMP:20260422T045546
CREATED:20260417T223017Z
LAST-MODIFIED:20260417T234644Z
UID:24077-1779462000-1779469200@reunions.princeton.edu
SUMMARY:Chemistry Reunions Reception
DESCRIPTION:Sponsored by the Department of Chemistry
URL:https://reunions.princeton.edu/event/chemistry-reunions-reception/
LOCATION:Frick Chemistry Laboratory\, Taylor Commons\, Princeton University\, Princeton\, NJ\, 08540\, United States
CATEGORIES:Reception
END:VEVENT
BEGIN:VEVENT
DTSTART;TZID=America/New_York:20260522T150000
DTEND;TZID=America/New_York:20260522T180000
DTSTAMP:20260422T045546
CREATED:20260417T094419Z
LAST-MODIFIED:20260417T094419Z
UID:23946-1779462000-1779472800@reunions.princeton.edu
SUMMARY:Princeton Football Reception
DESCRIPTION:Sponsored by Princeton Football and the Princeton Football Association
URL:https://reunions.princeton.edu/event/princeton-football-reception/
LOCATION:Finney Field
CATEGORIES:Reception
END:VEVENT
BEGIN:VEVENT
DTSTART;TZID=America/New_York:20260522T190000
DTEND;TZID=America/New_York:20260522T220000
DTSTAMP:20260422T045546
CREATED:20260417T095528Z
LAST-MODIFIED:20260418T125334Z
UID:23954-1779476400-1779487200@reunions.princeton.edu
SUMMARY:QPA Cabaret: An Evening of Jazz
DESCRIPTION:Join Queer Princeton Alumni Friday evening for a cool evening of jazz. Whig Hall Senate Chamber will be transformed into a cocktail lounge with a laid-back vibe. \nSponsored by Queer Princeton Alumni (QPA)
URL:https://reunions.princeton.edu/event/qpa-cabaret-an-evening-of-jazz/
LOCATION:Whig Hall\, Senate Chamber\, Princeton University\, Princeton\, NJ\, 08540\, United States
CATEGORIES:Affinity Group Events,Reception
ATTACH;FMTTYPE=image/png:https://reunions.princeton.edu/wp-content/uploads/2026/04/Whig.png
END:VEVENT
BEGIN:VEVENT
DTSTART;TZID=America/New_York:20260522T153000
DTEND;TZID=America/New_York:20260522T173000
DTSTAMP:20260422T045546
CREATED:20260417T192611Z
LAST-MODIFIED:20260417T192611Z
UID:23993-1779463800-1779471000@reunions.princeton.edu
SUMMARY:Alumni in the Arts Party
DESCRIPTION:Connect with fellow alumni as well as graduating seniors\, faculty and staff working in the arts\, supporting the arts and celebrating the arts at Princeton! \n  \nSponsored by Lewis Center for the Arts\, the Department of Art & Archaeology\, the Department of Music\, and Princeton University Art Museum with Co-hosts Princeton Arts Alumni and Princeton in Hollywood
URL:https://reunions.princeton.edu/event/alumni-in-the-arts-party-4/
LOCATION:Lewis Arts Complex\, Forum\, Princeton University\, Princeton\, NJ\, 08540\, United States
CATEGORIES:Reception
ATTACH;FMTTYPE=image/jpeg:https://reunions.princeton.edu/wp-content/uploads/2026/04/FY26-Reunions-Arts-Party-Flier.jpg
END:VEVENT
END:VCALENDAR