BEGIN:VCALENDAR
VERSION:2.0
PRODID:-//Princeton Reunions - ECPv6.15.15//NONSGML v1.0//EN
CALSCALE:GREGORIAN
METHOD:PUBLISH
X-WR-CALNAME:Princeton Reunions
X-ORIGINAL-URL:https://reunions.princeton.edu
X-WR-CALDESC:Events for Princeton Reunions
REFRESH-INTERVAL;VALUE=DURATION:PT1H
X-Robots-Tag:noindex
X-PUBLISHED-TTL:PT1H
BEGIN:VTIMEZONE
TZID:America/New_York
BEGIN:DAYLIGHT
TZOFFSETFROM:-0500
TZOFFSETTO:-0400
TZNAME:EDT
DTSTART:20250309T070000
END:DAYLIGHT
BEGIN:STANDARD
TZOFFSETFROM:-0400
TZOFFSETTO:-0500
TZNAME:EST
DTSTART:20251102T060000
END:STANDARD
BEGIN:DAYLIGHT
TZOFFSETFROM:-0500
TZOFFSETTO:-0400
TZNAME:EDT
DTSTART:20260308T070000
END:DAYLIGHT
BEGIN:STANDARD
TZOFFSETFROM:-0400
TZOFFSETTO:-0500
TZNAME:EST
DTSTART:20261101T060000
END:STANDARD
BEGIN:DAYLIGHT
TZOFFSETFROM:-0500
TZOFFSETTO:-0400
TZNAME:EDT
DTSTART:20270314T070000
END:DAYLIGHT
BEGIN:STANDARD
TZOFFSETFROM:-0400
TZOFFSETTO:-0500
TZNAME:EST
DTSTART:20271107T060000
END:STANDARD
END:VTIMEZONE
BEGIN:VEVENT
DTSTART;TZID=America/New_York:20260521T090000
DTEND;TZID=America/New_York:20260521T160000
DTSTAMP:20260421T042349
CREATED:20260417T223014Z
LAST-MODIFIED:20260420T015318Z
UID:24073-1779354000-1779379200@reunions.princeton.edu
SUMMARY:Labyrinth Oasis
DESCRIPTION:Visit a self-guided space to slow down and reflect in the midst of Princeton University Reunions. \n  \nSponsored by the Princeton Presbyterians of the Westminster Foundation
URL:https://reunions.princeton.edu/event/labyrinth-oasis-6/
LOCATION:Nassau Presbyterian Church\, Niles Chapel\, 61 Nassau St\, Princeton University\, Princeton\, NJ\, 08540\, United States
CATEGORIES:Memorial Service
ATTACH;FMTTYPE=image/jpeg:https://reunions.princeton.edu/wp-content/uploads/2026/04/IMG_0513.jpeg
END:VEVENT
BEGIN:VEVENT
DTSTART;TZID=America/New_York:20260521T090000
DTEND;TZID=America/New_York:20260521T210000
DTSTAMP:20260421T042349
CREATED:20260409T215350Z
LAST-MODIFIED:20260410T001109Z
UID:23806-1779354000-1779397200@reunions.princeton.edu
SUMMARY:Take It or Leave It Tent
DESCRIPTION:For alumni hoping to find a home for Princeton memorabilia and apparel that could be treasured by other alumni and guests\, bring your items (only as big as you can carry) to Reunions and drop them off at the “Take It or Leave It” tent. And then go on your own search for more great finds! \n\n\nSponsored by the Alumni Council Committee on Princetoniana and the Alumni Council Committee on Reunions (COR)
URL:https://reunions.princeton.edu/event/take-it-or-leave-it-tent-9/
LOCATION:East Pyne Hall\, South Lawn Tent
CATEGORIES:Open House
ATTACH;FMTTYPE=image/jpeg:https://reunions.princeton.edu/wp-content/uploads/2025/03/TakeItOrLeaveIt_1085x780.jpg
END:VEVENT
BEGIN:VEVENT
DTSTART;TZID=America/New_York:20260521T093000
DTEND;TZID=America/New_York:20260521T103000
DTSTAMP:20260421T042349
CREATED:20260419T120642Z
LAST-MODIFIED:20260420T204745Z
UID:24406-1779355800-1779359400@reunions.princeton.edu
SUMMARY:Auxiliary to the Isabella McCosh Infirmary Annual Meeting
DESCRIPTION:Sponsored by the Auxiliary to the Isabella McCosh Infirmary
URL:https://reunions.princeton.edu/event/auxiliary-to-the-isabella-mccosh-infirmary-annual-meeting-3/
LOCATION:Frist Health Center\, Innovation Design Lab\, Room 253
CATEGORIES:Lecture
END:VEVENT
BEGIN:VEVENT
DTSTART;TZID=America/New_York:20260521T100000
DTEND;TZID=America/New_York:20260521T123000
DTSTAMP:20260421T042349
CREATED:20260419T120535Z
LAST-MODIFIED:20260420T020339Z
UID:24318-1779357600-1779366600@reunions.princeton.edu
SUMMARY:Open Studio: Reunions
DESCRIPTION:Drop in for Reunions art making for the whole family. \nVisit the museum’s new Creativity Labs for some Reunions-edition art making inspired by the collections\, including tiger-themed activities for younger participants. Materials will be provided for coloring\, collage\, weaving and more. \nAll ages are welcome. Tigers\, please plan to supervise your cubs. \n  \nSponsored by Princeton University Art Museum
URL:https://reunions.princeton.edu/event/open-studio-reunions-3/
LOCATION:Princeton University Art Museum\, Laporte Family Creativity Lab
END:VEVENT
BEGIN:VEVENT
DTSTART;TZID=America/New_York:20260521T080000
DTEND;TZID=America/New_York:20260521T233000
DTSTAMP:20260421T042349
CREATED:20260417T223011Z
LAST-MODIFIED:20260420T185301Z
UID:24039-1779350400-1779406200@reunions.princeton.edu
SUMMARY:One Too Many: Stories of Princetonian Humanity and Mental Health
DESCRIPTION:“One Too Many: Stories of Princetonian Humanity and Mental Health” is a cross-generational exhibition hosted by the Alumni Mental Health Coalition to bring together alumni and current students to share lived experiences of mental health at Princeton and beyond. In collaboration with the Undergraduate Student Government’s Mental Health Committee\, this exhibition highlights stories across mediums — audio\, writing\, visual art and live performances — to foster community\, reflection and connection. Grounded in the One Too Many student campaign\, the project aims to create resonance across generations while advocating for more responsive and compassionate approaches to student well-being. \nFeaturing \nThe Princeton Footnotes\nOld NasSoul \n  \nSponsored by the Princeton Alumni Mental Health Coalition and the USG Mental Health Committee
URL:https://reunions.princeton.edu/event/one-too-many-stories-of-princetonian-humanity-and-mental-health-4/
LOCATION:Frist Campus Center\, Reading Room\, 3rd Floor
ATTACH;FMTTYPE=image/png:https://reunions.princeton.edu/wp-content/uploads/2026/04/Exhibition-Flyer.png
END:VEVENT
BEGIN:VEVENT
DTSTART;TZID=America/New_York:20260521T090000
DTEND;TZID=America/New_York:20260521T130000
DTSTAMP:20260421T042349
CREATED:20260416T180718Z
LAST-MODIFIED:20260416T180748Z
UID:23879-1779354000-1779368400@reunions.princeton.edu
SUMMARY:Tennis Reunion Event
DESCRIPTION:Sponsored by the Friends of Tennis
URL:https://reunions.princeton.edu/event/tennis-reunion-event/
LOCATION:Racquet Center\, Cordish Family Outdoor Tennis Center Lounge
CATEGORIES:Athletic Event
ATTACH;FMTTYPE=image/jpeg:https://reunions.princeton.edu/wp-content/uploads/2019/05/tennis.jpg
END:VEVENT
BEGIN:VEVENT
DTSTART;TZID=America/New_York:20260521T140000
DTEND;TZID=America/New_York:20260521T160000
DTSTAMP:20260421T042349
CREATED:20260417T223011Z
LAST-MODIFIED:20260420T015702Z
UID:24046-1779372000-1779379200@reunions.princeton.edu
SUMMARY:’76/’86 Sustainability Talks: Making Peace with Nature 1: When Will Average Temperatures Bend Downward?
DESCRIPTION:Short\, high-impact cross-disciplinary talks with Q & A: \nLillie Szemraj ’26 (Astrophysics) EcoRep\, and Collin Guedel ’26 (Geosciences) EcoRep: “Perspectives and Thoughts from Graduating Seniors” \nJim Waltman ’86\, Executive Director\, The Watershed Institute: “We’re in Hot Water. What Do We Do About It?” \nReed Maxwell\, Professor\, Civil & Environmental Engineering and High Meadows Environmental Institute (HMEI): “Where Did All the Water Go? High-tech Hydrology in the American West” \nJonathan Conway\, Assistant Professor\, Chemical & Biological Engineering/HMEI: “Tiny Partners\, Big Impact: Beneficial Microbes and the Future of Farming” \nJonathan Levine\, Professor\, Ecology & Evolutionary Biology/HMEI: “Biodiversity Impacts of Land-based Climate Mitigation Efforts Including Reforestation and Bioenergy Cropping” \nAllison Carruth\, Professor\, American Studies and HMEI\, and Director of Program in Environmental Studies: “Environmental Media Trends and Princeton’s Climate Story Incubator” \nHost: Susan Haig ’76\, Co-chair of the Class of 1976 50th Reunion Sustainability Committee \n  \nSponsored by the Class of 1976 and the Class of 1986
URL:https://reunions.princeton.edu/event/76-86-sustainability-talks-making-peace-with-nature-1-when-will-average-temperatures-bend-downward/
LOCATION:McCosh 010
CATEGORIES:Lecture
END:VEVENT
BEGIN:VEVENT
DTSTART;TZID=America/New_York:20260521T100000
DTEND;TZID=America/New_York:20260521T193000
DTSTAMP:20260421T042349
CREATED:20260417T223004Z
LAST-MODIFIED:20260420T014525Z
UID:24000-1779357600-1779391800@reunions.princeton.edu
SUMMARY:Open Studio: Reunions Edition
DESCRIPTION:Drop in for Reunions art making for the whole family. \nVisit the Museum’s new Creativity Labs for some Reunions-edition art making inspired by the collections\, including tiger-themed activities for younger participants. Materials will be provided for coloring\, collage\, weaving and more. \nAll ages are welcome. Tigers\, please plan to supervise your cubs. \nSponsored by the Princeton University Art Museum
URL:https://reunions.princeton.edu/event/open-studio-reunions-edition/
LOCATION:Princeton University Art Museum\, Kathleen Compton Sherrerd Creativity Lab and  Laporte Family Creativity Lab
ATTACH;FMTTYPE=image/jpeg:https://reunions.princeton.edu/wp-content/uploads/2026/04/PUAM-StudentOpening_102525_03592.jpg
END:VEVENT
BEGIN:VEVENT
DTSTART;TZID=America/New_York:20260521T110000
DTEND;TZID=America/New_York:20260521T120000
DTSTAMP:20260421T042349
CREATED:20260419T120643Z
LAST-MODIFIED:20260420T205020Z
UID:24412-1779361200-1779364800@reunions.princeton.edu
SUMMARY:Princeton Rowing Reunions BBQ
DESCRIPTION:Sponsored by the Princeton University Rowing Association (PURA)
URL:https://reunions.princeton.edu/event/princeton-rowing-reunions-bbq/
LOCATION:C. Bernard Shea ’16 Rowing Center\, 224 Club Room
CATEGORIES:Reception
END:VEVENT
BEGIN:VEVENT
DTSTART;TZID=America/New_York:20260521T150000
DTEND;TZID=America/New_York:20260521T163000
DTSTAMP:20260421T042349
CREATED:20260409T215348Z
LAST-MODIFIED:20260410T005233Z
UID:23801-1779375600-1779381000@reunions.princeton.edu
SUMMARY:Society of the Claw Members Ice Cream Social
DESCRIPTION:Mix and mingle with fellow Society of the Claw members and Alumni Council Committee on Reunions volunteers over an ice cream sundae! \nThe Society of the Claw honors those who have consistently embodied the spirit of Reunions through service and/or continuous attendance. Started in 1912 by the Class of 1894\, the award was paused in the 1940s and resurrected in 2009. \nSponsored by the Alumni Council Committee on Reunions (COR)
URL:https://reunions.princeton.edu/event/society-of-the-claw-members-ice-cream-social-2/
LOCATION:Chancellor Green\, Café and Lower Hyphen\, Princeton\, 08540\, United States
CATEGORIES:Reception
ATTACH;FMTTYPE=image/jpeg:https://reunions.princeton.edu/wp-content/uploads/2026/04/2025Reunions_052225_1151-scaled.jpg
END:VEVENT
BEGIN:VEVENT
DTSTART;TZID=America/New_York:20260521T150000
DTEND;TZID=America/New_York:20260521T170000
DTSTAMP:20260421T042349
CREATED:20260409T215350Z
LAST-MODIFIED:20260410T005233Z
UID:23811-1779375600-1779382800@reunions.princeton.edu
SUMMARY:Community Contra/Square Dancing
DESCRIPTION:Learn the basics of contra/square-like dancing\, a lively and welcoming form of traditional community dance. Dancers move in long lines or circles and follow simple patterns guided by a caller. Or just come to enjoy the music and social atmosphere. All welcome. No partner or prior experience is required. \nSponsored by the Class of 1976
URL:https://reunions.princeton.edu/event/community-contra-square-dancing/
LOCATION:Blair-Joline Courtyard
CATEGORIES:Performance
ATTACH;FMTTYPE=image/png:https://reunions.princeton.edu/wp-content/uploads/2026/04/Contra.png
END:VEVENT
BEGIN:VEVENT
DTSTART;TZID=America/New_York:20260521T163000
DTEND;TZID=America/New_York:20260521T173000
DTSTAMP:20260421T042349
CREATED:20260417T223011Z
LAST-MODIFIED:20260420T015318Z
UID:24054-1779381000-1779384600@reunions.princeton.edu
SUMMARY:Intro to Qi Gong
DESCRIPTION:This introductory class will be led by Qi Gong Master Nadia Linda Hole ‘75. \n  \nSponsored by the Class of 1975
URL:https://reunions.princeton.edu/event/intro-to-qi-gong-4/
LOCATION:Reunions\, Class of 1975 Walk
CATEGORIES:Gathering
ATTACH;FMTTYPE=image/jpeg:https://reunions.princeton.edu/wp-content/uploads/2026/04/20210113_0452482.jpeg
END:VEVENT
BEGIN:VEVENT
DTSTART;TZID=America/New_York:20260521T163000
DTEND;TZID=America/New_York:20260521T180000
DTSTAMP:20260421T042349
CREATED:20260417T223007Z
LAST-MODIFIED:20260420T020339Z
UID:24032-1779381000-1779386400@reunions.princeton.edu
SUMMARY:Reunions Welcome Celebration and Art Museum Tours
DESCRIPTION:Kick off Reunions at the Art Museum! \nCalling Tigers of all stripes: Start your 2026 Reunions celebrations at the new Princeton University Art Museum with mocktails and tours. Tours will be led by Museum staff\, including James Steward\, the Nancy A. Nasher–David J. Haemisegger\, Class of 1976\, Director; Juliana Ochs Dweck\, chief curator; and Karl E. Kusserow\, John Wilmerding Senior Curator of American Art. \nTour space is limited; first come\, first served. \nSpeakers \nJames Steward\, Director\, Princeton University Art Museum \nJuliana Ochs Dweck\, Chief Curator\, Princeton University Art Museum \nKarl Kusserow\, Princeton University Art Museum\, John Wilmerding Senior Curator of American Art \n  \nSponsored by the Princeton University Art Museum
URL:https://reunions.princeton.edu/event/reunions-welcome-celebration-and-art-museum-tours/
LOCATION:Princeton University Art Museum Amphitheater / Rain Location Princeton University Art Museum\, Education Commons
ATTACH;FMTTYPE=image/jpeg:https://reunions.princeton.edu/wp-content/uploads/2026/04/Tour.jpg
END:VEVENT
BEGIN:VEVENT
DTSTART;TZID=America/New_York:20260521T173000
DTEND;TZID=America/New_York:20260521T181500
DTSTAMP:20260421T042349
CREATED:20260419T120555Z
LAST-MODIFIED:20260420T020340Z
UID:24336-1779384600-1779387300@reunions.princeton.edu
SUMMARY:Fuzzy Dice Reunions Show
DESCRIPTION:Sponsored by Fuzzy Dice Improv Comedy
URL:https://reunions.princeton.edu/event/fuzzy-dice-reunions-show-7/
LOCATION:U-Store Courtyard\, Tent\, NJ\, United States
END:VEVENT
BEGIN:VEVENT
DTSTART;TZID=America/New_York:20260521T140000
DTEND;TZID=America/New_York:20260521T180000
DTSTAMP:20260421T042349
CREATED:20260417T223004Z
LAST-MODIFIED:20260420T014452Z
UID:23997-1779372000-1779386400@reunions.princeton.edu
SUMMARY:Art Experiments: Reunions Edition
DESCRIPTION:Drop in for Reunions art making for the whole family. \nExplore the magic of printmaking — and the Museum’s new Creativity Labs — with this special art-making activity for alumni and families. Stop by anytime between 2 and 6 p.m. to make your own Reunions-inspired embossed bookmark using a variety of materials and textures\, guided by local artist Amanda Chesney. \nAll ages are welcome. Tigers\, please plan to supervise your cubs. \nSponsored by the Princeton University Art Museum
URL:https://reunions.princeton.edu/event/art-experiments-reunions-edition-2/
LOCATION:Princeton University Art Museum\, Laporte Family Creativity Lab
ATTACH;FMTTYPE=image/jpeg:https://reunions.princeton.edu/wp-content/uploads/2026/04/PUAM-StudentOpening_102525_01671.jpg
END:VEVENT
BEGIN:VEVENT
DTSTART;TZID=America/New_York:20260521T183000
DTEND;TZID=America/New_York:20260521T210000
DTSTAMP:20260421T042349
CREATED:20260419T120632Z
LAST-MODIFIED:20260420T204744Z
UID:24385-1779388200-1779397200@reunions.princeton.edu
SUMMARY:Annual Princeton University Band Reunions Chinese Food Dinner
DESCRIPTION:Reconnect with fellow Band alumni and get to know some newer Bandies over a heaping plate of the finest Chinese food in Princeton. Suggested contribution: $10 per person. \n  \nSponsored by the Friends of the Tiger Band
URL:https://reunions.princeton.edu/event/annual-princeton-university-band-reunions-chinese-food-dinner/
LOCATION:Carl A. Fields Center for Equality\, Large Multipurpose Room
CATEGORIES:Reception
END:VEVENT
BEGIN:VEVENT
DTSTART;TZID=America/New_York:20260521T150000
DTEND;TZID=America/New_York:20260521T160000
DTSTAMP:20260421T042349
CREATED:20260417T223004Z
LAST-MODIFIED:20260420T215615Z
UID:24012-1779375600-1779379200@reunions.princeton.edu
SUMMARY:The Coolest Spot on Campus
DESCRIPTION:Come experience a cooling pavilion and learn about sustainable cooling technologies being studied at the Andlinger Center and implemented on campus. \nSpeakers \nForrest Meggers\, Associate Professor of Architecture and the Andlinger Center for Energy and the Environment \nEric Teitelbaum ’14 *20\, Senior Engineer\, AIL Research Inc. \nPeteris Lazovskis\, Graduate Student\, School of Architecture \nAndrew Lowenstein\, President\, AIL Research Inc. \nKipp Bradford\, Graduate Student\, School of Architecture \nKian Wee Chen\, Visiting Research Scholar\, Andlinger Center for Energy and the Environment \nIppei Izuhara\, Visiting Fellow\, Andlinger Center for Energy and the Environment \n  \nSponsored by the Andlinger Center for Energy and the Environment
URL:https://reunions.princeton.edu/event/the-coolest-spot-on-campus/
LOCATION:Maeder Courtyard
ATTACH;FMTTYPE=image/jpeg:https://reunions.princeton.edu/wp-content/uploads/2026/04/2026_ACEE_Reunions_Cooling-002.jpg
END:VEVENT
BEGIN:VEVENT
DTSTART;TZID=America/New_York:20260521T150000
DTEND;TZID=America/New_York:20260521T160000
DTSTAMP:20260421T042349
CREATED:20260419T120557Z
LAST-MODIFIED:20260420T193000Z
UID:24343-1779375600-1779379200@reunions.princeton.edu
SUMMARY:Music\, Memory and Magic with the CST
DESCRIPTION:Join the Center on Science and Technology for a discussion with Elizabeth Margulis\, professor of music and acting chair of the Music Department\, on her new book entitled “Transported: The Everyday Magic of Musical Daydreams.” Professor Margulis‘ talk will explore the science of how music sends us somewhere else\, into a personal memory or vividly imagined scene. Refreshments and book signing to follow. \n  \nSponsored by the Center on Science and Technology and the Department of Music
URL:https://reunions.princeton.edu/event/music-memory-and-magic-with-the-cst/
LOCATION:Lewis Library\, Room 120
ATTACH;FMTTYPE=image/png:https://reunions.princeton.edu/wp-content/uploads/2026/04/Music-memory-and-Magic-with-the-CST.png
END:VEVENT
BEGIN:VEVENT
DTSTART;TZID=America/New_York:20260521T193000
DTEND;TZID=America/New_York:20260521T210000
DTSTAMP:20260421T042349
CREATED:20260419T120555Z
LAST-MODIFIED:20260420T020340Z
UID:24337-1779391800-1779397200@reunions.princeton.edu
SUMMARY:Annual Meeting of the Friends of Tiger Band
DESCRIPTION:Hear from the Band President and the Directors of FOTB about recent updates and future plans for the P.U.B. \nSponsored by the Friends of the Tiger Band
URL:https://reunions.princeton.edu/event/annual-meeting-of-the-friends-of-tiger-band/
LOCATION:Carl A. Fields Center for Equality\, Large Multipurpose Room
END:VEVENT
BEGIN:VEVENT
DTSTART;TZID=America/New_York:20260521T200000
DTEND;TZID=America/New_York:20260521T210000
DTSTAMP:20260421T042349
CREATED:20260419T120626Z
LAST-MODIFIED:20260420T020341Z
UID:24360-1779393600-1779397200@reunions.princeton.edu
SUMMARY:Shavuot Evening Service
DESCRIPTION:Sponsored by the Center for Jewish Life (CJL) and Yavneh
URL:https://reunions.princeton.edu/event/shavuot-evening-service/
LOCATION:Center for Jewish Life\, Feinberg Hall
END:VEVENT
BEGIN:VEVENT
DTSTART;TZID=America/New_York:20260521T160000
DTEND;TZID=America/New_York:20260521T193000
DTSTAMP:20260421T042349
CREATED:20260419T120643Z
LAST-MODIFIED:20260420T205049Z
UID:24416-1779379200-1779391800@reunions.princeton.edu
SUMMARY:Princeton Africa Alumni: AWI Reunions
DESCRIPTION:Africa World Initiative hosts annual reunions for Princeton Alumni whose Princeton and post-Princeton experiences engaged with Africa\, through the Program in African Studies\, Princeton in Africa and other academic units. The goal of the reunion is to celebrate the alumni network that supports Princeton-related engagements\, initiatives\, programs and projects in Africa. \nSponsored by Africa World Initiative\, Provost’s Office for International Affairs and Operations\, Princeton in Africa\, PIIRS\, the Program in African Studies\, Princeton African Student Association\, Princeton African Graduate Student Association. \n  \nSponsored by the Africa World Initiative (AWI) and the Program in African Studies
URL:https://reunions.princeton.edu/event/princeton-africa-alumni-awi-reunions/
LOCATION:Louis A. Simpson Lawn
CATEGORIES:Alumni-Faculty Forum (sponsored by Alumni Assoc)
ATTACH;FMTTYPE=image/jpeg:https://reunions.princeton.edu/wp-content/uploads/2026/04/PAAR-Logo.jpg
END:VEVENT
BEGIN:VEVENT
DTSTART;TZID=America/New_York:20260521T170000
DTEND;TZID=America/New_York:20260521T170000
DTSTAMP:20260421T042349
CREATED:20260415T134036Z
LAST-MODIFIED:20260420T155354Z
UID:23848-1779382800-1779382800@reunions.princeton.edu
SUMMARY:“Nursery of Rebellion”: Princeton & the American Revolution
DESCRIPTION:Drawing on an array of PUL’s manuscript and rare book collections\, this exhibition will commemorate the 250th anniversaries of U.S. independence and the Battle of Princeton\, and showcase Princeton’s archival treasures from the revolutionary era alongside documents and artifacts that reveal local experiences of the American Revolution on campus and in the surrounding communities. Exploring the Revolution across lines of gender\, class\, race\, allegiance\, and status\, the exhibition will offer visitors a range of perspectives on the Revolution’s ideals and contradictions\, its anxiety and violence\, and its achievements and tragedies.\n\nCurated by Michael Blaakman\, Associate Professor of History\, and Gabriel Swift\, Librarian for Early American Collections. This exhibition was supported by a Special Grant from the Humanities Council’s Ruth and Sid Lapidus ’59 Research Fellowships Fund.\nDue to limited capacity in the gallery\, we are requiring registration for the tour. \nSponsored by Princeton University Library
URL:https://reunions.princeton.edu/event/nursery-of-rebellion-princeton-the-american-revolution-2/
LOCATION:Ellen and Leonard Milberg Gallery\, Firestone Library
CATEGORIES:Tour
ATTACH;FMTTYPE=image/png:https://reunions.princeton.edu/wp-content/uploads/2026/04/NOR-Libcal-image.png
END:VEVENT
BEGIN:VEVENT
DTSTART;TZID=America/New_York:20260521T210000
DTEND;TZID=America/New_York:20260521T220000
DTSTAMP:20260421T042349
CREATED:20260419T120626Z
LAST-MODIFIED:20260420T020341Z
UID:24364-1779397200-1779400800@reunions.princeton.edu
SUMMARY:Shavuot Holiday Dinner
DESCRIPTION:Sponsored by the Center for Jewish Life (CJL)
URL:https://reunions.princeton.edu/event/shavuot-holiday-dinner/
LOCATION:Center for Jewish Life\, Mandelbaum Family Dining Pavilion
END:VEVENT
BEGIN:VEVENT
DTSTART;TZID=America/New_York:20260521T170000
DTEND;TZID=America/New_York:20260521T190000
DTSTAMP:20260421T042349
CREATED:20260419T120535Z
LAST-MODIFIED:20260420T193031Z
UID:24319-1779382800-1779390000@reunions.princeton.edu
SUMMARY:House of Bones Theater Company: Reading of Graveyard Shift: Act 1
DESCRIPTION:Join us on May 21st from 5 to 7 p.m. and experience theater that isn’t live — it’s undead. \nStep into the shadows with House of Bones Theater Company for a special reading of “Graveyard Shift: Act 1\,” a gothic horror tragicomedy set in a haunted graveyard-turned-luxury apartment complex. \nCo-founded by graduating seniors Ash Baudelaire and Matthew Cooperberg\, HOBTC is a gothic cinematic universe built for streaming\, bringing the magic of theater to episodic storytelling. HOBTC offers a wickedly entertaining journey through the macabre\, fusing spooky carnival vibes with heavy metal\, dark cabaret and vintage Americana. Using horror-tragicomedies to aggrandize human complexity\, we bring theater from our House to your home. \n  \nSponsored by House of Bones Theater Company
URL:https://reunions.princeton.edu/event/house-of-bones-theater-company-reading-of-graveyard-shift-act-1/
LOCATION:Wallace Dance Building and Theater\, Kerr Studio\, Room W216
ATTACH;FMTTYPE=image/jpeg:https://reunions.princeton.edu/wp-content/uploads/2026/04/Ash-Matthew-Duo-Photo-scaled.jpg
END:VEVENT
BEGIN:VEVENT
DTSTART;TZID=America/New_York:20260521T170000
DTEND;TZID=America/New_York:20260521T201500
DTSTAMP:20260421T042349
CREATED:20260418T110949Z
LAST-MODIFIED:20260418T110949Z
UID:24146-1779382800-1779394500@reunions.princeton.edu
SUMMARY:Gary Walters '67 PVC Awards Banquet
DESCRIPTION:Sponsored by the Princeton Varsity Club
URL:https://reunions.princeton.edu/event/gary-walters-67-pvc-awards-banquet-5/
LOCATION:Jadwin Gymnasium\, A Level (Lobby and Indoor Track)
CATEGORIES:Athletic Event
END:VEVENT
BEGIN:VEVENT
DTSTART;TZID=America/New_York:20260521T173000
DTEND;TZID=America/New_York:20260521T190000
DTSTAMP:20260421T042349
CREATED:20260419T120622Z
LAST-MODIFIED:20260420T193010Z
UID:24347-1779384600-1779390000@reunions.princeton.edu
SUMMARY:PiLA Reunions Happy Hour: Alumni\, Fellows and Friends Welcome
DESCRIPTION:Sponsored by Princeton in Latin America
URL:https://reunions.princeton.edu/event/pila-reunions-happy-hour-alumni-fellows-and-friends-welcome/
LOCATION:Julis Romo Rabinowitz Building\, Room 397
END:VEVENT
BEGIN:VEVENT
DTSTART;TZID=America/New_York:20260521T183000
DTEND;TZID=America/New_York:20260521T203000
DTSTAMP:20260421T042349
CREATED:20260419T120628Z
LAST-MODIFIED:20260420T192930Z
UID:24370-1779388200-1779395400@reunions.princeton.edu
SUMMARY:Princeton Bachata Club
DESCRIPTION:Sponsored by the Princeton Bachata Club
URL:https://reunions.princeton.edu/event/princeton-bachata-club/
LOCATION:New Graduate College\, Common Room
END:VEVENT
BEGIN:VEVENT
DTSTART;TZID=America/New_York:20260521T230000
DTEND;TZID=America/New_York:20260522T040000
DTSTAMP:20260421T042349
CREATED:20260419T120624Z
LAST-MODIFIED:20260420T020341Z
UID:24357-1779404400-1779422400@reunions.princeton.edu
SUMMARY:Shavuot Study: Tikkun Leyl Shavuot
DESCRIPTION:Sponsored by the Center for Jewish Life (CJL)
URL:https://reunions.princeton.edu/event/shavuot-study-tikkun-leyl-shavuot/
LOCATION:Center for Jewish Life\, Library
END:VEVENT
BEGIN:VEVENT
DTSTART;TZID=America/New_York:20260521T220000
DTEND;TZID=America/New_York:20260521T230000
DTSTAMP:20260421T042349
CREATED:20260419T120554Z
LAST-MODIFIED:20260420T223532Z
UID:24331-1779400800-1779404400@reunions.princeton.edu
SUMMARY:Katzenjammers Seniors Arch Sing
DESCRIPTION:Sponsored by the Princeton Katzenjammers
URL:https://reunions.princeton.edu/event/katzenjammers-seniors-arch-sing/
LOCATION:East Pyne Arch\, Princeton University\, Princeton\, NJ\, 08540\, United States
ATTACH;FMTTYPE=image/jpeg:https://reunions.princeton.edu/wp-content/uploads/2026/04/KJ-Senior-Arch1_page-0001.jpg
END:VEVENT
BEGIN:VEVENT
DTSTART;TZID=America/New_York:20260521T220000
DTEND;TZID=America/New_York:20260521T231500
DTSTAMP:20260421T042349
CREATED:20260417T223004Z
LAST-MODIFIED:20260420T014107Z
UID:24001-1779400800-1779405300@reunions.princeton.edu
SUMMARY:All-Nighter Reunions Episode
DESCRIPTION:All-Nighter Season 15 with Tyler Wilson ’26 and Sophia Shepherd ’26 will have its Reunions Episode on May 21st at 10 p.m. in Frist Theater! \nSponsored by the Office of the Dean of Undergraduate Students
URL:https://reunions.princeton.edu/event/all-nighter-reunions-episode/
LOCATION:Frist Campus Center\, Film and Performance Theatre\, Room 301\, Princeton University\, Princeton\, NJ\, 08540\, United States
END:VEVENT
END:VCALENDAR