BEGIN:VCALENDAR
VERSION:2.0
PRODID:-//Princeton Reunions - ECPv6.15.15//NONSGML v1.0//EN
CALSCALE:GREGORIAN
METHOD:PUBLISH
X-WR-CALNAME:Princeton Reunions
X-ORIGINAL-URL:https://reunions.princeton.edu
X-WR-CALDESC:Events for Princeton Reunions
REFRESH-INTERVAL;VALUE=DURATION:PT1H
X-Robots-Tag:noindex
X-PUBLISHED-TTL:PT1H
BEGIN:VTIMEZONE
TZID:America/New_York
BEGIN:DAYLIGHT
TZOFFSETFROM:-0500
TZOFFSETTO:-0400
TZNAME:EDT
DTSTART:20250309T070000
END:DAYLIGHT
BEGIN:STANDARD
TZOFFSETFROM:-0400
TZOFFSETTO:-0500
TZNAME:EST
DTSTART:20251102T060000
END:STANDARD
BEGIN:DAYLIGHT
TZOFFSETFROM:-0500
TZOFFSETTO:-0400
TZNAME:EDT
DTSTART:20260308T070000
END:DAYLIGHT
BEGIN:STANDARD
TZOFFSETFROM:-0400
TZOFFSETTO:-0500
TZNAME:EST
DTSTART:20261101T060000
END:STANDARD
BEGIN:DAYLIGHT
TZOFFSETFROM:-0500
TZOFFSETTO:-0400
TZNAME:EDT
DTSTART:20270314T070000
END:DAYLIGHT
BEGIN:STANDARD
TZOFFSETFROM:-0400
TZOFFSETTO:-0500
TZNAME:EST
DTSTART:20271107T060000
END:STANDARD
END:VTIMEZONE
BEGIN:VEVENT
DTSTART;TZID=America/New_York:20260522T110000
DTEND;TZID=America/New_York:20260522T120000
DTSTAMP:20260425T094158
CREATED:20260419T120642Z
LAST-MODIFIED:20260420T205010Z
UID:24408-1779447600-1779451200@reunions.princeton.edu
SUMMARY:Friends of Princeton Cheerleading Brunch
DESCRIPTION:Sponsored by Princeton Cheerleading
URL:https://reunions.princeton.edu/event/friends-of-princeton-cheerleading-brunch/
LOCATION:1912 Pavilion\, NJ\, United States
CATEGORIES:Reception
END:VEVENT
BEGIN:VEVENT
DTSTART;TZID=America/New_York:20260522T110000
DTEND;TZID=America/New_York:20260522T123000
DTSTAMP:20260425T094158
CREATED:20260417T223017Z
LAST-MODIFIED:20260423T153134Z
UID:24087-1779447600-1779453000@reunions.princeton.edu
SUMMARY:James Madison Program: The Declaration of Independence and the Future of American Democracy
DESCRIPTION:As we approach the 250th anniversary of the Declaration of Independence\, there are many reasons for grave concern as well as celebration. For this special James Madison Program 2026 Reunions event\, the eminent scholar of American foreign policy and grand strategy Walter Russell Mead will join Professor Robert P. George for a conversation about the future of American democracy in an age of increasing conflict\, both at home and abroad\, and the prospects for the renewal of civic education at American colleges and universities. \nFeaturing Walter Russell Mead\, Alexander Hamilton Professor of Strategy and Statecraft at the University of Florida’s Hamilton Center and Robert P. George\, McCormick Professor of Jurisprudence and Director of the James Madison Program in American Ideals and Institutions. \nSponsored by the James Madison Program in American Ideals and Institutions \n 
URL:https://reunions.princeton.edu/event/james-madison-program-the-declaration-of-independence-and-the-future-of-american-democracy/
LOCATION:McDonnell Hall\, Room A02\, Princeton University\, Princeton\, NJ\, 08540\, United States
CATEGORIES:Lecture
ATTACH;FMTTYPE=image/jpeg:https://reunions.princeton.edu/wp-content/uploads/2026/04/20260522-Mead-Reunions_1080x1350-IG.jpg
END:VEVENT
BEGIN:VEVENT
DTSTART;TZID=America/New_York:20260522T150000
DTEND;TZID=America/New_York:20260522T170000
DTSTAMP:20260425T094158
CREATED:20260409T215348Z
LAST-MODIFIED:20260410T005234Z
UID:23802-1779462000-1779469200@reunions.princeton.edu
SUMMARY:Annual Giving Volunteer Reunions Reception
DESCRIPTION:Sponsored by Annual Giving
URL:https://reunions.princeton.edu/event/annual-giving-volunteer-reunions-reception-5/
LOCATION:Prospect House\, Katharine Fullerton Gerould Common Room\, John Nash Library and Daniel Wallace Culp Parlor\, Princeton\, 08540\, United States
ATTACH;FMTTYPE=image/jpeg:https://reunions.princeton.edu/wp-content/uploads/2026/04/2025Reunions_052325_3169.jpg
END:VEVENT
BEGIN:VEVENT
DTSTART;TZID=America/New_York:20260522T150000
DTEND;TZID=America/New_York:20260522T180000
DTSTAMP:20260425T094158
CREATED:20260409T215306Z
LAST-MODIFIED:20260410T005234Z
UID:23788-1779462000-1779472800@reunions.princeton.edu
SUMMARY:CISS Reunions Mixer
DESCRIPTION:Please join us at the Henry House patio for a chance to reconnect with other CISS alumni and current fellows. Family members and friends are welcome — no wristband needed! \nSponsored by the Center for International Security Studies (CISS)
URL:https://reunions.princeton.edu/event/ciss-reunions-mixer/
LOCATION:Joseph Henry House\, Patio\, Princeton University\, Princeton\, NJ\, 08540\, United States
CATEGORIES:Reception
ATTACH;FMTTYPE=image/png:https://reunions.princeton.edu/wp-content/uploads/2026/04/CISSLogo_square-scaled.png
END:VEVENT
BEGIN:VEVENT
DTSTART;TZID=America/New_York:20260522T111500
DTEND;TZID=America/New_York:20260522T120000
DTSTAMP:20260425T094158
CREATED:20260417T223007Z
LAST-MODIFIED:20260423T163246Z
UID:24016-1779448500-1779451200@reunions.princeton.edu
SUMMARY:Princeton Innovation Conference: Design for Innovation (DFI) Panel
DESCRIPTION:What does it take to move a Princeton idea from the lab or field site into the world without losing what made it worth pursuing in the first place? At this panel\, Princeton faculty will share what happened when their work entered Design for Impact’s Masterclass for Scaling Impact: a breakthrough emissions-monitoring approach reshaping how the wastewater industry thinks about decarbonization; a low-energy radiant cooling technology confronting the deeper challenge of changing how people understand comfort itself; and a live performance platform that has solved one of the hardest synchronization problems in digital experience and is now determining where and how it creates the greatest human value. \nSpeakers \nNena Golubovic \n  \nSponsored by the Office of Innovation
URL:https://reunions.princeton.edu/event/princeton-innovation-conference-design-for-innovation-dfi-panel/
LOCATION:Friend Center\, Room 109
ATTACH;FMTTYPE=image/jpeg:https://reunions.princeton.edu/wp-content/uploads/2026/04/Reunions-2026_Eventbrite-banner-scaled.jpg
END:VEVENT
BEGIN:VEVENT
DTSTART;TZID=America/New_York:20260522T111500
DTEND;TZID=America/New_York:20260522T120000
DTSTAMP:20260425T094158
CREATED:20260417T223007Z
LAST-MODIFIED:20260423T163059Z
UID:24019-1779448500-1779451200@reunions.princeton.edu
SUMMARY:Princeton Innovation Conference: AI Innovations
DESCRIPTION:Join the NJ AI Hub to learn more about what our exciting partnership is doing to drive innovation and commercialization in AI and much more. Hear from four innovative startups who are growing with the Hub and thriving in Princeton. And of course\, have time to meet with us and each other to share your thoughts and ideas about the future of AI. \nSpeakers \nJeffrey Oakman *03\, Liat Krawczyk \n  \nSponsored by the Office of Innovation
URL:https://reunions.princeton.edu/event/princeton-innovation-conference-at-reunions-2026-ai-innovations/
LOCATION:Friend Center\, Room 101
ATTACH;FMTTYPE=image/jpeg:https://reunions.princeton.edu/wp-content/uploads/2026/04/Reunions-2026_Eventbrite-banner-scaled.jpg
END:VEVENT
BEGIN:VEVENT
DTSTART;TZID=America/New_York:20260522T111500
DTEND;TZID=America/New_York:20260522T120000
DTSTAMP:20260425T094158
CREATED:20260417T223007Z
LAST-MODIFIED:20260423T162849Z
UID:24023-1779448500-1779451200@reunions.princeton.edu
SUMMARY:Princeton Innovation Conference: Early Career Founders
DESCRIPTION:Are you an early-career founder\, curious about becoming one\, or eager to support the next generation of Princeton startups? Early-Career Founders (ECF)\, PIN’s group supporting recent alums on their entrepreneurial journeys\, is having our first Reunions meetup! This mingle is your space to network with fellow founders\, meet alumni advisors and investors\, and get a sneak peek of what fellow Tigers are building. Join us! \nSpeakers \nAnna Allport ’23 \nAdam Stasiw ’13 \n  \nSponsored by the Office of Innovation
URL:https://reunions.princeton.edu/event/princeton-innovation-conference-early-career-founders/
LOCATION:Friend Center\, Room 009
ATTACH;FMTTYPE=image/jpeg:https://reunions.princeton.edu/wp-content/uploads/2026/04/Reunions-2026_Eventbrite-banner-scaled.jpg
END:VEVENT
BEGIN:VEVENT
DTSTART;TZID=America/New_York:20260522T111500
DTEND;TZID=America/New_York:20260522T120000
DTSTAMP:20260425T094158
CREATED:20260417T223007Z
LAST-MODIFIED:20260423T162744Z
UID:24025-1779448500-1779451200@reunions.princeton.edu
SUMMARY:Princeton Innovation Conference: Princeton Student Ventures
DESCRIPTION:Meet the brightest Princeton student founders and the students from Princeton Student Ventures (PSV) spearheading entrepreneurship on campus! In a dynamic session\, hear from the students themselves about the products they’re building\, the problems they’re solving and the infrastructure they’re creating to support this movement from within. \nSpeakers \nRose Weathers ’27 \nSteven Goetz ’28 \nMina Atak ’29 \nSol Park ’28 \nKaren Wu ’27 \n  \nSponsored by the Office of Innovation
URL:https://reunions.princeton.edu/event/princeton-innovation-conference-princeton-student-ventures/
LOCATION:Friend Center\, Room 007
ATTACH;FMTTYPE=image/jpeg:https://reunions.princeton.edu/wp-content/uploads/2026/04/Reunions-2026_Eventbrite-banner-scaled.jpg
END:VEVENT
BEGIN:VEVENT
DTSTART;TZID=America/New_York:20260522T111500
DTEND;TZID=America/New_York:20260522T120000
DTSTAMP:20260425T094159
CREATED:20260417T223007Z
LAST-MODIFIED:20260423T162704Z
UID:24026-1779448500-1779451200@reunions.princeton.edu
SUMMARY:Princeton Innovation Conference: Commercializing Deep Tech Innovations
DESCRIPTION:Join us at the Princeton Innovation Conference Mingle Room on Commercializing Deep Tech Innovations — a space for founders\, investors\, researchers and operators exploring how breakthrough technologies move from idea to market. Connect with alumni\, advisers and ecosystem partners driving commercialization across sectors. Hear insights\, exchange ideas and engage with those building and scaling the next generation of deep tech ventures emerging from Princeton and beyond. \nSpeakers \nBen Solomon ’06 \nAsmod Karki ’16 \nPanthini Patel \nJustin Frankel \n  \nSponsored by the Office of Innovation
URL:https://reunions.princeton.edu/event/princeton-innovation-conference-commercializing-deep-tech-innovations/
LOCATION:Friend Center\, Room 006
ATTACH;FMTTYPE=image/jpeg:https://reunions.princeton.edu/wp-content/uploads/2026/04/Reunions-2026_Eventbrite-banner-scaled.jpg
END:VEVENT
BEGIN:VEVENT
DTSTART;TZID=America/New_York:20260522T111500
DTEND;TZID=America/New_York:20260522T120000
DTSTAMP:20260425T094159
CREATED:20260417T223007Z
LAST-MODIFIED:20260423T162503Z
UID:24029-1779448500-1779451200@reunions.princeton.edu
SUMMARY:Princeton Innovation Conference: Social Enterprise
DESCRIPTION:Welcome fellow do-gooders! If you care about social impact\, this is the place for you. Whether you work in the social sector\, are a social entrepreneur or simply want to learn more about social enterprise\, join us. \nSpeakers \nDavid Henderson \nLogan Jones \n  \nSponsored by the Office of Innovation
URL:https://reunions.princeton.edu/event/princeton-innovation-conference-social-enterprise/
LOCATION:Friend Center\, Room 110
ATTACH;FMTTYPE=image/jpeg:https://reunions.princeton.edu/wp-content/uploads/2026/04/Reunions-2026_Eventbrite-banner-scaled.jpg
END:VEVENT
BEGIN:VEVENT
DTSTART;TZID=America/New_York:20260522T153000
DTEND;TZID=America/New_York:20260522T170000
DTSTAMP:20260425T094159
CREATED:20260419T120623Z
LAST-MODIFIED:20260420T020341Z
UID:24354-1779463800-1779469200@reunions.princeton.edu
SUMMARY:CJL Welcome Reception/Panel Discussion
DESCRIPTION:Sponsored by the Center for Jewish Life (CJL) and the Association of Jewish Princeton Alumni (AJPA)
URL:https://reunions.princeton.edu/event/cjl-welcome-reception-panel-discussion/
LOCATION:Center for Jewish Life\, Wilf Hall
END:VEVENT
BEGIN:VEVENT
DTSTART;TZID=America/New_York:20260522T160000
DTEND;TZID=America/New_York:20260522T170000
DTSTAMP:20260425T094159
CREATED:20260417T223011Z
LAST-MODIFIED:20260420T020339Z
UID:24045-1779465600-1779469200@reunions.princeton.edu
SUMMARY:Chapel Choir Alumni Reception
DESCRIPTION:Chapel Choir alumni and current members are cordially invited to a reception. \n  \nSponsored by the Chapel Choir
URL:https://reunions.princeton.edu/event/chapel-choir-alumni-reception-4/
LOCATION:Firestone Plaza\, Princeton University\, Princeton\, NJ\, 08540\, United States
CATEGORIES:Reception
ATTACH;FMTTYPE=image/jpeg:https://reunions.princeton.edu/wp-content/uploads/2026/04/Were-a-family.jpg
END:VEVENT
BEGIN:VEVENT
DTSTART;TZID=America/New_York:20260522T160000
DTEND;TZID=America/New_York:20260522T170000
DTSTAMP:20260425T094159
CREATED:20260417T223014Z
LAST-MODIFIED:20260420T015703Z
UID:24056-1779465600-1779469200@reunions.princeton.edu
SUMMARY:Alumni Schools Committee (ASC) Reception
DESCRIPTION:Join fellow Alumni Schools Committee (ASC) volunteers to recognize and celebrate your accomplishments from the past ASC season. Recipients of the Spencer J. Reynolds 1961 Cup and the S. Barksdale Penick\, Jr. 1925 Award will be recognized and honored. \n  \nSponsored by the Alumni Council Princeton Schools Committee (PSC) and the Office of Admission and Alumni Engagement\, Office of Advancement
URL:https://reunions.princeton.edu/event/alumni-schools-committee-asc-reception-2/
LOCATION:Frist Health Center\, McLain Pavilion
CATEGORIES:Reception
ATTACH;FMTTYPE=image/png:https://reunions.princeton.edu/wp-content/uploads/2026/04/ASC-Recep.png
END:VEVENT
BEGIN:VEVENT
DTSTART;TZID=America/New_York:20260522T160000
DTEND;TZID=America/New_York:20260522T170000
DTSTAMP:20260425T094159
CREATED:20260418T110017Z
LAST-MODIFIED:20260418T150616Z
UID:24135-1779465600-1779469200@reunions.princeton.edu
SUMMARY:Understanding Your Student’s Academic Transition to College: Insights from 25 Years at Princeton and Berkeley
DESCRIPTION:Sponsored by the McGraw Center for Teaching & Learning
URL:https://reunions.princeton.edu/event/understanding-your-students-academic-transition-to-college-insights-from-25-years-at-princeton-berkeley/
LOCATION:Frist Campus Center\, Room 330\, Princeton University\, Princeton\, NJ\, 08540\, United States
ATTACH;FMTTYPE=image/jpeg:https://reunions.princeton.edu/wp-content/uploads/2026/04/Final-Logo.jpg
END:VEVENT
BEGIN:VEVENT
DTSTART;TZID=America/New_York:20260522T160000
DTEND;TZID=America/New_York:20260522T170000
DTSTAMP:20260425T094159
CREATED:20260419T120557Z
LAST-MODIFIED:20260420T020340Z
UID:24338-1779465600-1779469200@reunions.princeton.edu
SUMMARY:Glee Club Reunions Sing
DESCRIPTION:A transcription of the Finale of Beethoven’s Symphony No. 9 by Franz Liszt for chorus and two pianos. This performance features the Princeton University Glee Club with Glee Club alumni\, pianists Paul Autenried ’16 and Minju Lee ’16\, and vocal soloists Talia Czuchlewski ’26\, Gabrielle Liberman ’28\, Arturo Cru Urrutia ’27\, and Evan Shidler ’27. \n  \nSponsored by The Princeton University Glee Club
URL:https://reunions.princeton.edu/event/glee-club-reunions-sing/
LOCATION:Alexander Hall\, Richardson Auditorium\, Princeton University\, Princeton\, NJ\, 08540\, United States
ATTACH;FMTTYPE=image/jpeg:https://reunions.princeton.edu/wp-content/uploads/2026/04/54549687857_ef589889d6_o-scaled.jpg
END:VEVENT
BEGIN:VEVENT
DTSTART;TZID=America/New_York:20260522T120000
DTEND;TZID=America/New_York:20260522T130000
DTSTAMP:20260425T094159
CREATED:20260422T002026Z
LAST-MODIFIED:20260422T002921Z
UID:24619-1779451200-1779454800@reunions.princeton.edu
SUMMARY:Reunions: Collections Highlights Tour (12 p.m.) 
DESCRIPTION:Discover some of the Museum’s greatest hits in our galleries. \nExplore the Museum on a one-hour guided tour that features highlights in our galleries and the new building. From ancient to modern\, this tour introduces visitors to the incredible breadth of the Museum’s globe-spanning collections. Space is limited. First come\, first served. \nSponsored by the Princeton University Art Museum
URL:https://reunions.princeton.edu/event/reunions-collections-highlights-tour-12-p-m/
LOCATION:Princeton University Art Museum\, Information Desk
CATEGORIES:Arts
END:VEVENT
BEGIN:VEVENT
DTSTART;TZID=America/New_York:20260522T160000
DTEND;TZID=America/New_York:20260522T173000
DTSTAMP:20260425T094159
CREATED:20260419T120635Z
LAST-MODIFIED:20260420T204745Z
UID:24387-1779465600-1779471000@reunions.princeton.edu
SUMMARY:SPIA Alumni Gathering
DESCRIPTION:Sponsored by the School of Public and International Affairs (SPIA)
URL:https://reunions.princeton.edu/event/spia-alumni-gathering/
LOCATION:Robertson Hall\, Dodds Atrium and Shultz Dining Room\, Princeton University\, Princeton\, NJ\, 08540\, United States
CATEGORIES:Reception
END:VEVENT
BEGIN:VEVENT
DTSTART;TZID=America/New_York:20260522T160000
DTEND;TZID=America/New_York:20260522T173000
DTSTAMP:20260425T094159
CREATED:20260419T120657Z
LAST-MODIFIED:20260420T204744Z
UID:24418-1779465600-1779471000@reunions.princeton.edu
SUMMARY:SEAS Reunions Reception
DESCRIPTION:Sponsored by the School of Engineering and Applied Science
URL:https://reunions.princeton.edu/event/seas-reunions-reception/
LOCATION:Engineering Quad C-Wing\, Cafe\, Princeton University\, Princeton\, NJ\, 08540\, United States
CATEGORIES:Reception
END:VEVENT
BEGIN:VEVENT
DTSTART;TZID=America/New_York:20260522T160000
DTEND;TZID=America/New_York:20260522T180000
DTSTAMP:20260425T094159
CREATED:20260417T223011Z
LAST-MODIFIED:20260420T015702Z
UID:24042-1779465600-1779472800@reunions.princeton.edu
SUMMARY:ALPA Festejo
DESCRIPTION:Please join ALPA for our annual Festejo reception with light refreshments\, music\, friendly faces and quality time with your fellow tigres. We will also celebrate this year‘s distinguished alumni and student awardees. We look forward to seeing you there! \n  \nSponsored by The Association of Latino Princeton Alumni (ALPA)
URL:https://reunions.princeton.edu/event/alpa-festejo/
LOCATION:Chancellor Green\, Rotunda
CATEGORIES:Affinity Group Events,Reception
END:VEVENT
BEGIN:VEVENT
DTSTART;TZID=America/New_York:20260522T120000
DTEND;TZID=America/New_York:20260522T140000
DTSTAMP:20260425T094159
CREATED:20260417T223017Z
LAST-MODIFIED:20260420T013830Z
UID:24094-1779451200-1779458400@reunions.princeton.edu
SUMMARY:Campus Rec Alumni Lunch
DESCRIPTION:Campus Rec is excited to welcome all TeamRec staff alumni to Reunions this year! We hope you can join us for lunch in the Class of 1986 Fitness & Wellness Center. Please enter through the lower level of the Wellness Pavilion via the entrance near the outdoor basketball court. \nSponsored by Campus Recreation
URL:https://reunions.princeton.edu/event/campus-rec-alumni-lunch-2/
LOCATION:Class of 1986 Fitness and Wellness Center\, Studios A and B
CATEGORIES:Lunch
ATTACH;FMTTYPE=image/png:https://reunions.princeton.edu/wp-content/uploads/2026/04/Reunions-Image.png
END:VEVENT
BEGIN:VEVENT
DTSTART;TZID=America/New_York:20260522T120000
DTEND;TZID=America/New_York:20260522T140000
DTSTAMP:20260425T094159
CREATED:20260419T120552Z
LAST-MODIFIED:20260424T215903Z
UID:24327-1779451200-1779458400@reunions.princeton.edu
SUMMARY:Reunions Anthropology
DESCRIPTION:Join us during Princeton Reunions 2026 for an Anthropology celebration with lunch and cake! \nJoão Biehl\, Susan Dod Brown Professor and Chair of Anthropology\nWelcome | Department Updates and Future Initiatives \nAmelia Frank-Vitale\, Assistant Professor of Anthropology\nNew Books in Anthropology Lecture Series \nJeffrey Himpele *96\, Lecturer in Anthropology and Director of the Ethnographic Data Visualization (VizE) Lab\nAnthropology Goes to Mpala Research Center\, Kenya \nWasif Sami ’25\, Theater Director\, Choreographer\, and Socially Engaged Artist\nAnthropology and the Arts \nArzoo Osanloo\, Professor of Anthropology\nHuman Rights Initiative | Year One \nSponsored by the Department of Anthropology
URL:https://reunions.princeton.edu/event/reunions-anthropology/
LOCATION:Aaron Burr Hall\, Room 219\, Princeton University\, Princeton\, NJ\, 08540\, United States
ATTACH;FMTTYPE=image/jpeg:https://reunions.princeton.edu/wp-content/uploads/2026/04/Website-Graphic-scaled.jpg
END:VEVENT
BEGIN:VEVENT
DTSTART;TZID=America/New_York:20260522T160000
DTEND;TZID=America/New_York:20260522T180000
DTSTAMP:20260425T094159
CREATED:20260419T120557Z
LAST-MODIFIED:20260420T020340Z
UID:24341-1779465600-1779472800@reunions.princeton.edu
SUMMARY:Rocky RCA Reunion
DESCRIPTION:Sponsored by Rockefeller College
URL:https://reunions.princeton.edu/event/rocky-rca-reunion-3/
LOCATION:11 University Place\, Rocky Head of College House
END:VEVENT
BEGIN:VEVENT
DTSTART;TZID=America/New_York:20260522T120000
DTEND;TZID=America/New_York:20260522T150000
DTSTAMP:20260425T094159
CREATED:20260416T155644Z
LAST-MODIFIED:20260416T155644Z
UID:23863-1779451200-1779462000@reunions.princeton.edu
SUMMARY:Alumni Football Game
DESCRIPTION:Registration at 12:00 p.m. Walk-ups welcome. Game time 1:00 p.m. \nSponsored by Princeton Football and the Princeton Football Association
URL:https://reunions.princeton.edu/event/alumni-football-game/
LOCATION:Finney and Campbell Fields\, Princeton University\, Princeton\, NJ\, 08540\, United States
CATEGORIES:Athletic Event
ATTACH;FMTTYPE=image/jpeg:https://reunions.princeton.edu/wp-content/uploads/2023/04/football.jpeg
END:VEVENT
BEGIN:VEVENT
DTSTART;TZID=America/New_York:20260522T160000
DTEND;TZID=America/New_York:20260522T220000
DTSTAMP:20260425T094159
CREATED:20260419T120636Z
LAST-MODIFIED:20260420T204744Z
UID:24395-1779465600-1779487200@reunions.princeton.edu
SUMMARY:Friends of Princeton Track Reunions
DESCRIPTION:Sponsored by the Friends of Princeton Track and Field
URL:https://reunions.princeton.edu/event/friends-of-princeton-track-reunions/
LOCATION:Princeton Stadium\, Southwest Plaza
CATEGORIES:Dinner
END:VEVENT
BEGIN:VEVENT
DTSTART;TZID=America/New_York:20260522T123000
DTEND;TZID=America/New_York:20260522T134500
DTSTAMP:20260425T094159
CREATED:20260417T223004Z
LAST-MODIFIED:20260423T163435Z
UID:24014-1779453000-1779457500@reunions.princeton.edu
SUMMARY:Meeting the Moment as Princetonians: In the Nation’s Service and the Service of Humanity
DESCRIPTION:Princeton’s informal motto\, In the Nation’s Service and the Service of Humanity\, has never felt more urgent. At a moment when democratic institutions\, constitutional rights and the rule of law face unprecedented pressure\, what does it mean to live that motto? What can we do\, as lawyers\, organizers\, educators\, public servants\, artists and engaged citizens\, to protect what we value most? \nJoin us for a moderated panel discussion bringing together Princeton alumni and faculty across ideological perspectives and realms of influence for an honest and civil conversation about this pivotal moment in American democracy. In a time of great political divide\, this panel will serve as a demonstration of the kind of thoughtful\, principled discourse on which our democracy depends\, as well as a launching pad for collective action. \nSpeakers \nStephen Macedo *84 *87\, Laurance S. Rockefeller Professor of Politics and the University Center for Human Values \nRobert Doar ’83\, President\, American Enterprise Institute \nJared Polis ’96\, Governor of Colorado \nEmerson Sykes *11\, Senior Staff Attorney\, ACLU Speech\, Privacy\, and Technology Project \nIndrani Pal-Chaudhuri ’01\, Director\, Regeneration Generation; Founder\, Open Origin \n  \nSponsored by the Class of 2008
URL:https://reunions.princeton.edu/event/meeting-the-moment-as-princetonians-in-the-nations-service-and-the-service-of-humanity/
LOCATION:McCosh Hall\, Room 50
ATTACH;FMTTYPE=image/png:https://reunions.princeton.edu/wp-content/uploads/2026/04/Meeting-the-Moment-as-Princetonians-In-the-Nations-Service-and-the-Service-of-Humanity.png
END:VEVENT
BEGIN:VEVENT
DTSTART;TZID=America/New_York:20260522T163000
DTEND;TZID=America/New_York:20260522T180000
DTSTAMP:20260425T094159
CREATED:20260409T215306Z
LAST-MODIFIED:20260410T005234Z
UID:23790-1779467400-1779472800@reunions.princeton.edu
SUMMARY:Global Fellowships Reunions Reception
DESCRIPTION:Academic fellowship recipients and their friends\, and families are invited to drop in\, reconnect with fellow alumni and meet the newest recipients of awards\, including the Rhodes\, Marshall\, Gates\, Schwarzman\, Fulbright and many others! See you there! \nSponsored by the Office of International Programs (OIP) and Fellowship Advising
URL:https://reunions.princeton.edu/event/global-fellowships-reunions-reception/
LOCATION:Carl A. Fields Center for Equality\, Class of 1985 Room and Café
CATEGORIES:Open House
END:VEVENT
BEGIN:VEVENT
DTSTART;TZID=America/New_York:20260522T123000
DTEND;TZID=America/New_York:20260522T140000
DTSTAMP:20260425T094159
CREATED:20260417T223011Z
LAST-MODIFIED:20260423T161341Z
UID:24047-1779453000-1779458400@reunions.princeton.edu
SUMMARY:’76/’86 Sustainability Talks: Making Peace with Nature 2: Sustainable Practices for Home and Community
DESCRIPTION:Short high-impact cross-disciplinary talks with Q & A: \nDavid Antonioli ’86\, strategic advisor specializing in market-based solutions to environmental challenges and former CEO of Verra: “Financing Innovation: Lessons from the Carbon Markets” \nPaul Hutton ’76\, architect (FAIA and LEED Fellow)\, and Jamie Hess ’76\, retired entrepreneur currently helping nonprofits install renewable energy: “Renewables for Your Home: Plug-in Solar\, Batteries\, Heat Pumps\, EVs” \nSatish Myneni\, Professor\, Geosciences\, and Associated Faculty\, Civil & Environmental Engineering and HMEI: “Farming Healthy Soil” \nKatya Burns ’86\, Senior U.N. Advisor\, OneHealth: “Saving Wild Tigers from Extinction” \nHost: Kiku Loomis ’86\, Environmental Chair of the Class of 1986 \n  \nSponsored by the Class of 1976 and the Class of 1986
URL:https://reunions.princeton.edu/event/76-86-sustainability-talks-making-peace-with-nature-2-sustainable-practices-for-home-and-community/
LOCATION:McDonnell A01
CATEGORIES:Lecture
END:VEVENT
BEGIN:VEVENT
DTSTART;TZID=America/New_York:20260522T123000
DTEND;TZID=America/New_York:20260522T160000
DTSTAMP:20260425T094159
CREATED:20260419T120640Z
LAST-MODIFIED:20260420T204959Z
UID:24401-1779453000-1779465600@reunions.princeton.edu
SUMMARY:HMEI Reunions Panel and Reception
DESCRIPTION:Sponsored by the High Meadows Environmental Institute (HMEI)
URL:https://reunions.princeton.edu/event/hmei-reunions-panel-and-reception/
LOCATION:Briger Hall\, Room C112
CATEGORIES:Panel
END:VEVENT
BEGIN:VEVENT
DTSTART;TZID=America/New_York:20260522T130000
DTEND;TZID=America/New_York:20260522T134500
DTSTAMP:20260425T094159
CREATED:20260417T010128Z
LAST-MODIFIED:20260423T162402Z
UID:23936-1779454800-1779457500@reunions.princeton.edu
SUMMARY:Princeton Innovation Conference: Trends in Education and Innovation
DESCRIPTION:Connect with founders\, funders\, fuelers and faculty incubating\, commercializing and scaling impactful EdTech innovations. Hear from program alumni on panels\, through Q&A and in networking and mingling opportunities. Learn about Princeton’s Program in Teacher Preparation. \nFeaturing Ashley Jaffee \nSponsored by the Office of Innovation
URL:https://reunions.princeton.edu/event/princeton-innovation-conference-trends-in-education-and-innovation/
LOCATION:Friend Center\, Bowl 004\, Princeton University\, Princeton\, NJ\, 08540\, United States
ATTACH;FMTTYPE=image/jpeg:https://reunions.princeton.edu/wp-content/uploads/2026/04/Reunions-2026_Eventbrite-banner-scaled.jpg
END:VEVENT
BEGIN:VEVENT
DTSTART;TZID=America/New_York:20260522T130000
DTEND;TZID=America/New_York:20260522T134500
DTSTAMP:20260425T094159
CREATED:20260417T223007Z
LAST-MODIFIED:20260423T163229Z
UID:24017-1779454800-1779457500@reunions.princeton.edu
SUMMARY:Princeton Innovation Conference: NJ  and Regional Tech Ecosystem Resources
DESCRIPTION:Engage with founders who have leveraged New Jersey innovation ecosystem resources to start\, scale and supercharge their companies. On the panel\, founders will share their stories\, successes\, lessons learned and best practices for starting\, growing and commercializing their idea from innovation to impact in New Jersey and our region. \nSpeaker: Walida Ali \n  \nSponsored by the Office of Innovation
URL:https://reunions.princeton.edu/event/princeton-innovation-conference-nj-and-regional-tech-ecosystem-resources/
LOCATION:Friend Center\, Bowl 008\, Princeton University\, Princeton\, NJ\, 08540\, United States
ATTACH;FMTTYPE=image/jpeg:https://reunions.princeton.edu/wp-content/uploads/2026/04/Reunions-2026_Eventbrite-banner-scaled.jpg
END:VEVENT
END:VCALENDAR