BEGIN:VCALENDAR
VERSION:2.0
PRODID:-//Princeton Reunions - ECPv6.15.15//NONSGML v1.0//EN
CALSCALE:GREGORIAN
METHOD:PUBLISH
X-ORIGINAL-URL:https://reunions.princeton.edu
X-WR-CALDESC:Events for Princeton Reunions
REFRESH-INTERVAL;VALUE=DURATION:PT1H
X-Robots-Tag:noindex
X-PUBLISHED-TTL:PT1H
BEGIN:VTIMEZONE
TZID:America/New_York
BEGIN:DAYLIGHT
TZOFFSETFROM:-0500
TZOFFSETTO:-0400
TZNAME:EDT
DTSTART:20250309T070000
END:DAYLIGHT
BEGIN:STANDARD
TZOFFSETFROM:-0400
TZOFFSETTO:-0500
TZNAME:EST
DTSTART:20251102T060000
END:STANDARD
BEGIN:DAYLIGHT
TZOFFSETFROM:-0500
TZOFFSETTO:-0400
TZNAME:EDT
DTSTART:20260308T070000
END:DAYLIGHT
BEGIN:STANDARD
TZOFFSETFROM:-0400
TZOFFSETTO:-0500
TZNAME:EST
DTSTART:20261101T060000
END:STANDARD
BEGIN:DAYLIGHT
TZOFFSETFROM:-0500
TZOFFSETTO:-0400
TZNAME:EDT
DTSTART:20270314T070000
END:DAYLIGHT
BEGIN:STANDARD
TZOFFSETFROM:-0400
TZOFFSETTO:-0500
TZNAME:EST
DTSTART:20271107T060000
END:STANDARD
END:VTIMEZONE
BEGIN:VEVENT
DTSTART;TZID=America/New_York:20260523T160000
DTEND;TZID=America/New_York:20260523T193000
DTSTAMP:20260421T222757
CREATED:20260417T094025Z
LAST-MODIFIED:20260417T094025Z
UID:23943-1779552000-1779564600@reunions.princeton.edu
SUMMARY:Princeton Christian Fellowship Reception
DESCRIPTION:Sponsored by Princeton Christian Fellowship
URL:https://reunions.princeton.edu/event/princeton-christian-fellowship-reception-5/
LOCATION:Friend Center\, Convocation Room\, Princeton University\, Princeton\, NJ\, 08540\, United States
CATEGORIES:Reception
ATTACH;FMTTYPE=image/jpeg:https://reunions.princeton.edu/wp-content/uploads/2026/04/logo-PCF-1-CIRCLE-scaled.jpg
END:VEVENT
BEGIN:VEVENT
DTSTART;TZID=America/New_York:20260523T210000
DTEND;TZID=America/New_York:20260523T214500
DTSTAMP:20260421T222757
CREATED:20260409T215350Z
LAST-MODIFIED:20260410T001109Z
UID:23807-1779570000-1779572700@reunions.princeton.edu
SUMMARY:Fireworks!
DESCRIPTION:Sponsored by Alumni Engagement\, Office of Advancement
URL:https://reunions.princeton.edu/event/fireworks-5/
LOCATION:Princeton Stadium\, Powers Field\, Princeton University\, Princeton\, NJ\, 08540\, United States
CATEGORIES:Performance
ATTACH;FMTTYPE=image/jpeg:https://reunions.princeton.edu/wp-content/uploads/2018/11/fireworks-1.jpg
END:VEVENT
BEGIN:VEVENT
DTSTART;TZID=America/New_York:20260523T170000
DTEND;TZID=America/New_York:20260523T180000
DTSTAMP:20260421T222757
CREATED:20260420T155524Z
LAST-MODIFIED:20260420T155524Z
UID:24559-1779555600-1779559200@reunions.princeton.edu
SUMMARY:TigerNet Forums annual meet-up
DESCRIPTION:Join fellow TigerNet Forums users for an annual meet-up\, this year in a new location within Frist Campus Center.
URL:https://reunions.princeton.edu/event/tigernet-forums-annual-meet-up/
LOCATION:Frist Campus Center\, Cafe Vivian\, Princeton\, New Jersey\, 08540\, United States
END:VEVENT
BEGIN:VEVENT
DTSTART;TZID=America/New_York:20260523T170000
DTEND;TZID=America/New_York:20260523T190000
DTSTAMP:20260421T222757
CREATED:20260417T223020Z
LAST-MODIFIED:20260417T234019Z
UID:24097-1779555600-1779562800@reunions.princeton.edu
SUMMARY:Princeton Christian Alumni Prayer Room
DESCRIPTION:Amid the energy and busyness of Reunions\, we invite you into a quiet\, set-apart space for prayer\, worship and encountering God. This is an open space for Christians of all denominations and fellowships to come and abide in His presence — whether for a few minutes or an extended time. There will be live worship throughout\, along with space to: \n\nRead from the Bible\nPray individually or with others\nJournal and reflect\n\nLet this be your space to slow down\, listen and pray. \nAbout Princeton Christian Alumni (PCA) \nJoin our Princeton Christian Alumni Community here. \nPCA is an inter-fellowship group that began out of a desire to equip graduates to follow Christ for the long haul. Princeton Christian Alumni carry a remarkable spiritual legacy and opportunities for global impact. Yet many of us discover that the transition after graduation can be challenging. \nPCA hosts bi-annual retreats for Princeton graduates a refreshing space to connect with God\, experience meaningful Christian community and receive practical tools to grow in faith after graduating. \nWe’ll be hosting our next retreat from Sunday\, May 24\, to Monday\, May 25\, at the tail end of Reunions. \nClick this link to learn more and RSVP for the Reunions PCA Retreat. \nSponsored by Princeton Christian Alumni
URL:https://reunions.princeton.edu/event/princeton-christian-alumni-prayer-room/
LOCATION:Murray-Dodge Hall\, Room 104\, Princeton University\, Princeton\, NJ\, 08544\, United States
CATEGORIES:Faith
ATTACH;FMTTYPE=image/jpeg:https://reunions.princeton.edu/wp-content/uploads/2026/04/IMG_6493-scaled.jpeg
END:VEVENT
BEGIN:VEVENT
DTSTART;TZID=America/New_York:20260523T170000
DTEND;TZID=America/New_York:20260523T193000
DTSTAMP:20260421T222757
CREATED:20260422T002026Z
LAST-MODIFIED:20260422T002728Z
UID:24610-1779555600-1779564600@reunions.princeton.edu
SUMMARY:Manna Christian Fellowship Reunions Reception
DESCRIPTION:Sponsored by Manna Christian Fellowship
URL:https://reunions.princeton.edu/event/manna-christian-fellowship-reunions-reception/
LOCATION:Chancellor Green\, Lower Hyphen\, Princeton University\, Princeton\, NJ\, 08540\, United States
CATEGORIES:Faith
END:VEVENT
BEGIN:VEVENT
DTSTART;TZID=America/New_York:20260523T213000
DTEND;TZID=America/New_York:20260523T223000
DTSTAMP:20260421T222757
CREATED:20260419T120554Z
LAST-MODIFIED:20260420T020340Z
UID:24329-1779571800-1779575400@reunions.princeton.edu
SUMMARY:Footnotes Arch Sing
DESCRIPTION:Sponsored by the Footnotes
URL:https://reunions.princeton.edu/event/footnotes-arch-sing/
LOCATION:Bloomberg Arch\, Princeton University\, Princeton\, NJ\, 08540\, United States
END:VEVENT
BEGIN:VEVENT
DTSTART;TZID=America/New_York:20260523T220000
DTEND;TZID=America/New_York:20260523T230000
DTSTAMP:20260421T222757
CREATED:20260419T120552Z
LAST-MODIFIED:20260420T020341Z
UID:24325-1779573600-1779577200@reunions.princeton.edu
SUMMARY:Katzenjammers Alumni Arch
DESCRIPTION:Sponsored by the Princeton Katzenjammers
URL:https://reunions.princeton.edu/event/katzenjammers-alumni-arch/
LOCATION:East Pyne Courtyard
ATTACH;FMTTYPE=image/jpeg:https://reunions.princeton.edu/wp-content/uploads/2026/04/KJ-Alumni-Arch1_page-0001.jpg
END:VEVENT
BEGIN:VEVENT
DTSTART;TZID=America/New_York:20260523T220000
DTEND;TZID=America/New_York:20260524T000000
DTSTAMP:20260421T222757
CREATED:20260417T223004Z
LAST-MODIFIED:20260420T015317Z
UID:24007-1779573600-1779580800@reunions.princeton.edu
SUMMARY:Tigressions Alumni Arch Sing
DESCRIPTION:All former classes of Tigressions\, join us for a night of your favorite arrangements all over again! Perform your past solos and songs for your friends and family. With something for each class\, sing alongside current and former TGs in our annual alumni arch sing. \n  \nSponsored by the Princeton Tigressions
URL:https://reunions.princeton.edu/event/tigressions-alumni-arch-sing-4/
LOCATION:East Pyne Arch\, Princeton University\, Princeton\, NJ\, 08540\, United States
ATTACH;FMTTYPE=image/jpeg:https://reunions.princeton.edu/wp-content/uploads/2026/04/IMG_4175.jpeg
END:VEVENT
BEGIN:VEVENT
DTSTART;TZID=America/New_York:20260523T180000
DTEND;TZID=America/New_York:20260523T200000
DTSTAMP:20260421T222757
CREATED:20260422T002026Z
LAST-MODIFIED:20260422T003829Z
UID:24606-1779559200-1779566400@reunions.princeton.edu
SUMMARY:Footnotes Open House
DESCRIPTION:Sponsored by the Footnotes
URL:https://reunions.princeton.edu/event/footnotes-open-house-3/
LOCATION:Louis A. Simpson International Building\, Atrium-171
CATEGORIES:Open House
END:VEVENT
BEGIN:VEVENT
DTSTART;TZID=America/New_York:20260523T220000
DTEND;TZID=America/New_York:20260524T020000
DTSTAMP:20260421T222757
CREATED:20260417T102021Z
LAST-MODIFIED:20260418T125334Z
UID:23957-1779573600-1779588000@reunions.princeton.edu
SUMMARY:QPA Presents: A Ballroom Experience featuring True T Pgh and DJ Ariel ’08
DESCRIPTION:Back for a third year by popular demand! We’ll transform Whig Hall into the hottest Queer Ballroom Experience in the Garden State! Learn how to walk the runway\, give face and perform with True T PGH. \nTrue T PGH provides meaningful resources in support and celebration of queer people of color.⁠ \nDJ Ariel ’08 has performed globally from Milan\, Italy\, to Times Square in NYC to Las Vegas. https://soundcloud.com/djarielnyc \nSponsored by Queer Princeton Alumni (QPA)
URL:https://reunions.princeton.edu/event/qpa-presents-a-ballroom-experience-featuring-true-t-pgh-and-dj-ariel-08/
LOCATION:Whig Hall\, Senate Chamber\, Princeton University\, Princeton\, NJ\, 08540\, United States
CATEGORIES:Affinity Group Events,Reception
ATTACH;FMTTYPE=image/png:https://reunions.princeton.edu/wp-content/uploads/2026/04/Whig.png
END:VEVENT
BEGIN:VEVENT
DTSTART;TZID=America/New_York:20260523T220000
DTEND;TZID=America/New_York:20260524T020000
DTSTAMP:20260421T222757
CREATED:20260417T223011Z
LAST-MODIFIED:20260420T015703Z
UID:24053-1779573600-1779588000@reunions.princeton.edu
SUMMARY:QPA Presents: A Ballroom Experience featuring True T Pgh and DJ Ariel ’08
DESCRIPTION:Back for a third year by popular demand! We’ll transform Whig Hall into the hottest Queer Ballroom Experience in the Garden State! Learn how to walk the runway\, give face and perform with True T PGH. \nTrue T PGH provides meaningful resources in support and celebration of queer people of color.⁠ \nDJ Ariel ’08 has performed globally from Milan\, Italy\, to Times Square in NYC to Las Vegas. https://soundcloud.com/djarielnyc  \n  \nSponsored by Queer Princeton Alumni (QPA)
URL:https://reunions.princeton.edu/event/qpa-presents-a-ballroom-experience-featuring-true-t-pgh-and-dj-ariel-08-2/
LOCATION:Whig Hall\, Senate Chamber\, Princeton University\, Princeton\, NJ\, 08540\, United States
CATEGORIES:Affinity Group Events,Reception
ATTACH;FMTTYPE=image/png:https://reunions.princeton.edu/wp-content/uploads/2026/04/Dance2-1.png
END:VEVENT
BEGIN:VEVENT
DTSTART;TZID=America/New_York:20260523T230000
DTEND;TZID=America/New_York:20260524T000000
DTSTAMP:20260421T222757
CREATED:20260419T120552Z
LAST-MODIFIED:20260420T020341Z
UID:24324-1779577200-1779580800@reunions.princeton.edu
SUMMARY:Katzenjammers Alumni Post-Arch Social
DESCRIPTION:Sponsored by the Princeton Katzenjammers
URL:https://reunions.princeton.edu/event/katzenjammers-alumni-post-arch-social/
LOCATION:Chancellor Green\, Cafe (Lower Level)\, Princeton University\, Princeton\, NJ\, 08540\, United States
END:VEVENT
BEGIN:VEVENT
DTSTART;TZID=America/New_York:20260523T190000
DTEND;TZID=America/New_York:20260523T210000
DTSTAMP:20260421T222757
CREATED:20260417T223017Z
LAST-MODIFIED:20260418T011910Z
UID:24090-1779562800-1779570000@reunions.princeton.edu
SUMMARY:Triangle Show: Reunions Encore Performance
DESCRIPTION:You’re on the guest list for the wedding of the year! No expense will be spared in “Aisle Be Damned!” when a wealthy prodigal daughter walks her nobody-fiancé down the aisle — or will she? A-list guests\, royal ex-boyfriends and boy bands all have something to say about the match — or mismatch? — of the century. Do you plan to attend this new musical comedy about love\, trust funds and family dysfunction? We hope you’ll say “I do!” \nTickets at mccarter.org or the McCarter box office.  Saturday’s performance will let out in time for the Reunions Fireworks. \nSponsored by Triangle Club and the Trustees of Princeton Triangle Club
URL:https://reunions.princeton.edu/event/triangle-show-reunions-encore-performance-2/
LOCATION:Matthews Theatre\, McCarter Theatre Center\, Princeton University\, Princeton\, NJ\, 08540\, United States
CATEGORIES:Performance
ATTACH;FMTTYPE=image/jpeg:https://reunions.princeton.edu/wp-content/uploads/2026/04/Triangle-Club-11-9-25-0921-1.jpg
END:VEVENT
BEGIN:VEVENT
DTSTART;TZID=America/New_York:20260523T190000
DTEND;TZID=America/New_York:20260523T220000
DTSTAMP:20260421T222757
CREATED:20260417T223017Z
LAST-MODIFIED:20260418T000637Z
UID:24085-1779562800-1779573600@reunions.princeton.edu
SUMMARY:U-Store at Stadium Fireworks
DESCRIPTION:The U-Store — here for Reunions since 1905. This year\, for the first time\, we are here throughout the festivities. Visit us during the fireworks in the stadium at Gate 4. \nSponsored by the Princeton University Store \n 
URL:https://reunions.princeton.edu/event/u-store-at-stadium-fireworks/
LOCATION:Princeton University Stadium\, Gate 4
CATEGORIES:Open House
ATTACH;FMTTYPE=image/png:https://reunions.princeton.edu/wp-content/uploads/2026/04/u-store-logo-12.png
END:VEVENT
BEGIN:VEVENT
DTSTART;TZID=America/New_York:20260523T230000
DTEND;TZID=America/New_York:20260524T020000
DTSTAMP:20260421T222757
CREATED:20260419T120628Z
LAST-MODIFIED:20260420T204743Z
UID:24371-1779577200-1779588000@reunions.princeton.edu
SUMMARY:Chabad House\, Scharf Family BBQ
DESCRIPTION:Sponsored by Chabad House\, Scharf Family
URL:https://reunions.princeton.edu/event/chabad-house-scharf-family-bbq/
LOCATION:The Scharf Family Chabad House\, 15 Edwards Place
CATEGORIES:Reception
END:VEVENT
BEGIN:VEVENT
DTSTART;TZID=America/New_York:20260523T193000
DTEND;TZID=America/New_York:20260523T213000
DTSTAMP:20260421T222757
CREATED:20260422T002026Z
LAST-MODIFIED:20260422T002612Z
UID:24617-1779564600-1779571800@reunions.princeton.edu
SUMMARY:Manna Christian Fellowship Reunions Large Group
DESCRIPTION:Sponsored by Manna Christian Fellowship
URL:https://reunions.princeton.edu/event/manna-christian-fellowship-reunions-large-group/
LOCATION:East Pyne Hall\, Room 010\, NJ\, United States
END:VEVENT
BEGIN:VEVENT
DTSTART;TZID=America/New_York:20260523T203000
DTEND;TZID=America/New_York:20260523T210000
DTSTAMP:20260421T222757
CREATED:20260417T001420Z
LAST-MODIFIED:20260417T001420Z
UID:23916-1779568200-1779570000@reunions.princeton.edu
SUMMARY:The Princeton Wildcats Families Arch Sing
DESCRIPTION:Join the Wildcats for a special Arch Sing celebrating our graduating seniors! \nSponsored by the Princeton Wildcats A Cappella
URL:https://reunions.princeton.edu/event/the-princeton-wildcats-families-arch-sing/
LOCATION:Bloomberg Arch\, Princeton University\, Princeton\, NJ\, 08540\, United States
CATEGORIES:Arch Sing
ATTACH;FMTTYPE=image/png:https://reunions.princeton.edu/wp-content/uploads/2026/04/Screenshot-2026-04-15-at-8.35.31-PM1.png
END:VEVENT
BEGIN:VEVENT
DTSTART;TZID=America/New_York:20260523T211500
DTEND;TZID=America/New_York:20260523T220000
DTSTAMP:20260421T222757
CREATED:20260418T111146Z
LAST-MODIFIED:20260418T111221Z
UID:24148-1779570900-1779573600@reunions.princeton.edu
SUMMARY:Class of '76 Evil Genius Jam with Kevin Kaufman
DESCRIPTION:Sponsored by the Class of 1976
URL:https://reunions.princeton.edu/event/class-of-76-talent-show-2/
LOCATION:Blair-Joline Courtyard
END:VEVENT
BEGIN:VEVENT
DTSTART;TZID=America/New_York:20260523T235900
DTEND;TZID=America/New_York:20260523T235900
DTSTAMP:20260421T222757
CREATED:20260417T001657Z
LAST-MODIFIED:20260421T153535Z
UID:23917-1779580740-1779580740@reunions.princeton.edu
SUMMARY:Tigertones Arch Sing
DESCRIPTION:Sponsored by the Princeton Tigertones
URL:https://reunions.princeton.edu/event/tigertones-arch-sing-2/
LOCATION:Blair Arch\, Princeton\, NJ\, 08544\, United States
CATEGORIES:Arch Sing
ATTACH;FMTTYPE=image/jpeg:https://reunions.princeton.edu/wp-content/uploads/2026/04/Coral-Beach-Club-1.jpeg
END:VEVENT
BEGIN:VEVENT
DTSTART;TZID=America/New_York:20260524T090000
DTEND;TZID=America/New_York:20260524T120000
DTSTAMP:20260421T222757
CREATED:20260417T223011Z
LAST-MODIFIED:20260420T015702Z
UID:24050-1779613200-1779624000@reunions.princeton.edu
SUMMARY:Outdoor Action Leaders and Friends of OA Breakfast Reception
DESCRIPTION:Outdoor Action Leaders and Friends from all classes are invited to join us for our annual breakfast Reunions event. Come meet with old friends\, learn about the OA+ programs during the academic year\, Leader Training\, Frosh Trip\, and celebrate 52 years of Outdoor Action. Continental breakfast will be served. \nSpeakers \nRick Curtis ’79\, Director\, Outdoor Action Program \n  \nSponsored by the Outdoor Action Program (OA)
URL:https://reunions.princeton.edu/event/outdoor-action-leaders-and-friends-of-oa-breakfast-reception/
LOCATION:Chancellor Green\, Rotunda
CATEGORIES:Breakfast
ATTACH;FMTTYPE=image/png:https://reunions.princeton.edu/wp-content/uploads/2026/04/Reunions-Reception-1.png
END:VEVENT
BEGIN:VEVENT
DTSTART;TZID=America/New_York:20260524T100000
DTEND;TZID=America/New_York:20260524T113000
DTSTAMP:20260421T222757
CREATED:20260419T120635Z
LAST-MODIFIED:20260420T204745Z
UID:24388-1779616800-1779622200@reunions.princeton.edu
SUMMARY:SPIA Grad Major Reunions Brunch
DESCRIPTION:Sponsored by the School of Public and International Affairs (SPIA)
URL:https://reunions.princeton.edu/event/spia-grad-major-reunions-brunch/
LOCATION:Robertson Hall\, Shultz Dining Room\, Princeton University\, Princeton\, NJ\, 08540\, United States
CATEGORIES:Breakfast
END:VEVENT
BEGIN:VEVENT
DTSTART;TZID=America/New_York:20260524T080000
DTEND;TZID=America/New_York:20260524T090000
DTSTAMP:20260421T222757
CREATED:20260417T223004Z
LAST-MODIFIED:20260420T104926Z
UID:24010-1779609600-1779613200@reunions.princeton.edu
SUMMARY:Intro to Qi Gong
DESCRIPTION:This introductory class will be led by Qi Gong Master Nadia Linda Hole ‘75. \n  \nSponsored by the Class of 1975
URL:https://reunions.princeton.edu/event/intro-to-qi-gong-2/
LOCATION:Class of 1975 Walk\, Prospect Garden
ATTACH;FMTTYPE=image/jpeg:https://reunions.princeton.edu/wp-content/uploads/2026/04/20210113_0452482.jpeg
END:VEVENT
BEGIN:VEVENT
DTSTART;TZID=America/New_York:20260524T080000
DTEND;TZID=America/New_York:20260524T233000
DTSTAMP:20260421T222757
CREATED:20260417T223011Z
LAST-MODIFIED:20260420T184901Z
UID:24036-1779609600-1779665400@reunions.princeton.edu
SUMMARY:One Too Many: Stories of Princetonian Humanity and Mental Health
DESCRIPTION:“One Too Many: Stories of Princetonian Humanity and Mental Health” is a cross-generational exhibition hosted by the Alumni Mental Health Coalition to bring together alumni and current students to share lived experiences of mental health at Princeton and beyond. In collaboration with the Undergraduate Student Government’s Mental Health Committee\, this exhibition highlights stories across mediums — audio\, writing\, visual art and live performances — to foster community\, reflection and connection. Grounded in the One Too Many student campaign\, the project aims to create resonance across generations while advocating for more responsive and compassionate approaches to student well-being. \nFeaturing \nThe Princeton Footnotes\nOld NasSoul \n  \nSponsored by the Princeton Alumni Mental Health Coalition and the USG Mental Health Committee
URL:https://reunions.princeton.edu/event/one-too-many-stories-of-princetonian-humanity-and-mental-health/
LOCATION:Frist Campus Center\, Reading Room\, 3rd Floor
ATTACH;FMTTYPE=image/png:https://reunions.princeton.edu/wp-content/uploads/2026/04/Exhibition-Flyer3.png
END:VEVENT
BEGIN:VEVENT
DTSTART;TZID=America/New_York:20260524T090000
DTEND;TZID=America/New_York:20260524T110000
DTSTAMP:20260421T222757
CREATED:20260419T120630Z
LAST-MODIFIED:20260420T193855Z
UID:24377-1779613200-1779620400@reunions.princeton.edu
SUMMARY:Chabad House\, Scharf Family Open Cha-fe
DESCRIPTION:Sponsored by Chabad House\, Scharf Family
URL:https://reunions.princeton.edu/event/chabad-house-scharf-family-open-cha-fe/
LOCATION:The Scharf Family Chabad House\, 15 Edwards Place
CATEGORIES:Open House
END:VEVENT
BEGIN:VEVENT
DTSTART;TZID=America/New_York:20260524T160000
DTEND;TZID=America/New_York:20260524T170000
DTSTAMP:20260421T222757
CREATED:20260419T120552Z
LAST-MODIFIED:20260420T020340Z
UID:24323-1779638400-1779642000@reunions.princeton.edu
SUMMARY:Roaring 20 Senior Parents Arch
DESCRIPTION:Enjoy our Senior Parents Arch performance for Reunions. \nSponsored by Roaring 20
URL:https://reunions.princeton.edu/event/roaring-20-senior-parents-arch/
LOCATION:Blair Arch\, Princeton\, NJ\, 08544\, United States
END:VEVENT
END:VCALENDAR