BEGIN:VCALENDAR
VERSION:2.0
PRODID:-//Princeton Reunions - ECPv6.15.15//NONSGML v1.0//EN
CALSCALE:GREGORIAN
METHOD:PUBLISH
X-ORIGINAL-URL:https://reunions.princeton.edu
X-WR-CALDESC:Events for Princeton Reunions
REFRESH-INTERVAL;VALUE=DURATION:PT1H
X-Robots-Tag:noindex
X-PUBLISHED-TTL:PT1H
BEGIN:VTIMEZONE
TZID:America/New_York
BEGIN:DAYLIGHT
TZOFFSETFROM:-0500
TZOFFSETTO:-0400
TZNAME:EDT
DTSTART:20250309T070000
END:DAYLIGHT
BEGIN:STANDARD
TZOFFSETFROM:-0400
TZOFFSETTO:-0500
TZNAME:EST
DTSTART:20251102T060000
END:STANDARD
BEGIN:DAYLIGHT
TZOFFSETFROM:-0500
TZOFFSETTO:-0400
TZNAME:EDT
DTSTART:20260308T070000
END:DAYLIGHT
BEGIN:STANDARD
TZOFFSETFROM:-0400
TZOFFSETTO:-0500
TZNAME:EST
DTSTART:20261101T060000
END:STANDARD
BEGIN:DAYLIGHT
TZOFFSETFROM:-0500
TZOFFSETTO:-0400
TZNAME:EDT
DTSTART:20270314T070000
END:DAYLIGHT
BEGIN:STANDARD
TZOFFSETFROM:-0400
TZOFFSETTO:-0500
TZNAME:EST
DTSTART:20271107T060000
END:STANDARD
END:VTIMEZONE
BEGIN:VEVENT
DTSTART;TZID=America/New_York:20260522T154500
DTEND;TZID=America/New_York:20260522T170000
DTSTAMP:20260423T063744
CREATED:20260417T133702Z
LAST-MODIFIED:20260422T200721Z
UID:23973-1779464700-1779469200@reunions.princeton.edu
SUMMARY:Alumni-Faculty Forum — The New Rules of Global Commerce: Tariffs\, Trade and the Future of Business
DESCRIPTION:Sponsored by the Alumni Association of Princeton University \nModerator:\nLayna Mosley\nDirector\, Princeton Sovereign Finance Lab; Professor of Politics and International Affairs \n  \nPanelists:      \nMark Mazo ’71\nSenior Counsel Emeritus\, Hogan Lovells US LLC \nJoshua Bolten ’76\nCEO\, Business Roundtable \nPeter Orszag ’91\nCEO and Chairman\, Lazard \nThea Kendler ’96\nPartner and Co-Lead\, Sanctions and Export Controls\, Mayer Brown LLP \n\nMODERATOR\nLayna Mosley\nLayna Mosley is professor of politics and international affairs in the School of Public and International Affairs (SPIA) and the Department of Politics at Princeton University. She founded and directs the Princeton Sovereign Finance Lab\, which conducts policy-relevant research on the domestic and international politics related to government borrowing and debt. Mosley also directs the Niehaus Center for Globalization and Governance\, and she serves as associate chair of the Department of Politics. Mosley’s research focuses on the politics of the global economy\, including finance as well as trade. She is author of two books\, “Global Capital and National Governments” (Cambridge University Press) and “Labor Rights and Multinational Production” (Cambridge University Press)\, as well as dozens of peer-reviewed academic articles. Mosley is a life member of the Council on Foreign Relations. \nPANELISTS\nMark Mazo ’71\nMark Mazo was a senior partner at the Hogan Lovells law firm\, specializing in cross-border business transactions involving Europe and the Middle East. Working from Washington\, D.C.\, and Paris\, Mazo was the senior legal adviser to a prominent Saudi royal family member and recognized\, high-profile international investor and philanthropist; Mazo advised on his numerous investments in Europe\, the U.S.\, the U.K. and Asia\, and on many of his significant Middle East ventures. Mazo also regularly advised leading European aerospace and technology companies on significant cross-border investments and ventures. He helped establish the Paris office of the legacy Hogan & Hartson law firm\, headed its international business transactions practice and served as managing partner of its Abu Dhabi office. A School of Public and International Affairs major at Princeton and Harvard Law School graduate\, Mazo is the father of four Princeton graduates and father-in-law of another.  \nJoshua Bolten ’76\nIn his role at Business Roundtable\, Joshua Bolten leads an association of more than 200 CEOs of America’s leading companies. Bolten’s 20 years of government service include eight years in the White House under President George W. Bush as chief of staff (2006-09)\, director of the Office of Management and Budget (2003-06) and deputy chief of staff for policy (2001-03). For the preceding two years\, he was policy director of the Bush 2000 presidential campaign. Bolten’s previous private sector experience includes work at Goldman Sachs in London and O’Melveny & Myers in Washington\, D.C. Bolten received his undergraduate degree from Princeton in 1976 and his law degree from Stanford in 1980. He is a member of the boards of Emerson Electric Co.\, the Aspen Institute\, the ONE Campaign and Princeton University. \nPeter Orszag ’91\nPeter Orszag has led Lazard\, a preeminent global financial advisory and asset management firm\, and been a board director since October 2023. With a commitment to strategic growth and innovation\, Orszag has raised the firm’s relevance and ambitions to provide the most sophisticated and differentiated advice and investment solutions for clients. Prior to his current role\, Orszag served as CEO of Lazard’s financial advisory business and global co-head of its healthcare practice. In the Obama administration\, he served as the director of the Office of Management and Budget\, and before that\, as the director of the Congressional Budget Office. Orszag has also made notable contributions to academic literature\, including hundreds of published articles and several books. He graduated summa cum laude in economics from Princeton and obtained a Ph.D. in economics from the London School of Economics\, which he attended as a Marshall Scholar. \nThea Kendler ’96\nThea Kendler is a partner with Mayer Brown\, where she leads the law firm’s global sanctions and export controls practice\, advising clients on international trade and national security regulatory compliance and federal investigations. Kendler joined Mayer Brown after more than 20 years in U.S. government service\, culminating in Senate confirmation as assistant secretary for Export Administration (2021-25) at the Commerce Department. As assistant secretary\, she led policymaking and implementation of export controls\, with a focus on emerging technologies\, artificial intelligence\, China and Russia. Earlier in her career\, Kendler served as a Justice Department national security prosecutor and as export controls regulatory and enforcement counsel at the Commerce Department. At Princeton\, Kendler majored in the School of Public and International Affairs with certificates in Japan and China studies and language study in the Princeton in Ishikawa and Princeton in Beijing programs. She received her law degree from the University of Pennsylvania.
URL:https://reunions.princeton.edu/event/the-new-rules-of-global-commerce-tariffs-trade-and-the-future-of-business/
LOCATION:McCosh 50\, Princeton University\, Princeton\, NJ\, 08540\, United States
CATEGORIES:Alumni-Faculty Forum
ATTACH;FMTTYPE=image/jpeg:https://reunions.princeton.edu/wp-content/uploads/2026/04/aff_banner.jpg
END:VEVENT
BEGIN:VEVENT
DTSTART;TZID=America/New_York:20260522T194500
DTEND;TZID=America/New_York:20260522T210000
DTSTAMP:20260423T063744
CREATED:20260419T120626Z
LAST-MODIFIED:20260420T020341Z
UID:24361-1779479100-1779483600@reunions.princeton.edu
SUMMARY:Shabbat Dinner
DESCRIPTION:Sponsored by the Center for Jewish Life (CJL)
URL:https://reunions.princeton.edu/event/shabbat-dinner-2/
LOCATION:Center for Jewish Life\, Mandelbaum Family Dining Pavilion
END:VEVENT
BEGIN:VEVENT
DTSTART;TZID=America/New_York:20260522T160000
DTEND;TZID=America/New_York:20260522T170000
DTSTAMP:20260423T063744
CREATED:20260416T214744Z
LAST-MODIFIED:20260416T214744Z
UID:23888-1779465600-1779469200@reunions.princeton.edu
SUMMARY:Princeton Journeys Reception at Reunions
DESCRIPTION:Raise a glass to exploration and lifelong learning at the Princeton Journeys Reunions reception. Whether you are a longtime journeyer or just eager to learn more about our educational travel programs\, all are invited to mingle and swap travel stories with fellow Tigers. Be sure to stay for the announcement of our 2027 roster of programs. \nSponsored by Princeton Journeys
URL:https://reunions.princeton.edu/event/princeton-journeys-reception-at-reunions/
LOCATION:Prospect House\, Alan Turing *38 Garden Room\, Princeton\, 08544\, United States
CATEGORIES:Reception
ATTACH;FMTTYPE=image/jpeg:https://reunions.princeton.edu/wp-content/uploads/2026/04/2025Reunions_052325_3296.jpg
END:VEVENT
BEGIN:VEVENT
DTSTART;TZID=America/New_York:20260522T160000
DTEND;TZID=America/New_York:20260522T173000
DTSTAMP:20260423T063744
CREATED:20260416T164537Z
LAST-MODIFIED:20260416T164614Z
UID:23865-1779465600-1779471000@reunions.princeton.edu
SUMMARY:Princeton ReachOut 56-81-06
DESCRIPTION:Join the 25th anniversary celebration of the Princeton ReachOut 56-81-06 Fellowship Program! \nSponsored by Princeton ReachOut 56-81-06
URL:https://reunions.princeton.edu/event/princeton-reachout-56-81-06/
LOCATION:Whig Hall\, Oakes Lounge\, Princeton University\, Princeton\, NJ\, 08540\, United States
ATTACH;FMTTYPE=image/avif:https://reunions.princeton.edu/wp-content/uploads/2026/04/e788fb_5bfbd4e6246d4cecb965d416c874b791mv2.avif
END:VEVENT
BEGIN:VEVENT
DTSTART;TZID=America/New_York:20260522T160000
DTEND;TZID=America/New_York:20260522T173000
DTSTAMP:20260423T063744
CREATED:20260416T215006Z
LAST-MODIFIED:20260416T215006Z
UID:23892-1779465600-1779471000@reunions.princeton.edu
SUMMARY:Princeton Dante Reunion
DESCRIPTION:Seminar discussion of “Paradiso” 10\, 11 and 12. \nSponsored by Princeton Dante Reunion
URL:https://reunions.princeton.edu/event/princeton-dante-reunion/
LOCATION:East Pyne Hall\, Room 205\, Princeton University\, Princeton\, NJ\, 08540\, United States
CATEGORIES:Gathering
ATTACH;FMTTYPE=image/jpeg:https://reunions.princeton.edu/wp-content/uploads/2026/04/DanteBotticelli.jpg
END:VEVENT
BEGIN:VEVENT
DTSTART;TZID=America/New_York:20260522T160000
DTEND;TZID=America/New_York:20260522T173000
DTSTAMP:20260423T063744
CREATED:20260417T094636Z
LAST-MODIFIED:20260417T094636Z
UID:23948-1779465600-1779471000@reunions.princeton.edu
SUMMARY:Disiac Reunions Show
DESCRIPTION:Disiac presents our Reunions performance! We are an acclaimed contemporary\, jazz funk and hip-hop-based dance group. The show will feature student-choreographed pieces from our fall and spring shows. We hope to see you at the show! \nSponsored by Disiac Dance Company
URL:https://reunions.princeton.edu/event/disiac-reunions-show-3/
LOCATION:Frist Campus Center\, Film and Performance Theatre\, Room 301\, Princeton University\, Princeton\, NJ\, 08540\, United States
CATEGORIES:Performance
ATTACH;FMTTYPE=image/jpeg:https://reunions.princeton.edu/wp-content/uploads/2026/04/1.jpeg
END:VEVENT
BEGIN:VEVENT
DTSTART;TZID=America/New_York:20260522T160000
DTEND;TZID=America/New_York:20260522T173000
DTSTAMP:20260423T063744
CREATED:20260417T223004Z
LAST-MODIFIED:20260420T014300Z
UID:24008-1779465600-1779471000@reunions.princeton.edu
SUMMARY:ODUS Reception
DESCRIPTION:Former student leaders are invited to attend a reception hosted by the Office of the Dean of Undergraduate Students. Connect back with ODUS staff and classmates over light refreshments and beverages. \nSponsored by the Dean of Undergraduate Students (ODUS)
URL:https://reunions.princeton.edu/event/odus-reception/
LOCATION:Clio/Whig Tiger Plaza
END:VEVENT
BEGIN:VEVENT
DTSTART;TZID=America/New_York:20260522T160000
DTEND;TZID=America/New_York:20260522T180000
DTSTAMP:20260423T063744
CREATED:20260417T223017Z
LAST-MODIFIED:20260417T235720Z
UID:24080-1779465600-1779472800@reunions.princeton.edu
SUMMARY:Whitman College Alumni Student Leader Reunions Reception
DESCRIPTION:We warmly invite you to a cozy get-together at the Whitman Head House! It’s been a while since many of us have connected\, and we understand how meaningful it can be to reunite with old friends and build new connections. Join us for an evening filled with shared memories\, laughter and heartfelt conversations about our journeys since graduation. We truly can’t wait to see you and catch up on all that has happened in your lives! \nSponsored by Whitman College
URL:https://reunions.princeton.edu/event/whitman-college-alumni-student-leader-reunions-reception/
LOCATION:Whitman House\, 25 Edwards Place
CATEGORIES:Reception
ATTACH;FMTTYPE=image/png:https://reunions.princeton.edu/wp-content/uploads/2026/04/wcdownload.png
END:VEVENT
BEGIN:VEVENT
DTSTART;TZID=America/New_York:20260522T160000
DTEND;TZID=America/New_York:20260522T180000
DTSTAMP:20260423T063744
CREATED:20260419T120632Z
LAST-MODIFIED:20260420T204924Z
UID:24382-1779465600-1779472800@reunions.princeton.edu
SUMMARY:FWI Reception for Alumni and Friends
DESCRIPTION:Sponsored by the Princeton Faith & Work Initiative (FWI)
URL:https://reunions.princeton.edu/event/fwi-reception-for-alumni-and-friends/
LOCATION:At Earth‘s End\, 45 Spring St. (enter via Illy Cafe)
CATEGORIES:Reception
END:VEVENT
BEGIN:VEVENT
DTSTART;TZID=America/New_York:20260522T200000
DTEND;TZID=America/New_York:20260522T230000
DTSTAMP:20260423T063744
CREATED:20260409T215322Z
LAST-MODIFIED:20260410T005234Z
UID:23800-1779480000-1779490800@reunions.princeton.edu
SUMMARY:Orange and Black Oasis: Jazz\, Zero-Proof Drinks and Desserts
DESCRIPTION:Enjoy nonalcoholic cocktails\, soft drinks and sweet treats while live jazz sets the mood at this laid-back Reunions gathering. \nSponsored by Alumni Engagement\, Office of Advancement
URL:https://reunions.princeton.edu/event/orange-and-black-oasis-jazz-zero-proof-drinks-and-desserts-4/
LOCATION:Frist Campus Center\, Cafe Vivian\, Princeton\, New Jersey\, 08540\, United States
END:VEVENT
BEGIN:VEVENT
DTSTART;TZID=America/New_York:20260522T200000
DTEND;TZID=America/New_York:20260522T230000
DTSTAMP:20260423T063744
CREATED:20260419T120628Z
LAST-MODIFIED:20260420T204743Z
UID:24372-1779480000-1779490800@reunions.princeton.edu
SUMMARY:Chabad House\, Scharf Family Shabbat Dinner
DESCRIPTION:Sponsored by Chabad House\, Scharf Family
URL:https://reunions.princeton.edu/event/chabad-house-scharf-family-shabbat-dinner/
LOCATION:The Scharf Family Chabad House\, 15 Edwards Place
CATEGORIES:Dinner
END:VEVENT
BEGIN:VEVENT
DTSTART;TZID=America/New_York:20260522T163000
DTEND;TZID=America/New_York:20260522T183000
DTSTAMP:20260423T063744
CREATED:20260416T155447Z
LAST-MODIFIED:20260416T155447Z
UID:23862-1779467400-1779474600@reunions.princeton.edu
SUMMARY:Social Mixer for Progressive Alumni and Students
DESCRIPTION:Sponsored by Princeton Progressives
URL:https://reunions.princeton.edu/event/social-mixer-for-progressive-alumni-and-students-4/
LOCATION:Terrace Club\, Princeton University\, Princeton\, NJ\, 08540\, United States
CATEGORIES:Reception
ATTACH;FMTTYPE=image/jpeg:https://reunions.princeton.edu/wp-content/uploads/2025/04/PPro-Logo.jpg
END:VEVENT
BEGIN:VEVENT
DTSTART;TZID=America/New_York:20260522T204500
DTEND;TZID=America/New_York:20260522T220000
DTSTAMP:20260423T063744
CREATED:20260419T120554Z
LAST-MODIFIED:20260420T020339Z
UID:24328-1779482700-1779487200@reunions.princeton.edu
SUMMARY:Laughs Under the Arch: AJPA’s 1st Annual Reunions Comedy Show
DESCRIPTION:Sponsored by the Association of Jewish Princeton Alumni (AJPA)
URL:https://reunions.princeton.edu/event/laughs-under-the-arch-ajpas-1st-annual-reunions-comedy-show/
LOCATION:East Pyne Arch\, Princeton University\, Princeton\, NJ\, 08540\, United States
CATEGORIES:Affinity Group Events
END:VEVENT
BEGIN:VEVENT
DTSTART;TZID=America/New_York:20260522T170000
DTEND;TZID=America/New_York:20260522T180000
DTSTAMP:20260423T063744
CREATED:20260422T002026Z
LAST-MODIFIED:20260422T003508Z
UID:24614-1779469200-1779472800@reunions.princeton.edu
SUMMARY:PIIRS Reception
DESCRIPTION:Sponsored by the Princeton Institute for International and Regional Studies (PIIRS)
URL:https://reunions.princeton.edu/event/piirs-reception-3/
LOCATION:Louis A. Simpson International Building\, Atrium – 171\, Princeton University\, Princeton\, NJ\, 08540\, United States
END:VEVENT
BEGIN:VEVENT
DTSTART;TZID=America/New_York:20260522T210000
DTEND;TZID=America/New_York:20260522T223000
DTSTAMP:20260423T063744
CREATED:20260417T223004Z
LAST-MODIFIED:20260420T015317Z
UID:24006-1779483600-1779489000@reunions.princeton.edu
SUMMARY:Tigerlilies Alumni Arch Sing
DESCRIPTION:Sponsored by the Tigerlilies
URL:https://reunions.princeton.edu/event/tigerlilies-alumni-arch-sing-6/
LOCATION:Blair Arch\, Princeton\, NJ\, 08544\, United States
ATTACH;FMTTYPE=image/jpeg:https://reunions.princeton.edu/wp-content/uploads/2026/04/A.jpeg
END:VEVENT
BEGIN:VEVENT
DTSTART;TZID=America/New_York:20260522T170000
DTEND;TZID=America/New_York:20260522T183000
DTSTAMP:20260423T063744
CREATED:20260417T223020Z
LAST-MODIFIED:20260417T233817Z
UID:24095-1779469200-1779474600@reunions.princeton.edu
SUMMARY:Global Health Program Alumni Reception
DESCRIPTION:Please join us at a reception to celebrate the Global Health Program’s graduating seniors and catch up with returning alumni! \nSponsored by Global Health at Princeton
URL:https://reunions.princeton.edu/event/global-health-program-alumni-reception-2/
LOCATION:Julis Romo Rabinowitz Building\, 117 Forum\, Princeton University\, Princeton\, NJ\, 08540\, United States
CATEGORIES:Reception
END:VEVENT
BEGIN:VEVENT
DTSTART;TZID=America/New_York:20260522T170000
DTEND;TZID=America/New_York:20260522T190000
DTSTAMP:20260423T063744
CREATED:20260417T002829Z
LAST-MODIFIED:20260417T002829Z
UID:23922-1779469200-1779476400@reunions.princeton.edu
SUMMARY:Astro Reunions Happy Hour
DESCRIPTION:Please join us for a special Reunions Sherry Hour in Peyton Hall\, Grand Central. All are welcome: undergraduate\, graduate student\, postdoc and researcher alumni of the Princeton Department of Astrophysical Sciences. Come hear how the department is growing and connect with others! \nSponsored by the Department of Astrophysical Sciences
URL:https://reunions.princeton.edu/event/astro-reunions-happy-hour/
LOCATION:Peyton Hall\, Grand Central Room\, Princeton University\, Princeton\, NJ\, 08540\, United States
CATEGORIES:Gathering
END:VEVENT
BEGIN:VEVENT
DTSTART;TZID=America/New_York:20260522T170000
DTEND;TZID=America/New_York:20260522T190000
DTSTAMP:20260423T063744
CREATED:20260419T120657Z
LAST-MODIFIED:20260420T204835Z
UID:24419-1779469200-1779476400@reunions.princeton.edu
SUMMARY:Episcopal Church at Princeton Reunion
DESCRIPTION:Sponsored by the Episcopal Church at Princeton University
URL:https://reunions.princeton.edu/event/episcopal-church-at-princeton-reunion-2/
LOCATION:Procter House\, 53 University Place\, Princeton University\, Princeton\, NJ\, 08540\, United States
CATEGORIES:Reception
END:VEVENT
BEGIN:VEVENT
DTSTART;TZID=America/New_York:20260522T171500
DTEND;TZID=America/New_York:20260522T181500
DTSTAMP:20260423T063744
CREATED:20260417T223014Z
LAST-MODIFIED:20260418T012617Z
UID:24060-1779470100-1779473700@reunions.princeton.edu
SUMMARY:Chapel Choir Alumni Sing
DESCRIPTION:University Chapel Choir alumni will gather for an exciting musical reunion across generations. With Nicole Aldrich\, director of chapel music\, and Eric Plutz\, University organist. Free and open to the public. No tickets required. \nSponsored by the Office of Religious Life and the Princeton University Chapel Choir
URL:https://reunions.princeton.edu/event/chapel-choir-alumni-sing-4/
LOCATION:Princeton University Chapel\, NJ\, United States
CATEGORIES:Concert
ATTACH;FMTTYPE=image/jpeg:https://reunions.princeton.edu/wp-content/uploads/2026/04/Were-a-family-3.jpg
END:VEVENT
BEGIN:VEVENT
DTSTART;TZID=America/New_York:20260522T213000
DTEND;TZID=America/New_York:20260522T223000
DTSTAMP:20260423T063744
CREATED:20260419T120623Z
LAST-MODIFIED:20260420T020341Z
UID:24353-1779485400-1779489000@reunions.princeton.edu
SUMMARY:Shavuot Morning Service: Conservative
DESCRIPTION:Sponsored by the Center for Jewish Life (CJL) and Koach Minyan
URL:https://reunions.princeton.edu/event/shavuot-morning-service-conservative/
LOCATION:Center for Jewish Life\, Wilf Hall
END:VEVENT
BEGIN:VEVENT
DTSTART;TZID=America/New_York:20260522T183000
DTEND;TZID=America/New_York:20260522T193000
DTSTAMP:20260423T063744
CREATED:20260417T223017Z
LAST-MODIFIED:20260418T012027Z
UID:24091-1779474600-1779478200@reunions.princeton.edu
SUMMARY:Triangle Club: Donor Reception
DESCRIPTION:Premium Ticket holders and Friends of Triangle donors are invited to a pre-show reception. Enjoy drinks and hors d’ouevres\, say hello to Triangle’s Trustees and help welcome our newest alums — the Class of 2026 — to the long kickline! \nSponsored by Triangle Club and the Trustees of Princeton Triangle Club
URL:https://reunions.princeton.edu/event/triangle-club-donor-reception/
LOCATION:McCarter Theatre\, Lockwood Lobby
CATEGORIES:Reception
ATTACH;FMTTYPE=image/webp:https://reunions.princeton.edu/wp-content/uploads/2026/04/triangle2.webp
END:VEVENT
BEGIN:VEVENT
DTSTART;TZID=America/New_York:20260522T183000
DTEND;TZID=America/New_York:20260522T193000
DTSTAMP:20260423T063744
CREATED:20260418T110148Z
LAST-MODIFIED:20260418T110148Z
UID:24136-1779474600-1779478200@reunions.princeton.edu
SUMMARY:DiSiac Dance Company Alumni Dinner
DESCRIPTION:Sponsored by Disiac Dance Company
URL:https://reunions.princeton.edu/event/disiac-dance-company-alumni-dinner/
LOCATION:Julis Romo Rabinowitz Building\, Room 217\, Princeton University\, Princeton\, NJ\, 08540\, United States
ATTACH;FMTTYPE=image/jpeg:https://reunions.princeton.edu/wp-content/uploads/2019/05/disiac-1.jpg
END:VEVENT
BEGIN:VEVENT
DTSTART;TZID=America/New_York:20260522T230000
DTEND;TZID=America/New_York:20260523T010000
DTSTAMP:20260423T063744
CREATED:20260419T120554Z
LAST-MODIFIED:20260420T204745Z
UID:24332-1779490800-1779498000@reunions.princeton.edu
SUMMARY:Roaring 20 Arch Sing
DESCRIPTION:Sponsored by Roaring 20
URL:https://reunions.princeton.edu/event/roaring-20-arch-sing/
LOCATION:East Pyne Arch\, Princeton University\, Princeton\, NJ\, 08540\, United States
END:VEVENT
BEGIN:VEVENT
DTSTART;TZID=America/New_York:20260522T190000
DTEND;TZID=America/New_York:20260522T213000
DTSTAMP:20260423T063744
CREATED:20260418T110707Z
LAST-MODIFIED:20260418T110707Z
UID:24142-1779476400-1779485400@reunions.princeton.edu
SUMMARY:Rise Up Folk Singing Reunion
DESCRIPTION:Sponsored by Rise Up Princeton
URL:https://reunions.princeton.edu/event/rise-up-folk-singing-reunion/
LOCATION:Clio/Whig Tiger Plaza
END:VEVENT
BEGIN:VEVENT
DTSTART;TZID=America/New_York:20260522T193000
DTEND;TZID=America/New_York:20260522T223000
DTSTAMP:20260423T063744
CREATED:20260417T010712Z
LAST-MODIFIED:20260417T010712Z
UID:23939-1779478200-1779489000@reunions.princeton.edu
SUMMARY:Princeton Christian Fellowship Worship
DESCRIPTION:A gathered time of worship and fellowship. \nSponsored by Princeton Christian Fellowship
URL:https://reunions.princeton.edu/event/princeton-christian-fellowship-worship-4/
LOCATION:Friend Center\, 101
CATEGORIES:Faith
ATTACH;FMTTYPE=image/jpeg:https://reunions.princeton.edu/wp-content/uploads/2026/04/logo-PCF-1-CIRCLE-scaled.jpg
END:VEVENT
BEGIN:VEVENT
DTSTART;TZID=America/New_York:20260522T200000
DTEND;TZID=America/New_York:20260522T210000
DTSTAMP:20260423T063744
CREATED:20260417T002655Z
LAST-MODIFIED:20260417T002655Z
UID:23920-1779480000-1779483600@reunions.princeton.edu
SUMMARY:Old NasSoul Alumni Arch Sing
DESCRIPTION:Join Old NasSoul\, Princeton’s premier R&B and soul group for a night of music that feeds the soul! Founded in 2006\, we sing groovy classics by artists ranging from Stevie Wonder to Alicia Keys to Daniel Caesar. \nSponsored by Old NasSoul
URL:https://reunions.princeton.edu/event/old-nassoul-alumni-arch-sing-3/
LOCATION:Blair Arch\, Princeton\, NJ\, 08544\, United States
CATEGORIES:Arch Sing
ATTACH;FMTTYPE=image/jpeg:https://reunions.princeton.edu/wp-content/uploads/2026/04/c908f5ff-37db-442a-b32c-84496b243ec0-scaled.jpeg
END:VEVENT
BEGIN:VEVENT
DTSTART;TZID=America/New_York:20260522T200000
DTEND;TZID=America/New_York:20260522T220000
DTSTAMP:20260423T063744
CREATED:20260417T223017Z
LAST-MODIFIED:20260418T011740Z
UID:24089-1779480000-1779487200@reunions.princeton.edu
SUMMARY:Triangle Show: Reunions Encore Performance
DESCRIPTION:You’re on the guest list for the wedding of the year! No expense will be spared in “Aisle Be Damned!” when a wealthy prodigal daughter walks her nobody-fiancé down the aisle — or will she? A-list guests\, royal ex-boyfriends and boy bands all have something to say about the match — or mismatch? — of the century. Do you plan to attend this new musical comedy about love\, trust funds and family dysfunction? We hope you’ll say “I do!” Tickets at the McCarter box office. \nSponsored by Triangle Club and the Trustees of Princeton Triangle Club
URL:https://reunions.princeton.edu/event/triangle-show-reunions-encore-performance/
LOCATION:Matthews Theatre\, McCarter Theatre Center\, Princeton University\, Princeton\, NJ\, 08540\, United States
CATEGORIES:Performance
ATTACH;FMTTYPE=image/jpeg:https://reunions.princeton.edu/wp-content/uploads/2026/04/Triangle-Club-11-9-25-0553.jpg
END:VEVENT
BEGIN:VEVENT
DTSTART;TZID=America/New_York:20260522T210000
DTEND;TZID=America/New_York:20260522T220000
DTSTAMP:20260423T063744
CREATED:20260417T001225Z
LAST-MODIFIED:20260417T001225Z
UID:23913-1779483600-1779487200@reunions.princeton.edu
SUMMARY:The Princeton Wildcats Alumni Arch Sing
DESCRIPTION:Join the Wildcats for their Alumni Arch Sing\, where current members and alumni come together to perform favorites from across the group’s repertoire. \nSponsored by the Princeton Wildcats A Cappella
URL:https://reunions.princeton.edu/event/the-princeton-wildcats-alumni-arch-sing/
LOCATION:Bloomberg Arch\, Princeton University\, Princeton\, NJ\, 08540\, United States
CATEGORIES:Arch Sing
ATTACH;FMTTYPE=image/png:https://reunions.princeton.edu/wp-content/uploads/2026/04/Screenshot-2026-04-15-at-8.35.31-PM1.png
END:VEVENT
BEGIN:VEVENT
DTSTART;TZID=America/New_York:20260522T220000
DTEND;TZID=America/New_York:20260523T000000
DTSTAMP:20260423T063744
CREATED:20260417T223017Z
LAST-MODIFIED:20260418T011541Z
UID:24088-1779487200-1779494400@reunions.princeton.edu
SUMMARY:Triangle Alumni Reunion
DESCRIPTION:Everybody back on stage! Triangle Alumni and supporters are invited to the McCarter stage following Friday night’s Triangle Show to enjoy food\, fellowship and featured performances from major Reunions. Open mic follows\, so brush up those lyrics! Accompanist provided. A must-do event for every Triangle Club alum! \nSponsored by Triangle Club and the Trustees of Princeton Triangle Club
URL:https://reunions.princeton.edu/event/triangle-alumni-reunion-2/
LOCATION:Matthews Theatre\, McCarter Theatre Center\, Princeton University\, Princeton\, NJ\, 08540\, United States
CATEGORIES:Performance
ATTACH;FMTTYPE=image/webp:https://reunions.princeton.edu/wp-content/uploads/2026/04/triangle2.webp
END:VEVENT
BEGIN:VEVENT
DTSTART;TZID=America/New_York:20260523T080000
DTEND;TZID=America/New_York:20260523T090000
DTSTAMP:20260423T063744
CREATED:20260417T223004Z
LAST-MODIFIED:20260420T015318Z
UID:24009-1779523200-1779526800@reunions.princeton.edu
SUMMARY:Intro to Qi Gong
DESCRIPTION:This introductory class will be led by Qi Gong Master Nadia Linda Hole ‘75. \n  \nSponsored by the Class of 1975
URL:https://reunions.princeton.edu/event/intro-to-qi-gong/
LOCATION:Class of 1975 Walk\, Prospect Garden
ATTACH;FMTTYPE=image/jpeg:https://reunions.princeton.edu/wp-content/uploads/2026/04/20210113_0452482.jpeg
END:VEVENT
END:VCALENDAR