BEGIN:VCALENDAR
VERSION:2.0
PRODID:-//Princeton Reunions - ECPv6.15.15//NONSGML v1.0//EN
CALSCALE:GREGORIAN
METHOD:PUBLISH
X-ORIGINAL-URL:https://reunions.princeton.edu
X-WR-CALDESC:Events for Princeton Reunions
REFRESH-INTERVAL;VALUE=DURATION:PT1H
X-Robots-Tag:noindex
X-PUBLISHED-TTL:PT1H
BEGIN:VTIMEZONE
TZID:America/New_York
BEGIN:DAYLIGHT
TZOFFSETFROM:-0500
TZOFFSETTO:-0400
TZNAME:EDT
DTSTART:20250309T070000
END:DAYLIGHT
BEGIN:STANDARD
TZOFFSETFROM:-0400
TZOFFSETTO:-0500
TZNAME:EST
DTSTART:20251102T060000
END:STANDARD
BEGIN:DAYLIGHT
TZOFFSETFROM:-0500
TZOFFSETTO:-0400
TZNAME:EDT
DTSTART:20260308T070000
END:DAYLIGHT
BEGIN:STANDARD
TZOFFSETFROM:-0400
TZOFFSETTO:-0500
TZNAME:EST
DTSTART:20261101T060000
END:STANDARD
BEGIN:DAYLIGHT
TZOFFSETFROM:-0500
TZOFFSETTO:-0400
TZNAME:EDT
DTSTART:20270314T070000
END:DAYLIGHT
BEGIN:STANDARD
TZOFFSETFROM:-0400
TZOFFSETTO:-0500
TZNAME:EST
DTSTART:20271107T060000
END:STANDARD
END:VTIMEZONE
BEGIN:VEVENT
DTSTART;TZID=America/New_York:20260522T140000
DTEND;TZID=America/New_York:20260522T150000
DTSTAMP:20260421T175229
CREATED:20260419T120630Z
LAST-MODIFIED:20260420T204743Z
UID:24375-1779458400-1779462000@reunions.princeton.edu
SUMMARY:Chabad House\, Scharf Family Shavuot Ice Cream Party & Torah Reading
DESCRIPTION:Sponsored by Chabad House\, Scharf Family
URL:https://reunions.princeton.edu/event/chabad-house-scharf-family-shavuot-ice-cream-party-torah-reading/
LOCATION:The Scharf Family Chabad House\, 15 Edwards Place
CATEGORIES:Faith
END:VEVENT
BEGIN:VEVENT
DTSTART;TZID=America/New_York:20260522T150000
DTEND;TZID=America/New_York:20260522T160000
DTSTAMP:20260421T175229
CREATED:20260419T120628Z
LAST-MODIFIED:20260420T204743Z
UID:24374-1779462000-1779465600@reunions.princeton.edu
SUMMARY:The Role of Judaism in My Personal and Professional Life:  Karen Karniol-Tambour ’06 in Conversation with Jacob Loewenstein ’11
DESCRIPTION:Sponsored by Chabad House\, Scharf Family
URL:https://reunions.princeton.edu/event/the-role-of-judaism-in-my-personal-and-professional-life-karen-karniol-tambour-06-in-conversation-with-jacob-loewenstein-11/
LOCATION:The Scharf Family Chabad House\, 15 Edwards Place
CATEGORIES:Lecture
END:VEVENT
BEGIN:VEVENT
DTSTART;TZID=America/New_York:20260522T193000
DTEND;TZID=America/New_York:20260522T200000
DTSTAMP:20260421T175229
CREATED:20260419T120628Z
LAST-MODIFIED:20260420T204743Z
UID:24373-1779478200-1779480000@reunions.princeton.edu
SUMMARY:Chabad House\, Scharf Family Cocktails Mixer
DESCRIPTION:Sponsored by Chabad House\, Scharf Family
URL:https://reunions.princeton.edu/event/chabad-house-scharf-family-cocktails-mixer/
LOCATION:The Scharf Family Chabad House\, 15 Edwards Place
CATEGORIES:Gathering
END:VEVENT
BEGIN:VEVENT
DTSTART;TZID=America/New_York:20260522T200000
DTEND;TZID=America/New_York:20260522T230000
DTSTAMP:20260421T175229
CREATED:20260419T120628Z
LAST-MODIFIED:20260420T204743Z
UID:24372-1779480000-1779490800@reunions.princeton.edu
SUMMARY:Chabad House\, Scharf Family Shabbat Dinner
DESCRIPTION:Sponsored by Chabad House\, Scharf Family
URL:https://reunions.princeton.edu/event/chabad-house-scharf-family-shabbat-dinner/
LOCATION:The Scharf Family Chabad House\, 15 Edwards Place
CATEGORIES:Dinner
END:VEVENT
BEGIN:VEVENT
DTSTART;TZID=America/New_York:20260523T123000
DTEND;TZID=America/New_York:20260523T143000
DTSTAMP:20260421T175229
CREATED:20260419T120630Z
LAST-MODIFIED:20260420T204743Z
UID:24376-1779539400-1779546600@reunions.princeton.edu
SUMMARY:Chabad House\, Scharf Family Shabbat Lunch
DESCRIPTION:Sponsored by Chabad House\, Scharf Family
URL:https://reunions.princeton.edu/event/chabad-house-scharf-family-shabbat-lunch/
LOCATION:The Scharf Family Chabad House\, 15 Edwards Place
CATEGORIES:Lunch
END:VEVENT
BEGIN:VEVENT
DTSTART;TZID=America/New_York:20260523T230000
DTEND;TZID=America/New_York:20260524T020000
DTSTAMP:20260421T175229
CREATED:20260419T120628Z
LAST-MODIFIED:20260420T204743Z
UID:24371-1779577200-1779588000@reunions.princeton.edu
SUMMARY:Chabad House\, Scharf Family BBQ
DESCRIPTION:Sponsored by Chabad House\, Scharf Family
URL:https://reunions.princeton.edu/event/chabad-house-scharf-family-bbq/
LOCATION:The Scharf Family Chabad House\, 15 Edwards Place
CATEGORIES:Reception
END:VEVENT
BEGIN:VEVENT
DTSTART;TZID=America/New_York:20260524T090000
DTEND;TZID=America/New_York:20260524T110000
DTSTAMP:20260421T175229
CREATED:20260419T120630Z
LAST-MODIFIED:20260420T193855Z
UID:24377-1779613200-1779620400@reunions.princeton.edu
SUMMARY:Chabad House\, Scharf Family Open Cha-fe
DESCRIPTION:Sponsored by Chabad House\, Scharf Family
URL:https://reunions.princeton.edu/event/chabad-house-scharf-family-open-cha-fe/
LOCATION:The Scharf Family Chabad House\, 15 Edwards Place
CATEGORIES:Open House
END:VEVENT
END:VCALENDAR