BEGIN:VCALENDAR
VERSION:2.0
PRODID:-//Princeton Reunions - ECPv6.15.15//NONSGML v1.0//EN
CALSCALE:GREGORIAN
METHOD:PUBLISH
X-ORIGINAL-URL:https://reunions.princeton.edu
X-WR-CALDESC:Events for Princeton Reunions
REFRESH-INTERVAL;VALUE=DURATION:PT1H
X-Robots-Tag:noindex
X-PUBLISHED-TTL:PT1H
BEGIN:VTIMEZONE
TZID:America/New_York
BEGIN:DAYLIGHT
TZOFFSETFROM:-0500
TZOFFSETTO:-0400
TZNAME:EDT
DTSTART:20250309T070000
END:DAYLIGHT
BEGIN:STANDARD
TZOFFSETFROM:-0400
TZOFFSETTO:-0500
TZNAME:EST
DTSTART:20251102T060000
END:STANDARD
BEGIN:DAYLIGHT
TZOFFSETFROM:-0500
TZOFFSETTO:-0400
TZNAME:EDT
DTSTART:20260308T070000
END:DAYLIGHT
BEGIN:STANDARD
TZOFFSETFROM:-0400
TZOFFSETTO:-0500
TZNAME:EST
DTSTART:20261101T060000
END:STANDARD
BEGIN:DAYLIGHT
TZOFFSETFROM:-0500
TZOFFSETTO:-0400
TZNAME:EDT
DTSTART:20270314T070000
END:DAYLIGHT
BEGIN:STANDARD
TZOFFSETFROM:-0400
TZOFFSETTO:-0500
TZNAME:EST
DTSTART:20271107T060000
END:STANDARD
END:VTIMEZONE
BEGIN:VEVENT
DTSTART;TZID=America/New_York:20260522T170000
DTEND;TZID=America/New_York:20260522T190000
DTSTAMP:20260423T081647
CREATED:20260417T002829Z
LAST-MODIFIED:20260417T002829Z
UID:23922-1779469200-1779476400@reunions.princeton.edu
SUMMARY:Astro Reunions Happy Hour
DESCRIPTION:Please join us for a special Reunions Sherry Hour in Peyton Hall\, Grand Central. All are welcome: undergraduate\, graduate student\, postdoc and researcher alumni of the Princeton Department of Astrophysical Sciences. Come hear how the department is growing and connect with others! \nSponsored by the Department of Astrophysical Sciences
URL:https://reunions.princeton.edu/event/astro-reunions-happy-hour/
LOCATION:Peyton Hall\, Grand Central Room\, Princeton University\, Princeton\, NJ\, 08540\, United States
CATEGORIES:Gathering
END:VEVENT
END:VCALENDAR