BEGIN:VCALENDAR
VERSION:2.0
PRODID:-//Princeton Reunions - ECPv6.15.15//NONSGML v1.0//EN
CALSCALE:GREGORIAN
METHOD:PUBLISH
X-ORIGINAL-URL:https://reunions.princeton.edu
X-WR-CALDESC:Events for Princeton Reunions
REFRESH-INTERVAL;VALUE=DURATION:PT1H
X-Robots-Tag:noindex
X-PUBLISHED-TTL:PT1H
BEGIN:VTIMEZONE
TZID:America/New_York
BEGIN:DAYLIGHT
TZOFFSETFROM:-0500
TZOFFSETTO:-0400
TZNAME:EDT
DTSTART:20250309T070000
END:DAYLIGHT
BEGIN:STANDARD
TZOFFSETFROM:-0400
TZOFFSETTO:-0500
TZNAME:EST
DTSTART:20251102T060000
END:STANDARD
BEGIN:DAYLIGHT
TZOFFSETFROM:-0500
TZOFFSETTO:-0400
TZNAME:EDT
DTSTART:20260308T070000
END:DAYLIGHT
BEGIN:STANDARD
TZOFFSETFROM:-0400
TZOFFSETTO:-0500
TZNAME:EST
DTSTART:20261101T060000
END:STANDARD
BEGIN:DAYLIGHT
TZOFFSETFROM:-0500
TZOFFSETTO:-0400
TZNAME:EDT
DTSTART:20270314T070000
END:DAYLIGHT
BEGIN:STANDARD
TZOFFSETFROM:-0400
TZOFFSETTO:-0500
TZNAME:EST
DTSTART:20271107T060000
END:STANDARD
END:VTIMEZONE
BEGIN:VEVENT
DTSTART;TZID=America/New_York:20260523T170000
DTEND;TZID=America/New_York:20260523T193000
DTSTAMP:20260422T015036
CREATED:20260422T002026Z
LAST-MODIFIED:20260422T002728Z
UID:24610-1779555600-1779564600@reunions.princeton.edu
SUMMARY:Manna Christian Fellowship Reunions Reception
DESCRIPTION:Sponsored by Manna Christian Fellowship
URL:https://reunions.princeton.edu/event/manna-christian-fellowship-reunions-reception/
LOCATION:Chancellor Green\, Lower Hyphen\, Princeton University\, Princeton\, NJ\, 08540\, United States
CATEGORIES:Faith
END:VEVENT
BEGIN:VEVENT
DTSTART;TZID=America/New_York:20260523T193000
DTEND;TZID=America/New_York:20260523T213000
DTSTAMP:20260422T015036
CREATED:20260422T002026Z
LAST-MODIFIED:20260422T002612Z
UID:24617-1779564600-1779571800@reunions.princeton.edu
SUMMARY:Manna Christian Fellowship Reunions Large Group
DESCRIPTION:Sponsored by Manna Christian Fellowship
URL:https://reunions.princeton.edu/event/manna-christian-fellowship-reunions-large-group/
LOCATION:East Pyne Hall\, Room 010\, NJ\, United States
END:VEVENT
END:VCALENDAR