BEGIN:VCALENDAR
VERSION:2.0
PRODID:-//Princeton Reunions - ECPv6.15.15//NONSGML v1.0//EN
CALSCALE:GREGORIAN
METHOD:PUBLISH
X-ORIGINAL-URL:https://reunions.princeton.edu
X-WR-CALDESC:Events for Princeton Reunions
REFRESH-INTERVAL;VALUE=DURATION:PT1H
X-Robots-Tag:noindex
X-PUBLISHED-TTL:PT1H
BEGIN:VTIMEZONE
TZID:America/New_York
BEGIN:DAYLIGHT
TZOFFSETFROM:-0500
TZOFFSETTO:-0400
TZNAME:EDT
DTSTART:20250309T070000
END:DAYLIGHT
BEGIN:STANDARD
TZOFFSETFROM:-0400
TZOFFSETTO:-0500
TZNAME:EST
DTSTART:20251102T060000
END:STANDARD
BEGIN:DAYLIGHT
TZOFFSETFROM:-0500
TZOFFSETTO:-0400
TZNAME:EDT
DTSTART:20260308T070000
END:DAYLIGHT
BEGIN:STANDARD
TZOFFSETFROM:-0400
TZOFFSETTO:-0500
TZNAME:EST
DTSTART:20261101T060000
END:STANDARD
BEGIN:DAYLIGHT
TZOFFSETFROM:-0500
TZOFFSETTO:-0400
TZNAME:EDT
DTSTART:20270314T070000
END:DAYLIGHT
BEGIN:STANDARD
TZOFFSETFROM:-0400
TZOFFSETTO:-0500
TZNAME:EST
DTSTART:20271107T060000
END:STANDARD
END:VTIMEZONE
BEGIN:VEVENT
DTSTART;TZID=America/New_York:20260521T210000
DTEND;TZID=America/New_York:20260521T220000
DTSTAMP:20260423T051114
CREATED:20260419T120626Z
LAST-MODIFIED:20260420T020341Z
UID:24364-1779397200-1779400800@reunions.princeton.edu
SUMMARY:Shavuot Holiday Dinner
DESCRIPTION:Sponsored by the Center for Jewish Life (CJL)
URL:https://reunions.princeton.edu/event/shavuot-holiday-dinner/
LOCATION:Center for Jewish Life\, Mandelbaum Family Dining Pavilion
END:VEVENT
BEGIN:VEVENT
DTSTART;TZID=America/New_York:20260522T120000
DTEND;TZID=America/New_York:20260522T133000
DTSTAMP:20260423T051114
CREATED:20260419T120626Z
LAST-MODIFIED:20260420T020341Z
UID:24363-1779451200-1779456600@reunions.princeton.edu
SUMMARY:Shavuot Holiday Lunch
DESCRIPTION:Sponsored by the Center for Jewish Life (CJL)
URL:https://reunions.princeton.edu/event/shavuot-holiday-lunch/
LOCATION:Center for Jewish Life\, Mandelbaum Family Dining Pavilion
END:VEVENT
BEGIN:VEVENT
DTSTART;TZID=America/New_York:20260522T194500
DTEND;TZID=America/New_York:20260522T210000
DTSTAMP:20260423T051114
CREATED:20260419T120626Z
LAST-MODIFIED:20260420T020341Z
UID:24361-1779479100-1779483600@reunions.princeton.edu
SUMMARY:Shabbat Dinner
DESCRIPTION:Sponsored by the Center for Jewish Life (CJL)
URL:https://reunions.princeton.edu/event/shabbat-dinner-2/
LOCATION:Center for Jewish Life\, Mandelbaum Family Dining Pavilion
END:VEVENT
BEGIN:VEVENT
DTSTART;TZID=America/New_York:20260523T120000
DTEND;TZID=America/New_York:20260523T133000
DTSTAMP:20260423T051114
CREATED:20260419T120626Z
LAST-MODIFIED:20260420T020341Z
UID:24362-1779537600-1779543000@reunions.princeton.edu
SUMMARY:Shabbat Lunch
DESCRIPTION:Sponsored by the Center for Jewish Life (CJL)
URL:https://reunions.princeton.edu/event/shabbat-lunch-3/
LOCATION:Center for Jewish Life\, Mandelbaum Family Dining Pavilion
END:VEVENT
END:VCALENDAR