BEGIN:VCALENDAR
VERSION:2.0
PRODID:-//Princeton Reunions - ECPv6.15.15//NONSGML v1.0//EN
CALSCALE:GREGORIAN
METHOD:PUBLISH
X-WR-CALNAME:Princeton Reunions
X-ORIGINAL-URL:https://reunions.princeton.edu
X-WR-CALDESC:Events for Princeton Reunions
REFRESH-INTERVAL;VALUE=DURATION:PT1H
X-Robots-Tag:noindex
X-PUBLISHED-TTL:PT1H
BEGIN:VTIMEZONE
TZID:America/New_York
BEGIN:DAYLIGHT
TZOFFSETFROM:-0500
TZOFFSETTO:-0400
TZNAME:EDT
DTSTART:20250309T070000
END:DAYLIGHT
BEGIN:STANDARD
TZOFFSETFROM:-0400
TZOFFSETTO:-0500
TZNAME:EST
DTSTART:20251102T060000
END:STANDARD
BEGIN:DAYLIGHT
TZOFFSETFROM:-0500
TZOFFSETTO:-0400
TZNAME:EDT
DTSTART:20260308T070000
END:DAYLIGHT
BEGIN:STANDARD
TZOFFSETFROM:-0400
TZOFFSETTO:-0500
TZNAME:EST
DTSTART:20261101T060000
END:STANDARD
BEGIN:DAYLIGHT
TZOFFSETFROM:-0500
TZOFFSETTO:-0400
TZNAME:EDT
DTSTART:20270314T070000
END:DAYLIGHT
BEGIN:STANDARD
TZOFFSETFROM:-0400
TZOFFSETTO:-0500
TZNAME:EST
DTSTART:20271107T060000
END:STANDARD
END:VTIMEZONE
BEGIN:VEVENT
DTSTART;TZID=America/New_York:20260522T133000
DTEND;TZID=America/New_York:20260522T143000
DTSTAMP:20260424T060956
CREATED:20260417T223017Z
LAST-MODIFIED:20260423T153101Z
UID:24092-1779456600-1779460200@reunions.princeton.edu
SUMMARY:Rewind: A Documentary Filmmaker’s Journey
DESCRIPTION:A retrospective look at the work of an award-winning documentary director and cinematographer focusing on the impact of documentaries in advancing change. Themes include sustainability\, from natural history films for National Geographic and Discovery Channel\, to social documentaries such as “Native American Green” about tribal architects designing sustainable housing and cultural centers across the country\, to efforts to make media matter. \nSpeakers \nRich Neill ’71\, Director\, Adventure Pictures \n  \nSponsored by the Class of 1971
URL:https://reunions.princeton.edu/event/rewind-a-documentary-filmmakers-journey/
LOCATION:East Pyne 010
CATEGORIES:Lecture
END:VEVENT
END:VCALENDAR