BEGIN:VCALENDAR
VERSION:2.0
PRODID:-//Princeton Reunions - ECPv6.15.15//NONSGML v1.0//EN
CALSCALE:GREGORIAN
METHOD:PUBLISH
X-WR-CALNAME:Princeton Reunions
X-ORIGINAL-URL:https://reunions.princeton.edu
X-WR-CALDESC:Events for Princeton Reunions
REFRESH-INTERVAL;VALUE=DURATION:PT1H
X-Robots-Tag:noindex
X-PUBLISHED-TTL:PT1H
BEGIN:VTIMEZONE
TZID:America/New_York
BEGIN:DAYLIGHT
TZOFFSETFROM:-0500
TZOFFSETTO:-0400
TZNAME:EDT
DTSTART:20250309T070000
END:DAYLIGHT
BEGIN:STANDARD
TZOFFSETFROM:-0400
TZOFFSETTO:-0500
TZNAME:EST
DTSTART:20251102T060000
END:STANDARD
BEGIN:DAYLIGHT
TZOFFSETFROM:-0500
TZOFFSETTO:-0400
TZNAME:EDT
DTSTART:20260308T070000
END:DAYLIGHT
BEGIN:STANDARD
TZOFFSETFROM:-0400
TZOFFSETTO:-0500
TZNAME:EST
DTSTART:20261101T060000
END:STANDARD
BEGIN:DAYLIGHT
TZOFFSETFROM:-0500
TZOFFSETTO:-0400
TZNAME:EDT
DTSTART:20270314T070000
END:DAYLIGHT
BEGIN:STANDARD
TZOFFSETFROM:-0400
TZOFFSETTO:-0500
TZNAME:EST
DTSTART:20271107T060000
END:STANDARD
END:VTIMEZONE
BEGIN:VEVENT
DTSTART;TZID=America/New_York:20260522T100000
DTEND;TZID=America/New_York:20260522T101500
DTSTAMP:20260420T052108
CREATED:20260417T223007Z
LAST-MODIFIED:20260420T015316Z
UID:24022-1779444000-1779444900@reunions.princeton.edu
SUMMARY:Princeton Innovation Conference: Kick-off\, Welcome Remarks
DESCRIPTION:Speakers \nChristine Galib \n  \nSponsored by the Office of Innovation
URL:https://reunions.princeton.edu/event/princeton-innovation-conference-kick-off-welcome-remarks/
LOCATION:Friend Center\, Room 101
END:VEVENT
BEGIN:VEVENT
DTSTART;TZID=America/New_York:20260522T101500
DTEND;TZID=America/New_York:20260522T110000
DTSTAMP:20260420T052108
CREATED:20260417T223007Z
LAST-MODIFIED:20260420T015316Z
UID:24021-1779444900-1779447600@reunions.princeton.edu
SUMMARY:Princeton Innovation Conference: Princeton-India Global Innovation Panel
DESCRIPTION:The Princeton-India Global Innovation Panel will feature dynamic US-India innovation networks across FinTech\, climate tech and more broadly venture capital grounded on the understanding that the future of innovation is global. The session will: (A) Showcase Princeton student internships with leading startups in Bengaluru\, India\, through the M.S. Chadha Center for Global India’s Princeton-India Entrepreneurship Program (PIEP) (B) Share insights from Princeton alumni and diaspora founders and investors on high-impact US-India innovation enterprises. Join us for real-world experiences\, a student showcase and a forward-looking conversation on the future of global innovation partnerships. \nSpeakers \nRachna Kalra\, Moderator; Manager\, M.S. Chadha Center for Global India \nProfessor Anu Ramaswami\, Faculty Director\, Chadha Center for Global India \nAlisha Aggarwal\, Coordinator\, Chadha Center for Global India \n  \nSponsored by the Office of Innovation
URL:https://reunions.princeton.edu/event/princeton-innovation-conference-princeton-india-global-innovation-panel/
LOCATION:Friend Center\, Room 101
END:VEVENT
BEGIN:VEVENT
DTSTART;TZID=America/New_York:20260522T130000
DTEND;TZID=America/New_York:20260522T134500
DTSTAMP:20260420T052108
CREATED:20260418T110456Z
LAST-MODIFIED:20260418T150559Z
UID:24139-1779454800-1779457500@reunions.princeton.edu
SUMMARY:Princeton Innovation Conference: HealthTech\, Life Sciences\, MedTech\, BioTech
DESCRIPTION:Sponsored by the Office of Innovation
URL:https://reunions.princeton.edu/event/princeton-innovation-conference-at-reunions-2026-healthtech-life-sciences-medtech-biotech/
LOCATION:Friend Center\, Room 101
END:VEVENT
BEGIN:VEVENT
DTSTART;TZID=America/New_York:20260522T140000
DTEND;TZID=America/New_York:20260522T150000
DTSTAMP:20260420T052108
CREATED:20260417T223007Z
LAST-MODIFIED:20260420T015316Z
UID:24020-1779458400-1779462000@reunions.princeton.edu
SUMMARY:Princeton Innovation Conference: Office of Innovation Opening Lake-side Chat
DESCRIPTION:Speakers \nSashank Rishyasringa ’06\, Co-Founder\, Axio \nCraig B. Arnold\, Vice Dean for Innovation \n  \nSponsored by the Office of Innovation
URL:https://reunions.princeton.edu/event/princeton-innovation-conference-office-of-innovation-opening-lake-side-chat/
LOCATION:Friend Center\, Room 101
END:VEVENT
BEGIN:VEVENT
DTSTART;TZID=America/New_York:20260522T111500
DTEND;TZID=America/New_York:20260522T120000
DTSTAMP:20260420T052108
CREATED:20260417T223007Z
LAST-MODIFIED:20260420T014209Z
UID:24019-1779448500-1779451200@reunions.princeton.edu
SUMMARY:Princeton Innovation Conference at Reunions 2026: AI Innovations
DESCRIPTION:Speakers \nJeffrey Oakman *03 \nLiat Krawczyk \n  \nSponsored by the Office of Innovation
URL:https://reunions.princeton.edu/event/princeton-innovation-conference-at-reunions-2026-ai-innovations/
LOCATION:Friend Center\, Room 101
END:VEVENT
BEGIN:VEVENT
DTSTART;TZID=America/New_York:20260523T103000
DTEND;TZID=America/New_York:20260523T114500
DTSTAMP:20260420T052108
CREATED:20260409T215306Z
LAST-MODIFIED:20260410T005234Z
UID:23787-1779532200-1779536700@reunions.princeton.edu
SUMMARY:Draft to Deal: How to Make Your Book a Reality
DESCRIPTION:Have a draft in a drawer? Learn about turning your scribbles into a published book at PAW’s annual Reunions panel. Moderator and author Gabriel Debenedetti ’12 will sit down with authors Cassandra James ’23\, Melody Chu ’01 and Michael Cannell ’82 to discuss their experiences while New York Times Book Review editor and author Lauren Christensen ’11 and Penguin Random House strategy director Alex Ulyett ’11 provide an inside look at the rapidly changing world of publishing. \nSponsored by Princeton Alumni Weekly
URL:https://reunions.princeton.edu/event/draft-to-deal-how-to-make-your-book-a-reality/
LOCATION:Friend Center\, Room 101
CATEGORIES:Panel
ATTACH;FMTTYPE=image/jpeg:https://reunions.princeton.edu/wp-content/uploads/2026/04/2026-PAW-Panel-Poster.jpg
END:VEVENT
END:VCALENDAR