BEGIN:VCALENDAR
VERSION:2.0
PRODID:-//Princeton Reunions - ECPv6.15.15//NONSGML v1.0//EN
CALSCALE:GREGORIAN
METHOD:PUBLISH
X-WR-CALNAME:Princeton Reunions
X-ORIGINAL-URL:https://reunions.princeton.edu
X-WR-CALDESC:Events for Princeton Reunions
REFRESH-INTERVAL;VALUE=DURATION:PT1H
X-Robots-Tag:noindex
X-PUBLISHED-TTL:PT1H
BEGIN:VTIMEZONE
TZID:America/New_York
BEGIN:DAYLIGHT
TZOFFSETFROM:-0500
TZOFFSETTO:-0400
TZNAME:EDT
DTSTART:20250309T070000
END:DAYLIGHT
BEGIN:STANDARD
TZOFFSETFROM:-0400
TZOFFSETTO:-0500
TZNAME:EST
DTSTART:20251102T060000
END:STANDARD
BEGIN:DAYLIGHT
TZOFFSETFROM:-0500
TZOFFSETTO:-0400
TZNAME:EDT
DTSTART:20260308T070000
END:DAYLIGHT
BEGIN:STANDARD
TZOFFSETFROM:-0400
TZOFFSETTO:-0500
TZNAME:EST
DTSTART:20261101T060000
END:STANDARD
BEGIN:DAYLIGHT
TZOFFSETFROM:-0500
TZOFFSETTO:-0400
TZNAME:EDT
DTSTART:20270314T070000
END:DAYLIGHT
BEGIN:STANDARD
TZOFFSETFROM:-0400
TZOFFSETTO:-0500
TZNAME:EST
DTSTART:20271107T060000
END:STANDARD
END:VTIMEZONE
BEGIN:VEVENT
DTSTART;TZID=America/New_York:20260522T153000
DTEND;TZID=America/New_York:20260522T180000
DTSTAMP:20260424T070900
CREATED:20260417T223011Z
LAST-MODIFIED:20260423T154426Z
UID:24048-1779463800-1779472800@reunions.princeton.edu
SUMMARY:Outdoor Action Alumni & Friends Reception
DESCRIPTION:Outdoor Action Leaders\, participants\, parents and friends of OA are invited to join the annual Reunions reception. Come meet with old friends from over 50 years of OA and learn about the latest updates on the Outdoor Action Program. OA Director Rick Curtis ’79 will be there to give you the latest news. \nSpeakers \nRick Curtis ’79\, Director\, Outdoor Action Program \n  \nSponsored by the Outdoor Action Program (OA)
URL:https://reunions.princeton.edu/event/outdoor-action-alumni-friends-reception-3/
LOCATION:Louis A. Simpson International Building\, Multipurpose Room\, B60
CATEGORIES:Reception
ATTACH;FMTTYPE=image/png:https://reunions.princeton.edu/wp-content/uploads/2026/04/Reunions-Reception-1.png
END:VEVENT
END:VCALENDAR