BEGIN:VCALENDAR
VERSION:2.0
PRODID:-//Princeton Reunions - ECPv6.15.15//NONSGML v1.0//EN
CALSCALE:GREGORIAN
METHOD:PUBLISH
X-WR-CALNAME:Princeton Reunions
X-ORIGINAL-URL:https://reunions.princeton.edu
X-WR-CALDESC:Events for Princeton Reunions
REFRESH-INTERVAL;VALUE=DURATION:PT1H
X-Robots-Tag:noindex
X-PUBLISHED-TTL:PT1H
BEGIN:VTIMEZONE
TZID:America/New_York
BEGIN:DAYLIGHT
TZOFFSETFROM:-0500
TZOFFSETTO:-0400
TZNAME:EDT
DTSTART:20250309T070000
END:DAYLIGHT
BEGIN:STANDARD
TZOFFSETFROM:-0400
TZOFFSETTO:-0500
TZNAME:EST
DTSTART:20251102T060000
END:STANDARD
BEGIN:DAYLIGHT
TZOFFSETFROM:-0500
TZOFFSETTO:-0400
TZNAME:EDT
DTSTART:20260308T070000
END:DAYLIGHT
BEGIN:STANDARD
TZOFFSETFROM:-0400
TZOFFSETTO:-0500
TZNAME:EST
DTSTART:20261101T060000
END:STANDARD
BEGIN:DAYLIGHT
TZOFFSETFROM:-0500
TZOFFSETTO:-0400
TZNAME:EDT
DTSTART:20270314T070000
END:DAYLIGHT
BEGIN:STANDARD
TZOFFSETFROM:-0400
TZOFFSETTO:-0500
TZNAME:EST
DTSTART:20271107T060000
END:STANDARD
END:VTIMEZONE
BEGIN:VEVENT
DTSTART;TZID=America/New_York:20260522T133000
DTEND;TZID=America/New_York:20260522T153000
DTSTAMP:20260420T114704
CREATED:20260419T120557Z
LAST-MODIFIED:20260420T020340Z
UID:24340-1779456600-1779463800@reunions.princeton.edu
SUMMARY:Muslim Life Program Friday Jummah Congregational Prayer
DESCRIPTION:Sponsored by the Muslim Life Program and the Office of Religious Life
URL:https://reunions.princeton.edu/event/muslim-life-program-friday-jummah-congregational-prayer/
LOCATION:Murray-Dodge Hall\, Room 104\, Princeton University\, Princeton\, NJ\, 08544\, United States
END:VEVENT
BEGIN:VEVENT
DTSTART;TZID=America/New_York:20260523T170000
DTEND;TZID=America/New_York:20260523T190000
DTSTAMP:20260420T114704
CREATED:20260417T223020Z
LAST-MODIFIED:20260417T234019Z
UID:24097-1779555600-1779562800@reunions.princeton.edu
SUMMARY:Princeton Christian Alumni Prayer Room
DESCRIPTION:Amid the energy and busyness of Reunions\, we invite you into a quiet\, set-apart space for prayer\, worship and encountering God. This is an open space for Christians of all denominations and fellowships to come and abide in His presence — whether for a few minutes or an extended time. There will be live worship throughout\, along with space to: \n\nRead from the Bible\nPray individually or with others\nJournal and reflect\n\nLet this be your space to slow down\, listen and pray. \nAbout Princeton Christian Alumni (PCA) \nJoin our Princeton Christian Alumni Community here. \nPCA is an inter-fellowship group that began out of a desire to equip graduates to follow Christ for the long haul. Princeton Christian Alumni carry a remarkable spiritual legacy and opportunities for global impact. Yet many of us discover that the transition after graduation can be challenging. \nPCA hosts bi-annual retreats for Princeton graduates a refreshing space to connect with God\, experience meaningful Christian community and receive practical tools to grow in faith after graduating. \nWe’ll be hosting our next retreat from Sunday\, May 24\, to Monday\, May 25\, at the tail end of Reunions. \nClick this link to learn more and RSVP for the Reunions PCA Retreat. \nSponsored by Princeton Christian Alumni
URL:https://reunions.princeton.edu/event/princeton-christian-alumni-prayer-room/
LOCATION:Murray-Dodge Hall\, Room 104\, Princeton University\, Princeton\, NJ\, 08544\, United States
CATEGORIES:Faith
ATTACH;FMTTYPE=image/jpeg:https://reunions.princeton.edu/wp-content/uploads/2026/04/IMG_6493-scaled.jpeg
END:VEVENT
END:VCALENDAR