BEGIN:VCALENDAR
VERSION:2.0
PRODID:-//Princeton Reunions - ECPv6.15.15//NONSGML v1.0//EN
CALSCALE:GREGORIAN
METHOD:PUBLISH
X-ORIGINAL-URL:https://reunions.princeton.edu
X-WR-CALDESC:Events for Princeton Reunions
REFRESH-INTERVAL;VALUE=DURATION:PT1H
X-Robots-Tag:noindex
X-PUBLISHED-TTL:PT1H
BEGIN:VTIMEZONE
TZID:America/New_York
BEGIN:DAYLIGHT
TZOFFSETFROM:-0500
TZOFFSETTO:-0400
TZNAME:EDT
DTSTART:20250309T070000
END:DAYLIGHT
BEGIN:STANDARD
TZOFFSETFROM:-0400
TZOFFSETTO:-0500
TZNAME:EST
DTSTART:20251102T060000
END:STANDARD
BEGIN:DAYLIGHT
TZOFFSETFROM:-0500
TZOFFSETTO:-0400
TZNAME:EDT
DTSTART:20260308T070000
END:DAYLIGHT
BEGIN:STANDARD
TZOFFSETFROM:-0400
TZOFFSETTO:-0500
TZNAME:EST
DTSTART:20261101T060000
END:STANDARD
BEGIN:DAYLIGHT
TZOFFSETFROM:-0500
TZOFFSETTO:-0400
TZNAME:EDT
DTSTART:20270314T070000
END:DAYLIGHT
BEGIN:STANDARD
TZOFFSETFROM:-0400
TZOFFSETTO:-0500
TZNAME:EST
DTSTART:20271107T060000
END:STANDARD
END:VTIMEZONE
BEGIN:VEVENT
DTSTART;TZID=America/New_York:20260524T083000
DTEND;TZID=America/New_York:20260524T100000
DTSTAMP:20260423T182132
CREATED:20260423T142848Z
LAST-MODIFIED:20260423T142848Z
UID:24659-1779611400-1779616800@reunions.princeton.edu
SUMMARY:Reunions Free Speech Breakfast
DESCRIPTION:Join us for a lively breakfast with fellow alumni who care deeply about free expression on campus and beyond on Sunday\, May 24 from 8:30-10am at the Nassau Inn. Guests are welcome (feel free to bring a spouse\, partner\, or classmate). We’ll share updates on PFS’s work — and then\, in what promises to be the highlight of the morning\, hear directly from a current Princeton student and recent graduates about what free speech looks and feels like on campus today\, and in the real world. Come ready to listen\, ask questions\, and engage. RSVP in advance: https://tinyurl.com/PrincetonFreeSpeech \nWith Ed Yingling ’70\, co-founder\, Princetonians for Free Speech\, and Leslie Spencer ’79\, vice chair\, Princetonians for Free Speech \nSponsored by Princetonians for Free Speech
URL:https://reunions.princeton.edu/event/reunions-free-speech-breakfast/
LOCATION:Nassau Inn\, Palmer Room
END:VEVENT
END:VCALENDAR