BEGIN:VCALENDAR
VERSION:2.0
PRODID:-//Princeton Reunions - ECPv6.15.15//NONSGML v1.0//EN
CALSCALE:GREGORIAN
METHOD:PUBLISH
X-ORIGINAL-URL:https://reunions.princeton.edu
X-WR-CALDESC:Events for Princeton Reunions
REFRESH-INTERVAL;VALUE=DURATION:PT1H
X-Robots-Tag:noindex
X-PUBLISHED-TTL:PT1H
BEGIN:VTIMEZONE
TZID:America/New_York
BEGIN:DAYLIGHT
TZOFFSETFROM:-0500
TZOFFSETTO:-0400
TZNAME:EDT
DTSTART:20250309T070000
END:DAYLIGHT
BEGIN:STANDARD
TZOFFSETFROM:-0400
TZOFFSETTO:-0500
TZNAME:EST
DTSTART:20251102T060000
END:STANDARD
BEGIN:DAYLIGHT
TZOFFSETFROM:-0500
TZOFFSETTO:-0400
TZNAME:EDT
DTSTART:20260308T070000
END:DAYLIGHT
BEGIN:STANDARD
TZOFFSETFROM:-0400
TZOFFSETTO:-0500
TZNAME:EST
DTSTART:20261101T060000
END:STANDARD
BEGIN:DAYLIGHT
TZOFFSETFROM:-0500
TZOFFSETTO:-0400
TZNAME:EDT
DTSTART:20270314T070000
END:DAYLIGHT
BEGIN:STANDARD
TZOFFSETFROM:-0400
TZOFFSETTO:-0500
TZNAME:EST
DTSTART:20271107T060000
END:STANDARD
END:VTIMEZONE
BEGIN:VEVENT
DTSTART;TZID=America/New_York:20260521T090000
DTEND;TZID=America/New_York:20260521T160000
DTSTAMP:20260420T031428
CREATED:20260417T223014Z
LAST-MODIFIED:20260420T015318Z
UID:24073-1779354000-1779379200@reunions.princeton.edu
SUMMARY:Labyrinth Oasis
DESCRIPTION:Visit a self-guided space to slow down and reflect in the midst of Princeton University Reunions. \n  \nSponsored by the Princeton Presbyterians of the Westminster Foundation
URL:https://reunions.princeton.edu/event/labyrinth-oasis-6/
LOCATION:Nassau Presbyterian Church\, Niles Chapel\, 61 Nassau St\, Princeton University\, Princeton\, NJ\, 08540\, United States
CATEGORIES:Memorial Service
ATTACH;FMTTYPE=image/jpeg:https://reunions.princeton.edu/wp-content/uploads/2026/04/IMG_0513.jpeg
END:VEVENT
BEGIN:VEVENT
DTSTART;TZID=America/New_York:20260522T090000
DTEND;TZID=America/New_York:20260522T160000
DTSTAMP:20260420T031428
CREATED:20260417T223014Z
LAST-MODIFIED:20260420T015318Z
UID:24072-1779440400-1779465600@reunions.princeton.edu
SUMMARY:Labyrinth Oasis
DESCRIPTION:Visit a self-guided space to slow down and reflect in the midst of Princeton University Reunions. \n  \nSponsored by the Princeton Presbyterians of the Westminster Foundation
URL:https://reunions.princeton.edu/event/labyrinth-oasis-5/
LOCATION:Nassau Presbyterian Church\, Niles Chapel\, 61 Nassau St\, Princeton University\, Princeton\, NJ\, 08540\, United States
CATEGORIES:Memorial Service
ATTACH;FMTTYPE=image/jpeg:https://reunions.princeton.edu/wp-content/uploads/2026/04/IMG_2482.jpeg
END:VEVENT
BEGIN:VEVENT
DTSTART;TZID=America/New_York:20260523T090000
DTEND;TZID=America/New_York:20260523T120000
DTSTAMP:20260420T031428
CREATED:20260416T215807Z
LAST-MODIFIED:20260416T220135Z
UID:23900-1779526800-1779537600@reunions.princeton.edu
SUMMARY:Worship and Open House with Princeton Presbyterians
DESCRIPTION:Join us for a brief service of worship on Saturday at 9 a.m. in Niles Chapel followed by an open house in the Conference Room. Sing “Walk in the Light\,” pray together and hear a celebratory word from Princeton Presbys chaplains\, the Rev. Dr. Andrew Scales and the Rev. Len Scales. Then\, enjoy a light breakfast and catch up with old friends and meet fellow alums. \nSponsored by Princeton Presbyterians of the Westminster Foundation
URL:https://reunions.princeton.edu/event/worship-and-open-house-with-princeton-presbyterians/
LOCATION:Nassau Presbyterian Church\, Niles Chapel\, 61 Nassau St\, Princeton University\, Princeton\, NJ\, 08540\, United States
CATEGORIES:Religious Service or Gathering
ATTACH;FMTTYPE=image/jpeg:https://reunions.princeton.edu/wp-content/uploads/2026/04/IMG_6175.jpeg
END:VEVENT
END:VCALENDAR