BEGIN:VCALENDAR
VERSION:2.0
PRODID:-//Princeton Reunions - ECPv6.15.15//NONSGML v1.0//EN
CALSCALE:GREGORIAN
METHOD:PUBLISH
X-WR-CALNAME:Princeton Reunions
X-ORIGINAL-URL:https://reunions.princeton.edu
X-WR-CALDESC:Events for Princeton Reunions
REFRESH-INTERVAL;VALUE=DURATION:PT1H
X-Robots-Tag:noindex
X-PUBLISHED-TTL:PT1H
BEGIN:VTIMEZONE
TZID:America/New_York
BEGIN:DAYLIGHT
TZOFFSETFROM:-0500
TZOFFSETTO:-0400
TZNAME:EDT
DTSTART:20250309T070000
END:DAYLIGHT
BEGIN:STANDARD
TZOFFSETFROM:-0400
TZOFFSETTO:-0500
TZNAME:EST
DTSTART:20251102T060000
END:STANDARD
BEGIN:DAYLIGHT
TZOFFSETFROM:-0500
TZOFFSETTO:-0400
TZNAME:EDT
DTSTART:20260308T070000
END:DAYLIGHT
BEGIN:STANDARD
TZOFFSETFROM:-0400
TZOFFSETTO:-0500
TZNAME:EST
DTSTART:20261101T060000
END:STANDARD
BEGIN:DAYLIGHT
TZOFFSETFROM:-0500
TZOFFSETTO:-0400
TZNAME:EDT
DTSTART:20270314T070000
END:DAYLIGHT
BEGIN:STANDARD
TZOFFSETFROM:-0400
TZOFFSETTO:-0500
TZNAME:EST
DTSTART:20271107T060000
END:STANDARD
END:VTIMEZONE
BEGIN:VEVENT
DTSTART;TZID=America/New_York:20260523T210000
DTEND;TZID=America/New_York:20260523T214500
DTSTAMP:20260421T211024
CREATED:20260409T215350Z
LAST-MODIFIED:20260410T001109Z
UID:23807-1779570000-1779572700@reunions.princeton.edu
SUMMARY:Fireworks!
DESCRIPTION:Sponsored by Alumni Engagement\, Office of Advancement
URL:https://reunions.princeton.edu/event/fireworks-5/
LOCATION:Princeton Stadium\, Powers Field\, Princeton University\, Princeton\, NJ\, 08540\, United States
CATEGORIES:Performance
ATTACH;FMTTYPE=image/jpeg:https://reunions.princeton.edu/wp-content/uploads/2018/11/fireworks-1.jpg
END:VEVENT
END:VCALENDAR