BEGIN:VCALENDAR
VERSION:2.0
PRODID:-//Princeton Reunions - ECPv6.15.15//NONSGML v1.0//EN
CALSCALE:GREGORIAN
METHOD:PUBLISH
X-ORIGINAL-URL:https://reunions.princeton.edu
X-WR-CALDESC:Events for Princeton Reunions
REFRESH-INTERVAL;VALUE=DURATION:PT1H
X-Robots-Tag:noindex
X-PUBLISHED-TTL:PT1H
BEGIN:VTIMEZONE
TZID:America/New_York
BEGIN:DAYLIGHT
TZOFFSETFROM:-0500
TZOFFSETTO:-0400
TZNAME:EDT
DTSTART:20250309T070000
END:DAYLIGHT
BEGIN:STANDARD
TZOFFSETFROM:-0400
TZOFFSETTO:-0500
TZNAME:EST
DTSTART:20251102T060000
END:STANDARD
BEGIN:DAYLIGHT
TZOFFSETFROM:-0500
TZOFFSETTO:-0400
TZNAME:EDT
DTSTART:20260308T070000
END:DAYLIGHT
BEGIN:STANDARD
TZOFFSETFROM:-0400
TZOFFSETTO:-0500
TZNAME:EST
DTSTART:20261101T060000
END:STANDARD
BEGIN:DAYLIGHT
TZOFFSETFROM:-0500
TZOFFSETTO:-0400
TZNAME:EDT
DTSTART:20270314T070000
END:DAYLIGHT
BEGIN:STANDARD
TZOFFSETFROM:-0400
TZOFFSETTO:-0500
TZNAME:EST
DTSTART:20271107T060000
END:STANDARD
END:VTIMEZONE
BEGIN:VEVENT
DTSTART;TZID=America/New_York:20260521T100000
DTEND;TZID=America/New_York:20260521T123000
DTSTAMP:20260420T120348
CREATED:20260419T120535Z
LAST-MODIFIED:20260420T020339Z
UID:24318-1779357600-1779366600@reunions.princeton.edu
SUMMARY:Open Studio: Reunions
DESCRIPTION:Drop in for Reunions art making for the whole family. \nVisit the museum’s new Creativity Labs for some Reunions-edition art making inspired by the collections\, including tiger-themed activities for younger participants. Materials will be provided for coloring\, collage\, weaving and more. \nAll ages are welcome. Tigers\, please plan to supervise your cubs. \n  \nSponsored by Princeton University Art Museum
URL:https://reunions.princeton.edu/event/open-studio-reunions-3/
LOCATION:Princeton University Art Museum\, Laporte Family Creativity Lab
END:VEVENT
BEGIN:VEVENT
DTSTART;TZID=America/New_York:20260521T140000
DTEND;TZID=America/New_York:20260521T180000
DTSTAMP:20260420T120348
CREATED:20260417T223004Z
LAST-MODIFIED:20260420T014452Z
UID:23997-1779372000-1779386400@reunions.princeton.edu
SUMMARY:Art Experiments: Reunions Edition
DESCRIPTION:Drop in for Reunions art making for the whole family. \nExplore the magic of printmaking — and the Museum’s new Creativity Labs — with this special art-making activity for alumni and families. Stop by anytime between 2 and 6 p.m. to make your own Reunions-inspired embossed bookmark using a variety of materials and textures\, guided by local artist Amanda Chesney. \nAll ages are welcome. Tigers\, please plan to supervise your cubs. \nSponsored by the Princeton University Art Museum
URL:https://reunions.princeton.edu/event/art-experiments-reunions-edition-2/
LOCATION:Princeton University Art Museum\, Laporte Family Creativity Lab
ATTACH;FMTTYPE=image/jpeg:https://reunions.princeton.edu/wp-content/uploads/2026/04/PUAM-StudentOpening_102525_01671.jpg
END:VEVENT
BEGIN:VEVENT
DTSTART;TZID=America/New_York:20260522T140000
DTEND;TZID=America/New_York:20260522T180000
DTSTAMP:20260420T120348
CREATED:20260417T223004Z
LAST-MODIFIED:20260420T014406Z
UID:23996-1779458400-1779472800@reunions.princeton.edu
SUMMARY:Art Experiments: Reunions Edition
DESCRIPTION:Drop in for Reunions art making for the whole family. \nExplore the magic of printmaking — and the Museum’s new Creativity Labs — with this special art-making activity for alumni and families. Stop by anytime between 2 and 6 p.m. to make your own Reunions-inspired embossed bookmark using a variety of materials and textures\, guided by local artist Amanda Chesney. \nAll ages are welcome. Tigers\, please plan to supervise your cubs. \nSponsored by the Princeton University Art Museum
URL:https://reunions.princeton.edu/event/art-experiments-reunions-edition/
LOCATION:Princeton University Art Museum\, Laporte Family Creativity Lab
ATTACH;FMTTYPE=image/jpeg:https://reunions.princeton.edu/wp-content/uploads/2026/04/PUAM-StudentOpening_102525_01671.jpg
END:VEVENT
BEGIN:VEVENT
DTSTART;TZID=America/New_York:20260523T140000
DTEND;TZID=America/New_York:20260523T160000
DTSTAMP:20260420T120348
CREATED:20260419T120535Z
LAST-MODIFIED:20260420T020339Z
UID:24317-1779544800-1779552000@reunions.princeton.edu
SUMMARY:Art Experiments: Reunions
DESCRIPTION:Sponsored by Princeton University Art Museum
URL:https://reunions.princeton.edu/event/art-experiments-reunions/
LOCATION:Princeton University Art Museum\, Laporte Family Creativity Lab
END:VEVENT
END:VCALENDAR