BEGIN:VCALENDAR
VERSION:2.0
PRODID:-//Princeton Reunions - ECPv6.15.15//NONSGML v1.0//EN
CALSCALE:GREGORIAN
METHOD:PUBLISH
X-WR-CALNAME:Princeton Reunions
X-ORIGINAL-URL:https://reunions.princeton.edu
X-WR-CALDESC:Events for Princeton Reunions
REFRESH-INTERVAL;VALUE=DURATION:PT1H
X-Robots-Tag:noindex
X-PUBLISHED-TTL:PT1H
BEGIN:VTIMEZONE
TZID:America/New_York
BEGIN:DAYLIGHT
TZOFFSETFROM:-0500
TZOFFSETTO:-0400
TZNAME:EDT
DTSTART:20250309T070000
END:DAYLIGHT
BEGIN:STANDARD
TZOFFSETFROM:-0400
TZOFFSETTO:-0500
TZNAME:EST
DTSTART:20251102T060000
END:STANDARD
BEGIN:DAYLIGHT
TZOFFSETFROM:-0500
TZOFFSETTO:-0400
TZNAME:EDT
DTSTART:20260308T070000
END:DAYLIGHT
BEGIN:STANDARD
TZOFFSETFROM:-0400
TZOFFSETTO:-0500
TZNAME:EST
DTSTART:20261101T060000
END:STANDARD
BEGIN:DAYLIGHT
TZOFFSETFROM:-0500
TZOFFSETTO:-0400
TZNAME:EDT
DTSTART:20270314T070000
END:DAYLIGHT
BEGIN:STANDARD
TZOFFSETFROM:-0400
TZOFFSETTO:-0500
TZNAME:EST
DTSTART:20271107T060000
END:STANDARD
END:VTIMEZONE
BEGIN:VEVENT
DTSTART;TZID=America/New_York:20260523T103000
DTEND;TZID=America/New_York:20260523T123000
DTSTAMP:20260422T062107
CREATED:20260416T215547Z
LAST-MODIFIED:20260418T125334Z
UID:23898-1779532200-1779539400@reunions.princeton.edu
SUMMARY:QPA/APGA Graduate Alumni/Student Networking Brunch
DESCRIPTION:Join us Saturday before the P-rade for a brunch catered by PJ’s\, designed to help foster new connections between Princeton’s graduate alumni and current graduate students! \nSponsored by Queer Princeton Alumni (QPA) and the Association of Princeton Graduate Alumni (APGA)
URL:https://reunions.princeton.edu/event/qpa-apga-graduate-alumni-student-networking-brunch/
LOCATION:Robertson Hall\, Shultz Dining Room\, Princeton University\, Princeton\, NJ\, 08540\, United States
CATEGORIES:Affinity Group Events,Reception
ATTACH;FMTTYPE=image/png:https://reunions.princeton.edu/wp-content/uploads/2026/04/Brunch.png
END:VEVENT
BEGIN:VEVENT
DTSTART;TZID=America/New_York:20260524T100000
DTEND;TZID=America/New_York:20260524T113000
DTSTAMP:20260422T062107
CREATED:20260419T120635Z
LAST-MODIFIED:20260420T204745Z
UID:24388-1779616800-1779622200@reunions.princeton.edu
SUMMARY:SPIA Grad Major Reunions Brunch
DESCRIPTION:Sponsored by the School of Public and International Affairs (SPIA)
URL:https://reunions.princeton.edu/event/spia-grad-major-reunions-brunch/
LOCATION:Robertson Hall\, Shultz Dining Room\, Princeton University\, Princeton\, NJ\, 08540\, United States
CATEGORIES:Breakfast
END:VEVENT
END:VCALENDAR