BEGIN:VCALENDAR
VERSION:2.0
PRODID:-//Princeton Reunions - ECPv6.15.15//NONSGML v1.0//EN
CALSCALE:GREGORIAN
METHOD:PUBLISH
X-WR-CALNAME:Princeton Reunions
X-ORIGINAL-URL:https://reunions.princeton.edu
X-WR-CALDESC:Events for Princeton Reunions
REFRESH-INTERVAL;VALUE=DURATION:PT1H
X-Robots-Tag:noindex
X-PUBLISHED-TTL:PT1H
BEGIN:VTIMEZONE
TZID:America/New_York
BEGIN:DAYLIGHT
TZOFFSETFROM:-0500
TZOFFSETTO:-0400
TZNAME:EDT
DTSTART:20250309T070000
END:DAYLIGHT
BEGIN:STANDARD
TZOFFSETFROM:-0400
TZOFFSETTO:-0500
TZNAME:EST
DTSTART:20251102T060000
END:STANDARD
BEGIN:DAYLIGHT
TZOFFSETFROM:-0500
TZOFFSETTO:-0400
TZNAME:EDT
DTSTART:20260308T070000
END:DAYLIGHT
BEGIN:STANDARD
TZOFFSETFROM:-0400
TZOFFSETTO:-0500
TZNAME:EST
DTSTART:20261101T060000
END:STANDARD
BEGIN:DAYLIGHT
TZOFFSETFROM:-0500
TZOFFSETTO:-0400
TZNAME:EDT
DTSTART:20270314T070000
END:DAYLIGHT
BEGIN:STANDARD
TZOFFSETFROM:-0400
TZOFFSETTO:-0500
TZNAME:EST
DTSTART:20271107T060000
END:STANDARD
END:VTIMEZONE
BEGIN:VEVENT
DTSTART;TZID=America/New_York:20260523T090000
DTEND;TZID=America/New_York:20260523T130000
DTSTAMP:20260421T180955
CREATED:20260419T120643Z
LAST-MODIFIED:20260420T204745Z
UID:24414-1779526800-1779541200@reunions.princeton.edu
SUMMARY:Friends of Princeton Softball Reunions Event
DESCRIPTION:We look forward to seeing you at Cynthia Paul ’94 Field on Saturday from 10:00 a.m. to noon for time spent with teammates and friends across generations of Princeton softballers! Come out and play catch\, take front toss and spend time in our beautiful stadium. \nThe Championship Legacy continues: \nWe will honor four decades of Princeton Softball Champions: 1986\, 1996\, 2006 & 2016 \nFamilies are welcome. Picnic brunch and drinks will be served. \n  \nSponsored by the Friends of Princeton Softball
URL:https://reunions.princeton.edu/event/friends-of-princeton-softball-reunions-event/
LOCATION:Softball Stadium\, Cynthia Lynn Paul ’94 Field
CATEGORIES:Athletic Event
ATTACH;FMTTYPE=image/jpeg:https://reunions.princeton.edu/wp-content/uploads/2026/04/Softball-Night-scaled.jpg
END:VEVENT
END:VCALENDAR