BEGIN:VCALENDAR
VERSION:2.0
PRODID:-//Princeton Reunions - ECPv6.15.15//NONSGML v1.0//EN
CALSCALE:GREGORIAN
METHOD:PUBLISH
X-WR-CALNAME:Princeton Reunions
X-ORIGINAL-URL:https://reunions.princeton.edu
X-WR-CALDESC:Events for Princeton Reunions
REFRESH-INTERVAL;VALUE=DURATION:PT1H
X-Robots-Tag:noindex
X-PUBLISHED-TTL:PT1H
BEGIN:VTIMEZONE
TZID:America/New_York
BEGIN:DAYLIGHT
TZOFFSETFROM:-0500
TZOFFSETTO:-0400
TZNAME:EDT
DTSTART:20250309T070000
END:DAYLIGHT
BEGIN:STANDARD
TZOFFSETFROM:-0400
TZOFFSETTO:-0500
TZNAME:EST
DTSTART:20251102T060000
END:STANDARD
BEGIN:DAYLIGHT
TZOFFSETFROM:-0500
TZOFFSETTO:-0400
TZNAME:EDT
DTSTART:20260308T070000
END:DAYLIGHT
BEGIN:STANDARD
TZOFFSETFROM:-0400
TZOFFSETTO:-0500
TZNAME:EST
DTSTART:20261101T060000
END:STANDARD
BEGIN:DAYLIGHT
TZOFFSETFROM:-0500
TZOFFSETTO:-0400
TZNAME:EDT
DTSTART:20270314T070000
END:DAYLIGHT
BEGIN:STANDARD
TZOFFSETFROM:-0400
TZOFFSETTO:-0500
TZNAME:EST
DTSTART:20271107T060000
END:STANDARD
END:VTIMEZONE
BEGIN:VEVENT
DTSTART;TZID=America/New_York:20260522T160000
DTEND;TZID=America/New_York:20260522T180000
DTSTAMP:20260425T105813
CREATED:20260417T223017Z
LAST-MODIFIED:20260417T235720Z
UID:24080-1779465600-1779472800@reunions.princeton.edu
SUMMARY:Whitman College Alumni Student Leader Reunions Reception
DESCRIPTION:We warmly invite you to a cozy get-together at the Whitman Head House! It’s been a while since many of us have connected\, and we understand how meaningful it can be to reunite with old friends and build new connections. Join us for an evening filled with shared memories\, laughter and heartfelt conversations about our journeys since graduation. We truly can’t wait to see you and catch up on all that has happened in your lives! \nSponsored by Whitman College
URL:https://reunions.princeton.edu/event/whitman-college-alumni-student-leader-reunions-reception/
LOCATION:Whitman House\, 25 Edwards Place
CATEGORIES:Reception
ATTACH;FMTTYPE=image/png:https://reunions.princeton.edu/wp-content/uploads/2026/04/wcdownload.png
END:VEVENT
END:VCALENDAR